{"text_format":"1","workbook":"xlsx","n_sheets":8,"sheets":["Input","Calcs-SI","Calcs-Field","z-dzdp","z-dzdp (2)","z-viscosity","Bg-cg","pseudopressure"],"not_rendered":{"charts":10,"images":0,"macros":1,"external_links":0,"defined_names":37,"comments":3,"pivot_tables":0},"unopened":[{"sheet":"z-dzdp","index":3,"reason":"not_a_worksheet"},{"sheet":"z-dzdp (2)","index":4,"reason":"not_a_worksheet"},{"sheet":"z-viscosity","index":5,"reason":"not_a_worksheet"},{"sheet":"Bg-cg","index":6,"reason":"not_a_worksheet"},{"sheet":"pseudopressure","index":7,"reason":"not_a_worksheet"}],"bounds":{"document_bytes":16777216,"sheet_cells":100000,"rows_first":2000,"rows_last":500,"rows_between":2000,"halvings":0,"cell_chars":16384,"cell_head_chars":4096},"cells_cut":0,"cells_raw":0,"read":"whole","date_system":"1900"}

{"sheet":"Input","index":0,"n_rows":26,"n_cols":13,"rows_kept":26,"cut":false,"hidden":false,"merged":[]}
["Gas PVT Properties"]
[]
["Gas Z-factor calculted from Hall-Yarborough approximation to Standing-Katz chart"]
["Gas viscosities calculated from Lee-Gonzales correlation"]
[]
["Curtis H. Whitson"]
["Sheet 1 - Average Gas Properties"]
[]
["red","Input (different for each application of spreadsheet)",null,null,null,null,null,"Input (pink numbers) if gas compositional analysis reliable & available."]
["pink","Optional Input (different for each application of spreadsheet)",null,null,null,null,null,"Comp.","yi","Mi","SGi","Tci","Pci"]
["green","Input (same for each application of spreadsheet)",null,null,null,null,null,null,"mol-%","kg/kmol","water=1","K","bara"]
["blue","Important Calculated Results"]
["purple","Linked to another cell",null,null,null,null,null,"N2",0,28.01,469.5,126.3,33.99]
[null,null,null,null,null,null,null,"CO2",0,44.01,499.5,304.2,73.819999999999993]
["Temperature","Input",102,"C",null,"F",{"$f":"IF(C15>0,(IF(E15>0,\"INPUT ONLY ONE TEMPERATURE, EITHER IN C OR F\",\"\")),\"\")","v":""},"C1",100,16.04,329.7,190.6,46.04]
["Temperature","Used",{"$f":"IF(C15>0,C15,(E15-32)/1.8)","v":102},"C",{"$f":"C16*1.8+32","v":215.6},"F",null,"C2",0,30.07,449.6,305.39999999999998,48.8]
["Input Specific Gravity",null,0.7,null,null,null,null,"C3",0,44.1,507.2,369.8,42.49]
["Specific Gravity",null,{"$f":"IF(C17=0,$J$25/28.97,C17)","v":0.7},"air=1","Sutton Correlations:",null,null,"iC4",0,58.12,560.70000000000005,408.2,36.479999999999997]
["Tpc",null,{"$f":"IF(C17=0,$L$25,E19)","v":209.77222222222221},"K",{"$f":"(1/1.8)*(169.2+349.5*$C$18-74*$C$18^2)","v":209.77222222222221},"K",null,"nC4",0,58.12,583.79999999999995,425.2,37.97]
["Ppc",null,{"$f":"IF(C17=0,$M$25,E20)","v":45.735419135852254},"bara",{"$f":"(1/14.50377)*(756.8-131*$C$18-3.6*$C$18^2)","v":45.735419135852254},"bara",null,"iC5",0,72.150000000000006,626.79999999999995,460.4,33.81]
[null,null,null,null,null,null,null,"nC5",0,72.150000000000006,629.5,469.7,33.69]
["Pmax","Input",1000,"bara",null,"psia",null,"C6",0,82.32,659.7,507.4,30.12]
["Pincrement","Input",25,"bar",null,"psi",null,"C7+",0,140,780,{"$f":"(1/1.8)*(608+364*LOG(J23-71.2)+(2450*LOG(J23)-3800)*LOG(K23/1000))","v":621.97480294158368},{"$f":"(1/14.50377)*(1188-431*LOG(J23-61.1)+(2319-852*LOG(J23-53.7))*(K23/1000-0.8))","v":24.612182596368182}]
["Pmax","Used",{"$f":"IF(C22>0,C22,E22/14.50377)","v":1000},"bara",{"$f":"C24*14.50377","v":14503.769999999999},"psia"]
["Pincrement","Used",{"$f":"IF(C23>0,C23,E23/14.50377)","v":25},"bar",{"$f":"C25*14.50377","v":362.59424999999999},"psi",null,"Total",{"$f":"SUM(I13:I23)","v":100},{"$f":"SUMPRODUCT($I13:$I23,J13:J23)/SUM($I13:$I23)","v":16.04},null,{"$f":"SUMPRODUCT($I13:$I23,L13:L23)/SUM($I13:$I23)","v":190.6},{"$f":"SUMPRODUCT($I13:$I23,M13:M23)/SUM($I13:$I23)","v":46.04}]
["Pmin",null,{"$f":"'Calcs-SI'!A100","v":1},"bar",{"$f":"C26*14.50377","v":14.503769999999999},"psia"]

{"sheet":"Calcs-SI","index":1,"n_rows":100,"n_cols":15,"rows_kept":100,"cut":false,"hidden":false,"merged":[]}
["Gas PVT Properties"]
[]
["Curtis H. Whitson"]
["Sheet 2 - Gas PVT f(p)"]
["SI UNITS"]
[]
["Gravity",{"$f":"Input!$C$18","v":0.7},"(air=1)",null,null,"Lee et al."]
["Tpc",{"$f":"Input!$C$19","v":209.77222222222221},"K",null,null,"A1",{"$f":"0.0001*(9.379+0.46555*$B$7)*($B$10*1.8)^1.5/(209.2+558*$B$7+$B$10*1.8)","v":1.3355881268462627E-2}]
["Ppc",{"$f":"Input!$C$20","v":45.735419135852254},"bara",null,null,"A2",{"$f":"3.448+(986.4/(1.8*$B$10))+0.29231*$B$7","v":5.1133660337198448}]
["TR",{"$f":"Input!C16+273.15","v":375.15},"K",null,null,"A3",{"$f":"2.447-0.2224*G9","v":1.3097873941007065}]
["Tpr",{"$f":"$B$10/$B$8","v":1.7883683360258482}]
[]
[]
[]
[null,null,null,null,null,null,"Lee et al."]
[null,null,null,null,"Inverse","Density","Viscosity",null,null,null,null,"Delta pp"]
["p","ppr","Z","Bg","bg=1/Bg","dg","ug","ugZ","p/Z","p/uZ","1/ugBg","2(p/uZ)dp","pp","cg","dZ/dp"]
["bara",null,null,"m3/Sm3","Sm3/m3","g/cm3","mPa-s","mPa-s","bara","bara/mPa-s","1/mPa-s","bar2/mPa-s","bar2/mPa-s","1/bar","1/bar"]
[]
[{"$f":"Input!C24","v":1000},{"$f":"A20/$B$9","v":21.864892000434175},{"$f":"Zfac($B$11,B20)","v":1.8154324231919692},{"$f":"(1.0135/(273.15+15.56))*(C20*$B$10/A20)","v":2.3908204650117193E-3},{"$f":"1/D20","v":418.26645481516664},{"$f":"deng_kgm3(A20,Input!$C$16,$B$7*28.97,C20)/1000","v":0.35812596207758346},{"$f":"visg_cp(F20*1000,Input!$C$16,$B$7*28.97)","v":5.0614352443950371E-2},{"$f":"G20*C20","v":9.1886936505613193E-2},{"$f":"A20/C20","v":550.83295154647408},{"$f":"I20/G20","v":10882.939817445236},{"$f":"1/G20/D20","v":8263.7914863842052},{"$f":"IF(A20>1,2*0.5*(J20+J21)*(A20-A21),0)","v":545767.36146868637},{"$f":"IF(A20>1,M21+L20,L20)","v":21573892.323110536},{"$f":"cg(A20,C20,O20)","v":3.1681432527479474E-4},{"$f":"dzdp($B$11,B20,$B$9,C20)","v":1.2402774249564198E-3}]
[{"$f":"MAX(1,A20-Input!$C$25)","v":975},21.318269700423318,{"$f":"Zfac($B$11,B21)","v":1.784389134088324},{"$f":"(1.0135/(273.15+15.56))*(C21*$B$10/A21)","v":2.4101930587167265E-3},414.90452243374892,{"$f":"deng_kgm3(A21,Input!$C$16,$B$7*28.97,C21)/1000","v":0.35524742554979277},{"$f":"visg_cp(F21*1000,Input!$C$16,$B$7*28.97)","v":4.9910278149620756E-2},{"$f":"G21*C21","v":8.9059358009509176E-2},{"$f":"A21/C21","v":546.4054792611953},{"$f":"I21/G21","v":10947.754641302217},{"$f":"1/G21/D21","v":8313.0076171875953},{"$f":"IF(A21>1,2*0.5*(J21+J22)*(A21-A22),0)","v":549038.40028170031},{"$f":"IF(A21>1,M22+L21,L21)","v":21028124.961641848},{"$f":"cg(A21,C21,O21)","v":3.2894361218311382E-4},{"$f":"dzdp($B$11,B21,$B$9,C21)","v":1.2431792943217383E-3}]
[{"$f":"MAX(1,A21-Input!$C$25)","v":950},20.771647400412466,1.753273839163622,2.4304854441536601E-3,411.44043977116615,{"$f":"deng_kgm3(A22,Input!$C$16,$B$7*28.97,C22)/1000","v":0.35228142643135535},{"$f":"visg_cp(F22*1000,Input!$C$16,$B$7*28.97)","v":4.9196861886790323E-2},8.6255570915055341E-2,541.84348090951153,11013.781369965795,8363.1439891014797,552370.37941307179,20479086.561360147,3.4194087670457883E-4,1.2460354159791061E-3]
[{"$f":"MAX(1,A22-Input!$C$25)","v":925},20.225025100401609,1.7220878784386233,2.4517741068473238E-3,407.86791785066833,{"$f":"deng_kgm3(A23,Input!$C$16,$B$7*28.97,C23)/1000","v":0.34922258000680306},{"$f":"visg_cp(F23*1000,Input!$C$16,$B$7*28.97)","v":4.8473696917303626E-2},8.3475965884396236E-2,537.13867426944307,11081.033806557078,8414.2110833117003,555763.8680185522,19926716.181947075,3.5589763820641457E-4,1.2488296166188512E-3]
[{"$f":"MAX(1,A23-Input!$C$25)","v":900},19.678402800390757,1.6908330343807141,2.4741446781328899E-3,404.18008244960384,{"$f":"deng_kgm3(A24,Input!$C$16,$B$7*28.97,C24)/1000","v":0.34606500046441868},{"$f":"visg_cp(F24*1000,Input!$C$16,$B$7*28.97)","v":4.7740347812299175E-2},8.0720957153860504E-2,532.2820063836964,11149.520914185014,8466.2157058159592,559219.15670855774,19370952.313928522,3.7091823595605822E-4,1.2515425651254031E-3]
[{"$f":"MAX(1,A24-Input!$C$25)","v":875},19.131780500379904,1.6595116134651868,2.4976933644562747E-3,400.36940251778702,{"$f":"deng_kgm3(A25,Input!$C$16,$B$7*28.97,C25)/1000","v":0.34280223960697748},{"$f":"visg_cp(F25*1000,Input!$C$16,$B$7*28.97)","v":4.6996348029359959E-2},7.7990985345174596E-2,527.26355929075623,11219.245354157298,8519.1598774369631,562736.17859881895,18811733.157219965,3.8712207392504973E-4,1.2541511235957222E-3]
[{"$f":"MAX(1,A25-Input!$C$25)","v":850},18.585158200369047,1.6281265775338205,2.5225287060571563E-3,396.42759965378235,{"$f":"deng_kgm3(A26,Input!$C$16,$B$7*28.97,C26)/1000","v":0.3394272093439944},{"$f":"visg_cp(F26*1000,Input!$C$16,$B$7*28.97)","v":4.6241195731524423E-2},7.5286519747438371E-2,522.07243081033926,11290.201789795461,8573.0395458507192,566314.4041854206,18248996.978621148,4.0464637521298833E-4,1.2566275144057411E-3]
[{"$f":"MAX(1,A26-Input!$C$25)","v":825},18.038535900358195,1.5966816207100367,2.5487735685048194E-3,392.34556272749933,{"$f":"deng_kgm3(A27,Input!$C$16,$B$7*28.97,C27)/1000","v":0.33593210859031963},{"$f":"visg_cp(F27*1000,Input!$C$16,$B$7*28.97)","v":4.5474352889119607E-2},7.2608063471739634E-2,516.6966221062446,11362.374377621363,8627.8426805579384,569952.71141378186,17682682.574435726,4.2364945093694881E-4,1.2589383695317865E-3]
[{"$f":"MAX(1,A27-Input!$C$25)","v":800},17.491913600347338,1.5651813723150612,2.576567715067105E-3,388.11322293307381,{"$f":"deng_kgm3(A28,Input!$C$16,$B$7*28.97,C28)/1000","v":0.33230831628455682},{"$f":"visg_cp(F28*1000,Input!$C$16,$B$7*28.97)","v":4.4695239466952225E-2},6.9956156244834561E-2,511.12287313815858,11435.734078929909,8683.547231468483,573649.22416050709,17112729.863021944,4.4431481845458949E-4,1.2610434381051549E-3]
[{"$f":"MAX(1,A28-Input!$C$25)","v":775},16.945291300336486,1.5336315665107612,2.6060708204164915E-3,383.71942625879376,{"$f":"deng_kgm3(A29,Input!$C$16,$B$7*28.97,C29)/1000","v":0.32854628219591547},{"$f":"visg_cp(F29*1000,Input!$C$16,$B$7*28.97)","v":4.3903230442418562E-2},6.7331380078289316E-2,505.33649471185555,11510.234887490373,8740.1182644648979,577401.10077528958,16539080.638861436,4.6685619273221927E-4,1.2628940464638834E-3]
[{"$f":"MAX(1,A29-Input!$C$25)","v":750},16.398669000325629,1.5020392791349657,2.6374662050622577E-3,379.15177759648105,{"$f":"deng_kgm3(A30,Input!$C$16,$B$7*28.97,C30)/1000","v":0.32463539344834419},{"$f":"visg_cp(F30*1000,Input!$C$16,$B$7*28.97)","v":4.3097651359068623E-2},6.4734365179785508E-2,499.32116318018655,11585.80914352121,8797.5044031419075,581204.26644830836,15961679.538086146,4.9152370196721992E-4,1.2644311318660282E-3]
[{"$f":"MAX(1,A30-Input!$C$25)","v":725},15.852046700314776,1.4704132176655564,2.670965438930755E-3,374.39645808383113,{"$f":"deng_kgm3(A31,Input!$C$16,$B$7*28.97,C31)/1000","v":0.32056381812632473},{"$f":"visg_cp(F31*1000,Input!$C$16,$B$7*28.97)","v":4.2277773612500284E-2},6.2165797133292497E-2,493.05867989340959,11662.361514411126,8855.6332581603383,585053.06850250252,15380475.271637838,5.1861163703265979E-4,1.2655827563693241E-3]
[{"$f":"MAX(1,A31-Input!$C$25)","v":700},15.305424400303922,1.4387640774711503,2.7068140561352055E-3,369.43801061377741,{"$f":"deng_kgm3(A32,Input!$C$16,$B$7*28.97,C32)/1000","v":0.31631832162479706},{"$f":"visg_cp(F32*1000,Input!$C$16,$B$7*28.97)","v":4.1442809557547818E-2},5.9626425660877856E-2,486.52868872731233,11739.761225688975,8914.4055279546828,588939.83288545383,14795422.203135336,5.4846817372107516E-4,1.2662609475441254E-3]
[{"$f":"MAX(1,A32-Input!$C$25)","v":675},14.758802100293067,1.4071050090149164,2.7452987561668429E-3,364.25908027447707,{"$f":"deng_kgm3(A33,Input!$C$16,$B$7*28.97,C33)/1000","v":0.3118840444100146},{"$f":"visg_cp(F33*1000,Input!$C$16,$B$7*28.97)","v":4.0591906418645247E-2},5.7117074847140466E-2,479.70833425754967,11817.83208972918,8973.6874271852485,592854.28465445142,14206482.370249882,5.8150769578499731E-4,1.2663576218356397E-3]
[{"$f":"MAX(1,A33-Input!$C$25)","v":650},14.212179800282213,1.3754521485390754,2.7867563955154039E-3,358.84012022337259,{"$f":"deng_kgm3(A34,Input!$C$16,$B$7*28.97,C34)/1000","v":0.30724425018453855},{"$f":"visg_cp(F34*1000,Input!$C$16,$B$7*28.97)","v":3.972414224548073E-2},5.4638656800418323E-2,472.57187441263727,11896.339296448876,9033.3006564590214,596782.79270321876,13613628.085595431,6.1822638905306986E-4,1.2657394134150551E-3]
[{"$f":"MAX(1,A34-Input!$C$25)","v":625},13.665557500271358,1.3438253636709772,2.8315855901415977E-3,353.15902280389605,{"$f":"deng_kgm3(A35,Input!$C$16,$B$7*28.97,C35)/1000","v":0.30238001004387127},{"$f":"visg_cp(F35*1000,Input!$C$16,$B$7*28.97)","v":3.883851909522245E-2},5.2192187047579497E-2,465.09019467579071,11974.972411679872,9093.0094924072,600707.37877830979,13016845.292892212,6.5922235020904178E-4,1.2642408673638617E-3]
[{"$f":"MAX(1,A35-Input!$C$25)","v":600},13.118935200260504,1.3122491463892645,2.8802615420089927E-3,347.19069272525036,{"$f":"deng_kgm3(A36,Input!$C$16,$B$7*28.97,C36)/1000","v":0.29726983702663501},{"$f":"visg_cp(F36*1000,Input!$C$16,$B$7*28.97)","v":3.7933958616288156E-2},4.9778804813389817E-2,457.23024598715688,12053.32273945252,9152.5035980867287,604604.4024564916,12416137.914113902,7.0522146376866303E-4,1.2616556468029586E-3]
[{"$f":"MAX(1,A36-Input!$C$25)","v":575},12.572312900249651,1.2807537747324944,2.9333553489171316E-3,340.90653229897868,{"$f":"deng_kgm3(A37,Input!$C$16,$B$7*28.97,C37)/1000","v":0.29188924536646238},{"$f":"visg_cp(F37*1000,Input!$C$16,$B$7*28.97)","v":3.7009297990065082E-2},4.7399798100975575E-2,448.95436682987548,12130.853358807144,9211.37527089795,608442.81013572868,11811533.511657409,7.5711108977131298E-4,1.2577249829835487E-3]
[{"$f":"MAX(1,A37-Input!$C$25)","v":550},12.025690600238796,1.2493767957146971,2.9915593497639062E-3,334.27382949260891,{"$f":"deng_kgm3(A38,Input!$C$16,$B$7*28.97,C38)/1000","v":0.28621022653442252},{"$f":"visg_cp(F38*1000,Input!$C$16,$B$7*28.97)","v":3.6063288324249071E-2},4.505663560948555E-2,440.21947733179758,12206.859046622007,9269.0890106058941,612181.78919622581,11203090.70152168,8.1598416817359621E-4,1.2521224886400718E-3]
[{"$f":"MAX(1,A38-Input!$C$25)","v":525},11.479068300227942,1.2181650021136534,3.0557209501725527E-3,327.25501323788461,{"$f":"deng_kgm3(A39,Input!$C$16,$B$7*28.97,C39)/1000","v":0.28020061162284737},{"$f":"visg_cp(F39*1000,Input!$C$16,$B$7*28.97)","v":3.5094594567091894E-2},4.2751006864999309E-2,430.97609854910121,12280.412521227025,9324.9407002624484,615767.59208821971,10590908.912325453,8.83197537287197E-4,1.2444339598640605E-3]
[{"$f":"MAX(1,A39-Input!$C$25)","v":500},10.932446000217087,1.1871768536970697,3.1268877664052223E-3,319.80680942368275,{"$f":"deng_kgm3(A40,Input!$C$16,$B$7*28.97,C40)/1000","v":0.27382334869390962},{"$f":"visg_cp(F40*1000,Input!$C$16,$B$7*28.97)","v":3.4101806623224332E-2},4.0484875492345355E-2,421.1672409573311,12350.291162301761,9378.0019620979529,619129.22169972945,9975141.3202372324,9.6044896766715087E-4,1.2341309238224527E-3]
[{"$f":"MAX(1,A40-Input!$C$25)","v":475},{"$f":"A41/$B$9","v":10.385823700206233},{"$f":"Zfac($B$11,B41)","v":1.1564858421891449},{"$f":"(1.0135/(273.15+15.56))*(C41*$B$10/A41)","v":3.2063696417798278E-3},{"$f":"1/D41","v":311.8792003796882},{"$f":"deng_kgm3(A41,Input!$C$16,$B$7*28.97,C41)/1000","v":0.26703561187406327},{"$f":"visg_cp(F41*1000,Input!$C$16,$B$7*28.97)","v":3.3083453892007932E-2},{"$f":"G41*C41","v":3.8260546036824536E-2},{"$f":"A41/C41","v":410.72703415102688},{"$f":"I41/G41","v":12414.877705687417},{"$f":"1/G41/D41","v":9427.044751667534},{"$f":"IF(A41>1,2*0.5*(J41+J42)*(A41-A42),0)","v":622172.53336006962},{"$f":"IF(A41>1,M42+L41,L41)","v":9356012.0985375028},{"$f":"cg(A41,C41,O41)","v":1.0498804386772065E-3},{"$f":"dzdp($B$11,B41,$B$9,C41)","v":1.2205351728661552E-3}]
[{"$f":"MAX(1,A41-Input!$C$25)","v":450},9.8392014001953783,1.1261847504484206,3.2958239521703038E-3,303.41426438796856,{"$f":"deng_kgm3(A42,Input!$C$16,$B$7*28.97,C42)/1000","v":0.25978780772658661},{"$f":"visg_cp(F42*1000,Input!$C$16,$B$7*28.97)","v":3.2038040533132611E-2},3.6080752682662337E-2,399.57919854697059,12472.023628715366,9470.4376216200926,624772.12251239887,8733839.5651774332,1.1542160319122645E-3,1.2027722849115882E-3]
[{"$f":"MAX(1,A42-Input!$C$25)","v":425},9.2925791001845237,1.0963912901086272,3.3973752907581916E-3,294.34487344400219,{"$f":"deng_kgm3(A43,Input!$C$16,$B$7*28.97,C43)/1000","v":0.25202246025519787},{"$f":"visg_cp(F43*1000,Input!$C$16,$B$7*28.97)","v":3.0964104641360343E-2},3.3948774634799596E-2,387.63533041008765,12518.861271780592,9506.0030591303002,626760.1534210979,8109067.4426650349,1.2769468035713652E-3,1.1797108586526022E-3]
[{"$f":"MAX(1,A43-Input!$C$25)","v":400},8.7459568001736692,1.0672554581299105,3.5137856938322306E-3,284.59333810690453,{"$f":"deng_kgm3(A44,Input!$C$16,$B$7*28.97,C44)/1000","v":0.24367305060465602},{"$f":"visg_cp(F44*1000,Input!$C$16,$B$7*28.97)","v":2.9860317692212857E-2},3.1868587038507305E-2,374.79311719885385,12551.544865063324,9530.8208385580019,627910.98913520086,7482307.2892439375,1.4225775650316692E-3,1.1498849744315696E-3]
[{"$f":"MAX(1,A44-Input!$C$25)","v":375},8.1993345001628146,1.0389690569666743,3.6487005551987068E-3,274.07017508608357,{"$f":"deng_kgm3(A45,Input!$C$16,$B$7*28.97,C45)/1000","v":0.2346629618501177},{"$f":"visg_cp(F45*1000,Input!$C$16,$B$7*28.97)","v":2.8725645789744996E-2},2.9845057116930078E-2,360.93471454754632,12564.894700344714,9540.9578288376088,627920.19972806773,6854396.3001087364,1.5969530397493097E-3,1.1113993581827271E-3]
[{"$f":"MAX(1,A45-Input!$C$25)","v":350},7.652712200151961,1.011777736600322,3.8070094214863806E-3,262.67337148053798,{"$f":"deng_kgm3(A46,Input!$C$16,$B$7*28.97,C46)/1000","v":0.22490484902787636},{"$f":"visg_cp(F46*1000,Input!$C$16,$B$7*28.97)","v":2.755960540460687E-2},2.7884195177871138E-2,345.9257773115628,12551.913288777994,9531.100595389129,626376.39100996067,6226476.1003806684,1.8076801616936937E-3,1.0618229906480276E-3]
[{"$f":"MAX(1,A46-Input!$C$25)","v":325},7.1060899001411064,0.98599567103520547,3.995383983552374E-3,250.28883434399725,{"$f":"deng_kgm3(A47,Input!$C$16,$B$7*28.97,C47)/1000","v":0.21430102405972509},{"$f":"visg_cp(F47*1000,Input!$C$16,$B$7*28.97)","v":2.6362656870513E-2},2.5993465551312336E-2,329.61605161894846,12503.142351620432,9494.0671410076593,622724.70278561872,5600099.7093707081,2.0646556438390761E-3,9.9809130695074411E-4]
[{"$f":"MAX(1,A47-Input!$C$25)","v":300},6.5594676001302519,0.96202211155697881,4.2230933022194559E-3,236.79325282120757,{"$f":"deng_kgm3(A48,Input!$C$16,$B$7*28.97,C48)/1000","v":0.20274590635663009},{"$f":"visg_cp(F48*1000,Input!$C$16,$B$7*28.97)","v":2.5136790362996063E-2},2.4182148142774588E-2,311.84314413986476,12405.845759804319,9420.1864837044413,616222.63329925295,4977375.0065850895,2.3806865044134883E-3,9.1646731392552969E-4]
[{"$f":"MAX(1,A48-Input!$C$25)","v":275},6.0128453001193982,0.94035707847769123,4.5032595769115037E-3,222.06137197310659,{"$f":"deng_kgm3(A49,Input!$C$16,$B$7*28.97,C49)/1000","v":0.19013225077607457},{"$f":"visg_cp(F49*1000,Input!$C$16,$B$7*28.97)","v":2.3886357782850604E-2},2.2461705620154256E-2,292.44210129750621,12243.059572165803,9296.5773179759235,605893.58789438638,4361152.3732858365,2.7721533488465986E-3,8.1266626115988731E-4]
[{"$f":"MAX(1,A49-Input!$C$25)","v":250},5.4662230001085437,0.92161022909113932,4.8548314293100862E-3,205.98037533552605,{"$f":"deng_kgm3(A50,Input!$C$16,$B$7*28.97,C50)/1000","v":0.17636346218282042},{"$f":"visg_cp(F50*1000,Input!$C$16,$B$7*28.97)","v":2.2619152772573502E-2},2.0846042568578943E-2,271.26435027369598,11992.683943609652,9106.458469358955,590493.28974113555,3755258.7853914504,3.259640893916743E-3,6.8232252536710167E-4]
[{"$f":"MAX(1,A50-Input!$C$25)","v":225},4.9196007000976891,0.90649124532619074,5.3057645427877437E-3,188.47425134221695,{"$f":"deng_kgm3(A51,Input!$C$16,$B$7*28.97,C51)/1000","v":0.16137445834285494},{"$f":"visg_cp(F51*1000,Input!$C$16,$B$7*28.97)","v":2.1347619425665473E-2},1.9351430117921075E-2,248.20978819165128,11627.047646035773,8828.8182201534455,568519.56337765581,3164765.4956503147,3.86856273534296E-3,5.2203172764397974E-4]
[{"$f":"MAX(1,A51-Input!$C$25)","v":200},4.3729784000868346,0.89576541380945252,5.8983585834053104E-3,169.53869213944401,{"$f":"deng_kgm3(A52,Input!$C$16,$B$7*28.97,C52)/1000","v":0.14516155080771256},{"$f":"visg_cp(F52*1000,Input!$C$16,$B$7*28.97)","v":2.0089802760586254E-2},1.7995750483186829E-2,223.27274185487147,11113.734889070458,8439.0421429153248,538310.90275619575,2596245.9322726591,4.6303824322764852E-3,3.3109063350309805E-4]
[{"$f":"MAX(1,A52-Input!$C$25)","v":175},3.8263561000759805,0.89015994186793923,6.6987978935134345E-3,149.2805150858959,{"$f":"deng_kgm3(A53,Input!$C$16,$B$7*28.97,C53)/1000","v":0.12781619818925807},{"$f":"visg_cp(F53*1000,Input!$C$16,$B$7*28.97)","v":1.8869327321125489E-2},1.6796719311260182E-2,196.59388360340566,10418.701221177371,7911.2791116176286,498274.35289283819,2057935.0295164634,5.5866995535914944E-3,1.1357208938672048E-4]
[{"$f":"MAX(1,A53-Input!$C$25)","v":150},3.2797338000651259,0.89022587044976376,7.8158430368597907E-3,127.94525111161583,{"$f":"deng_kgm3(A54,Input!$C$16,$B$7*28.97,C54)/1000","v":0.10954862772309502},{"$f":"visg_cp(F54*1000,Input!$C$16,$B$7*28.97)","v":1.7713596473704251E-2},1.5769101839599231E-2,168.49656360156817,9512.2728945361559,7222.9968262825651,447232.81051631004,1559660.6766236252,6.8019907564083361E-3,-1.2046900558309943E-4]
[{"$f":"MAX(1,A54-Input!$C$25)","v":125},2.7331115000542718,0.89619809844731413,9.4419323004273862E-3,105.91052426363355,{"$f":"deng_kgm3(A55,Input!$C$16,$B$7*28.97,C55)/1000","v":9.0682166737029168E-2},{"$f":"visg_cp(F55*1000,Input!$C$16,$B$7*28.97)","v":1.6650045716520158E-2},1.4921739310206213E-2,139.47809107893184,8377.0395261162448,6360.9749827022542,384791.67576169036,1112427.8661073153,8.3975071454384671E-3,-3.5624514786117398E-4]
[{"$f":"MAX(1,A55-Input!$C$25)","v":100},2.1864892000434173,0.90792199544358432,1.1956812380403676E-2,83.634330638065833,{"$f":"deng_kgm3(A56,Input!$C$16,$B$7*28.97,C56)/1000","v":7.1608958303165285E-2},{"$f":"visg_cp(F56*1000,Input!$C$16,$B$7*28.97)","v":1.5701706267302318E-2},1.4255924486078155E-2,110.14162064786514,7014.6275043513706,5326.4485536981638,311565.69110646815,727636.19034562493,1.0636858492456571E-2,-5.7821783328636245E-4]
[{"$f":"MAX(1,A56-Input!$C$25)","v":75},1.639866900032563,0.92489486787385833,1.6240447178303346E-2,61.574659184013363,{"$f":"deng_kgm3(A57,Input!$C$16,$B$7*28.97,C57)/1000","v":5.2721139374226733E-2},{"$f":"visg_cp(F57*1000,Input!$C$16,$B$7*28.97)","v":1.4884415460001247E-2},1.3766519470257468E-2,81.090297508525978,5448.0001399073544,4136.8543729165831,229162.97579118228,416070.49923915672,1.4170964018424565E-2,-7.7472032181454291E-4]
[{"$f":"MAX(1,A57-Input!$C$25)","v":50},1.0932446000217086,0.94639976829882033,2.4927085197176822E-2,40.117004940202854,{"$f":"deng_kgm3(A58,Input!$C$16,$B$7*28.97,C58)/1000","v":3.4348776538223977E-2},{"$f":"visg_cp(F58*1000,Input!$C$16,$B$7*28.97)","v":1.4207752622381156E-2},1.3446213789868483E-2,52.831796535491947,3718.518891739936,2823.5996224348269,139976.29418255412,186907.52344797447,2.0993701979886217E-2,-9.4043932352239382E-4]
[{"$f":"MAX(1,A58-Input!$C$25)","v":25},0.54662230001085432,0.97166503416019046,5.1185086685230946E-2,19.536940635650854,{"$f":"deng_kgm3(A59,Input!$C$16,$B$7*28.97,C59)/1000","v":1.6727819266039296E-2},{"$f":"visg_cp(F59*1000,Input!$C$16,$B$7*28.97)","v":1.3681776880948441E-2},1.329410420039887E-2,25.7290312207308,1880.5328755622293,1427.9534599672936,46931.229265420348,46931.229265420348,4.1107473242043564E-2,-1.0760930255617573E-3]
[{"$f":"MAX(1,A59-Input!$C$25)","v":1},2.1864892000434174E-2,0.99881448478828172,1.3153814377641795,0.76023575465664983,{"$f":"deng_kgm3(A60,Input!$C$16,$B$7*28.97,C60)/1000","v":6.5092516482705533E-4},{"$f":"visg_cp(F60*1000,Input!$C$16,$B$7*28.97)","v":1.3360736399268467E-2},1.3344897043027376E-2,1.0011869223261911,74.935010496951989,56.900737499639206,0,0,1.0011848270150077,-1.183422384558194E-3]
[{"$f":"MAX(1,A60-Input!$C$25)","v":1},2.1864892000434174E-2,0.99881448478828172,1.3153814377641795,0.76023575465664983,{"$f":"deng_kgm3(A61,Input!$C$16,$B$7*28.97,C61)/1000","v":6.5092516482705533E-4},{"$f":"visg_cp(F61*1000,Input!$C$16,$B$7*28.97)","v":1.3360736399268467E-2},1.3344897043027376E-2,1.0011869223261911,74.935010496951989,56.900737499639206,0,0,1.0011848270150077,-1.183422384558194E-3]
[{"$f":"MAX(1,A61-Input!$C$25)","v":1},2.1864892000434174E-2,0.99881448478828172,1.3153814377641795,0.76023575465664983,{"$f":"deng_kgm3(A62,Input!$C$16,$B$7*28.97,C62)/1000","v":6.5092516482705533E-4},{"$f":"visg_cp(F62*1000,Input!$C$16,$B$7*28.97)","v":1.3360736399268467E-2},1.3344897043027376E-2,1.0011869223261911,74.935010496951989,56.900737499639206,0,0,1.0011848270150077,-1.183422384558194E-3]
[{"$f":"MAX(1,A62-Input!$C$25)","v":1},2.1864892000434174E-2,0.99881448478828172,1.3153814377641795,0.76023575465664983,{"$f":"deng_kgm3(A63,Input!$C$16,$B$7*28.97,C63)/1000","v":6.5092516482705533E-4},{"$f":"visg_cp(F63*1000,Input!$C$16,$B$7*28.97)","v":1.3360736399268467E-2},1.3344897043027376E-2,1.0011869223261911,74.935010496951989,56.900737499639206,0,0,1.0011848270150077,-1.183422384558194E-3]
[{"$f":"MAX(1,A63-Input!$C$25)","v":1},2.1864892000434174E-2,0.99881448478828172,1.3153814377641795,0.76023575465664983,{"$f":"deng_kgm3(A64,Input!$C$16,$B$7*28.97,C64)/1000","v":6.5092516482705533E-4},{"$f":"visg_cp(F64*1000,Input!$C$16,$B$7*28.97)","v":1.3360736399268467E-2},1.3344897043027376E-2,1.0011869223261911,74.935010496951989,56.900737499639206,0,0,1.0011848270150077,-1.183422384558194E-3]
[{"$f":"MAX(1,A64-Input!$C$25)","v":1},2.1864892000434174E-2,0.99881448478828172,1.3153814377641795,0.76023575465664983,{"$f":"deng_kgm3(A65,Input!$C$16,$B$7*28.97,C65)/1000","v":6.5092516482705533E-4},{"$f":"visg_cp(F65*1000,Input!$C$16,$B$7*28.97)","v":1.3360736399268467E-2},1.3344897043027376E-2,1.0011869223261911,74.935010496951989,56.900737499639206,0,0,1.0011848270150077,-1.183422384558194E-3]
[{"$f":"MAX(1,A65-Input!$C$25)","v":1},2.1864892000434174E-2,0.99881448478828172,1.3153814377641795,0.76023575465664983,{"$f":"deng_kgm3(A66,Input!$C$16,$B$7*28.97,C66)/1000","v":6.5092516482705533E-4},{"$f":"visg_cp(F66*1000,Input!$C$16,$B$7*28.97)","v":1.3360736399268467E-2},1.3344897043027376E-2,1.0011869223261911,74.935010496951989,56.900737499639206,0,0,1.0011848270150077,-1.183422384558194E-3]
[{"$f":"MAX(1,A66-Input!$C$25)","v":1},2.1864892000434174E-2,0.99881448478828172,1.3153814377641795,0.76023575465664983,{"$f":"deng_kgm3(A67,Input!$C$16,$B$7*28.97,C67)/1000","v":6.5092516482705533E-4},{"$f":"visg_cp(F67*1000,Input!$C$16,$B$7*28.97)","v":1.3360736399268467E-2},1.3344897043027376E-2,1.0011869223261911,74.935010496951989,56.900737499639206,0,0,1.0011848270150077,-1.183422384558194E-3]
[{"$f":"MAX(1,A67-Input!$C$25)","v":1},2.1864892000434174E-2,0.99881448478828172,1.3153814377641795,0.76023575465664983,{"$f":"deng_kgm3(A68,Input!$C$16,$B$7*28.97,C68)/1000","v":6.5092516482705533E-4},{"$f":"visg_cp(F68*1000,Input!$C$16,$B$7*28.97)","v":1.3360736399268467E-2},1.3344897043027376E-2,1.0011869223261911,74.935010496951989,56.900737499639206,0,0,1.0011848270150077,-1.183422384558194E-3]
[{"$f":"MAX(1,A68-Input!$C$25)","v":1},2.1864892000434174E-2,0.99881448478828172,1.3153814377641795,0.76023575465664983,{"$f":"deng_kgm3(A69,Input!$C$16,$B$7*28.97,C69)/1000","v":6.5092516482705533E-4},{"$f":"visg_cp(F69*1000,Input!$C$16,$B$7*28.97)","v":1.3360736399268467E-2},1.3344897043027376E-2,1.0011869223261911,74.935010496951989,56.900737499639206,0,0,1.0011848270150077,-1.183422384558194E-3]
[{"$f":"MAX(1,A69-Input!$C$25)","v":1},2.1864892000434174E-2,0.99881448478828172,1.3153814377641795,0.76023575465664983,{"$f":"deng_kgm3(A70,Input!$C$16,$B$7*28.97,C70)/1000","v":6.5092516482705533E-4},{"$f":"visg_cp(F70*1000,Input!$C$16,$B$7*28.97)","v":1.3360736399268467E-2},1.3344897043027376E-2,1.0011869223261911,74.935010496951989,56.900737499639206,0,0,1.0011848270150077,-1.183422384558194E-3]
[{"$f":"MAX(1,A70-Input!$C$25)","v":1},2.1864892000434174E-2,0.99881448478828172,1.3153814377641795,0.76023575465664983,{"$f":"deng_kgm3(A71,Input!$C$16,$B$7*28.97,C71)/1000","v":6.5092516482705533E-4},{"$f":"visg_cp(F71*1000,Input!$C$16,$B$7*28.97)","v":1.3360736399268467E-2},1.3344897043027376E-2,1.0011869223261911,74.935010496951989,56.900737499639206,0,0,1.0011848270150077,-1.183422384558194E-3]
[{"$f":"MAX(1,A71-Input!$C$25)","v":1},2.1864892000434174E-2,0.99881448478828172,1.3153814377641795,0.76023575465664983,{"$f":"deng_kgm3(A72,Input!$C$16,$B$7*28.97,C72)/1000","v":6.5092516482705533E-4},{"$f":"visg_cp(F72*1000,Input!$C$16,$B$7*28.97)","v":1.3360736399268467E-2},1.3344897043027376E-2,1.0011869223261911,74.935010496951989,56.900737499639206,0,0,1.0011848270150077,-1.183422384558194E-3]
[{"$f":"MAX(1,A72-Input!$C$25)","v":1},2.1864892000434174E-2,0.99881448478828172,1.3153814377641795,0.76023575465664983,{"$f":"deng_kgm3(A73,Input!$C$16,$B$7*28.97,C73)/1000","v":6.5092516482705533E-4},{"$f":"visg_cp(F73*1000,Input!$C$16,$B$7*28.97)","v":1.3360736399268467E-2},1.3344897043027376E-2,1.0011869223261911,74.935010496951989,56.900737499639206,0,0,1.0011848270150077,-1.183422384558194E-3]
[{"$f":"MAX(1,A73-Input!$C$25)","v":1},2.1864892000434174E-2,0.99881448478828172,1.3153814377641795,0.76023575465664983,{"$f":"deng_kgm3(A74,Input!$C$16,$B$7*28.97,C74)/1000","v":6.5092516482705533E-4},{"$f":"visg_cp(F74*1000,Input!$C$16,$B$7*28.97)","v":1.3360736399268467E-2},1.3344897043027376E-2,1.0011869223261911,74.935010496951989,56.900737499639206,0,0,1.0011848270150077,-1.183422384558194E-3]
[{"$f":"MAX(1,A74-Input!$C$25)","v":1},2.1864892000434174E-2,0.99881448478828172,1.3153814377641795,0.76023575465664983,{"$f":"deng_kgm3(A75,Input!$C$16,$B$7*28.97,C75)/1000","v":6.5092516482705533E-4},{"$f":"visg_cp(F75*1000,Input!$C$16,$B$7*28.97)","v":1.3360736399268467E-2},1.3344897043027376E-2,1.0011869223261911,74.935010496951989,56.900737499639206,0,0,1.0011848270150077,-1.183422384558194E-3]
[{"$f":"MAX(1,A75-Input!$C$25)","v":1},2.1864892000434174E-2,0.99881448478828172,1.3153814377641795,0.76023575465664983,{"$f":"deng_kgm3(A76,Input!$C$16,$B$7*28.97,C76)/1000","v":6.5092516482705533E-4},{"$f":"visg_cp(F76*1000,Input!$C$16,$B$7*28.97)","v":1.3360736399268467E-2},1.3344897043027376E-2,1.0011869223261911,74.935010496951989,56.900737499639206,0,0,1.0011848270150077,-1.183422384558194E-3]
[{"$f":"MAX(1,A76-Input!$C$25)","v":1},2.1864892000434174E-2,0.99881448478828172,1.3153814377641795,0.76023575465664983,{"$f":"deng_kgm3(A77,Input!$C$16,$B$7*28.97,C77)/1000","v":6.5092516482705533E-4},{"$f":"visg_cp(F77*1000,Input!$C$16,$B$7*28.97)","v":1.3360736399268467E-2},1.3344897043027376E-2,1.0011869223261911,74.935010496951989,56.900737499639206,0,0,1.0011848270150077,-1.183422384558194E-3]
[{"$f":"MAX(1,A77-Input!$C$25)","v":1},2.1864892000434174E-2,0.99881448478828172,1.3153814377641795,0.76023575465664983,{"$f":"deng_kgm3(A78,Input!$C$16,$B$7*28.97,C78)/1000","v":6.5092516482705533E-4},{"$f":"visg_cp(F78*1000,Input!$C$16,$B$7*28.97)","v":1.3360736399268467E-2},1.3344897043027376E-2,1.0011869223261911,74.935010496951989,56.900737499639206,0,0,1.0011848270150077,-1.183422384558194E-3]
[{"$f":"MAX(1,A78-Input!$C$25)","v":1},2.1864892000434174E-2,0.99881448478828172,1.3153814377641795,0.76023575465664983,{"$f":"deng_kgm3(A79,Input!$C$16,$B$7*28.97,C79)/1000","v":6.5092516482705533E-4},{"$f":"visg_cp(F79*1000,Input!$C$16,$B$7*28.97)","v":1.3360736399268467E-2},1.3344897043027376E-2,1.0011869223261911,74.935010496951989,56.900737499639206,0,0,1.0011848270150077,-1.183422384558194E-3]
[{"$f":"MAX(1,A79-Input!$C$25)","v":1},2.1864892000434174E-2,0.99881448478828172,1.3153814377641795,0.76023575465664983,{"$f":"deng_kgm3(A80,Input!$C$16,$B$7*28.97,C80)/1000","v":6.5092516482705533E-4},{"$f":"visg_cp(F80*1000,Input!$C$16,$B$7*28.97)","v":1.3360736399268467E-2},1.3344897043027376E-2,1.0011869223261911,74.935010496951989,56.900737499639206,0,0,1.0011848270150077,-1.183422384558194E-3]
[{"$f":"MAX(1,A80-Input!$C$25)","v":1},2.1864892000434174E-2,0.99881448478828172,1.3153814377641795,0.76023575465664983,{"$f":"deng_kgm3(A81,Input!$C$16,$B$7*28.97,C81)/1000","v":6.5092516482705533E-4},{"$f":"visg_cp(F81*1000,Input!$C$16,$B$7*28.97)","v":1.3360736399268467E-2},1.3344897043027376E-2,1.0011869223261911,74.935010496951989,56.900737499639206,0,0,1.0011848270150077,-1.183422384558194E-3]
[{"$f":"MAX(1,A81-Input!$C$25)","v":1},2.1864892000434174E-2,0.99881448478828172,1.3153814377641795,0.76023575465664983,{"$f":"deng_kgm3(A82,Input!$C$16,$B$7*28.97,C82)/1000","v":6.5092516482705533E-4},{"$f":"visg_cp(F82*1000,Input!$C$16,$B$7*28.97)","v":1.3360736399268467E-2},1.3344897043027376E-2,1.0011869223261911,74.935010496951989,56.900737499639206,0,0,1.0011848270150077,-1.183422384558194E-3]
[{"$f":"MAX(1,A82-Input!$C$25)","v":1},2.1864892000434174E-2,0.99881448478828172,1.3153814377641795,0.76023575465664983,{"$f":"deng_kgm3(A83,Input!$C$16,$B$7*28.97,C83)/1000","v":6.5092516482705533E-4},{"$f":"visg_cp(F83*1000,Input!$C$16,$B$7*28.97)","v":1.3360736399268467E-2},1.3344897043027376E-2,1.0011869223261911,74.935010496951989,56.900737499639206,0,0,1.0011848270150077,-1.183422384558194E-3]
[{"$f":"MAX(1,A83-Input!$C$25)","v":1},2.1864892000434174E-2,0.99881448478828172,1.3153814377641795,0.76023575465664983,{"$f":"deng_kgm3(A84,Input!$C$16,$B$7*28.97,C84)/1000","v":6.5092516482705533E-4},{"$f":"visg_cp(F84*1000,Input!$C$16,$B$7*28.97)","v":1.3360736399268467E-2},1.3344897043027376E-2,1.0011869223261911,74.935010496951989,56.900737499639206,0,0,1.0011848270150077,-1.183422384558194E-3]
[{"$f":"MAX(1,A84-Input!$C$25)","v":1},2.1864892000434174E-2,0.99881448478828172,1.3153814377641795,0.76023575465664983,{"$f":"deng_kgm3(A85,Input!$C$16,$B$7*28.97,C85)/1000","v":6.5092516482705533E-4},{"$f":"visg_cp(F85*1000,Input!$C$16,$B$7*28.97)","v":1.3360736399268467E-2},1.3344897043027376E-2,1.0011869223261911,74.935010496951989,56.900737499639206,0,0,1.0011848270150077,-1.183422384558194E-3]
[{"$f":"MAX(1,A85-Input!$C$25)","v":1},2.1864892000434174E-2,0.99881448478828172,1.3153814377641795,0.76023575465664983,{"$f":"deng_kgm3(A86,Input!$C$16,$B$7*28.97,C86)/1000","v":6.5092516482705533E-4},{"$f":"visg_cp(F86*1000,Input!$C$16,$B$7*28.97)","v":1.3360736399268467E-2},1.3344897043027376E-2,1.0011869223261911,74.935010496951989,56.900737499639206,0,0,1.0011848270150077,-1.183422384558194E-3]
[{"$f":"MAX(1,A86-Input!$C$25)","v":1},2.1864892000434174E-2,0.99881448478828172,1.3153814377641795,0.76023575465664983,{"$f":"deng_kgm3(A87,Input!$C$16,$B$7*28.97,C87)/1000","v":6.5092516482705533E-4},{"$f":"visg_cp(F87*1000,Input!$C$16,$B$7*28.97)","v":1.3360736399268467E-2},1.3344897043027376E-2,1.0011869223261911,74.935010496951989,56.900737499639206,0,0,1.0011848270150077,-1.183422384558194E-3]
[{"$f":"MAX(1,A87-Input!$C$25)","v":1},2.1864892000434174E-2,0.99881448478828172,1.3153814377641795,0.76023575465664983,{"$f":"deng_kgm3(A88,Input!$C$16,$B$7*28.97,C88)/1000","v":6.5092516482705533E-4},{"$f":"visg_cp(F88*1000,Input!$C$16,$B$7*28.97)","v":1.3360736399268467E-2},1.3344897043027376E-2,1.0011869223261911,74.935010496951989,56.900737499639206,0,0,1.0011848270150077,-1.183422384558194E-3]
[{"$f":"MAX(1,A88-Input!$C$25)","v":1},2.1864892000434174E-2,0.99881448478828172,1.3153814377641795,0.76023575465664983,{"$f":"deng_kgm3(A89,Input!$C$16,$B$7*28.97,C89)/1000","v":6.5092516482705533E-4},{"$f":"visg_cp(F89*1000,Input!$C$16,$B$7*28.97)","v":1.3360736399268467E-2},1.3344897043027376E-2,1.0011869223261911,74.935010496951989,56.900737499639206,0,0,1.0011848270150077,-1.183422384558194E-3]
[{"$f":"MAX(1,A89-Input!$C$25)","v":1},2.1864892000434174E-2,0.99881448478828172,1.3153814377641795,0.76023575465664983,{"$f":"deng_kgm3(A90,Input!$C$16,$B$7*28.97,C90)/1000","v":6.5092516482705533E-4},{"$f":"visg_cp(F90*1000,Input!$C$16,$B$7*28.97)","v":1.3360736399268467E-2},1.3344897043027376E-2,1.0011869223261911,74.935010496951989,56.900737499639206,0,0,1.0011848270150077,-1.183422384558194E-3]
[{"$f":"MAX(1,A90-Input!$C$25)","v":1},2.1864892000434174E-2,0.99881448478828172,1.3153814377641795,0.76023575465664983,{"$f":"deng_kgm3(A91,Input!$C$16,$B$7*28.97,C91)/1000","v":6.5092516482705533E-4},{"$f":"visg_cp(F91*1000,Input!$C$16,$B$7*28.97)","v":1.3360736399268467E-2},1.3344897043027376E-2,1.0011869223261911,74.935010496951989,56.900737499639206,0,0,1.0011848270150077,-1.183422384558194E-3]
[{"$f":"MAX(1,A91-Input!$C$25)","v":1},2.1864892000434174E-2,0.99881448478828172,1.3153814377641795,0.76023575465664983,{"$f":"deng_kgm3(A92,Input!$C$16,$B$7*28.97,C92)/1000","v":6.5092516482705533E-4},{"$f":"visg_cp(F92*1000,Input!$C$16,$B$7*28.97)","v":1.3360736399268467E-2},1.3344897043027376E-2,1.0011869223261911,74.935010496951989,56.900737499639206,0,0,1.0011848270150077,-1.183422384558194E-3]
[{"$f":"MAX(1,A92-Input!$C$25)","v":1},2.1864892000434174E-2,0.99881448478828172,1.3153814377641795,0.76023575465664983,{"$f":"deng_kgm3(A93,Input!$C$16,$B$7*28.97,C93)/1000","v":6.5092516482705533E-4},{"$f":"visg_cp(F93*1000,Input!$C$16,$B$7*28.97)","v":1.3360736399268467E-2},1.3344897043027376E-2,1.0011869223261911,74.935010496951989,56.900737499639206,0,0,1.0011848270150077,-1.183422384558194E-3]
[{"$f":"MAX(1,A93-Input!$C$25)","v":1},2.1864892000434174E-2,0.99881448478828172,1.3153814377641795,0.76023575465664983,{"$f":"deng_kgm3(A94,Input!$C$16,$B$7*28.97,C94)/1000","v":6.5092516482705533E-4},{"$f":"visg_cp(F94*1000,Input!$C$16,$B$7*28.97)","v":1.3360736399268467E-2},1.3344897043027376E-2,1.0011869223261911,74.935010496951989,56.900737499639206,0,0,1.0011848270150077,-1.183422384558194E-3]
[{"$f":"MAX(1,A94-Input!$C$25)","v":1},2.1864892000434174E-2,0.99881448478828172,1.3153814377641795,0.76023575465664983,{"$f":"deng_kgm3(A95,Input!$C$16,$B$7*28.97,C95)/1000","v":6.5092516482705533E-4},{"$f":"visg_cp(F95*1000,Input!$C$16,$B$7*28.97)","v":1.3360736399268467E-2},1.3344897043027376E-2,1.0011869223261911,74.935010496951989,56.900737499639206,0,0,1.0011848270150077,-1.183422384558194E-3]
[{"$f":"MAX(1,A95-Input!$C$25)","v":1},2.1864892000434174E-2,0.99881448478828172,1.3153814377641795,0.76023575465664983,{"$f":"deng_kgm3(A96,Input!$C$16,$B$7*28.97,C96)/1000","v":6.5092516482705533E-4},{"$f":"visg_cp(F96*1000,Input!$C$16,$B$7*28.97)","v":1.3360736399268467E-2},1.3344897043027376E-2,1.0011869223261911,74.935010496951989,56.900737499639206,0,0,1.0011848270150077,-1.183422384558194E-3]
[{"$f":"MAX(1,A96-Input!$C$25)","v":1},2.1864892000434174E-2,0.99881448478828172,1.3153814377641795,0.76023575465664983,{"$f":"deng_kgm3(A97,Input!$C$16,$B$7*28.97,C97)/1000","v":6.5092516482705533E-4},{"$f":"visg_cp(F97*1000,Input!$C$16,$B$7*28.97)","v":1.3360736399268467E-2},1.3344897043027376E-2,1.0011869223261911,74.935010496951989,56.900737499639206,0,0,1.0011848270150077,-1.183422384558194E-3]
[{"$f":"MAX(1,A97-Input!$C$25)","v":1},2.1864892000434174E-2,0.99881448478828172,1.3153814377641795,0.76023575465664983,{"$f":"deng_kgm3(A98,Input!$C$16,$B$7*28.97,C98)/1000","v":6.5092516482705533E-4},{"$f":"visg_cp(F98*1000,Input!$C$16,$B$7*28.97)","v":1.3360736399268467E-2},1.3344897043027376E-2,1.0011869223261911,74.935010496951989,56.900737499639206,0,0,1.0011848270150077,-1.183422384558194E-3]
[{"$f":"MAX(1,A98-Input!$C$25)","v":1},2.1864892000434174E-2,0.99881448478828172,1.3153814377641795,0.76023575465664983,{"$f":"deng_kgm3(A99,Input!$C$16,$B$7*28.97,C99)/1000","v":6.5092516482705533E-4},{"$f":"visg_cp(F99*1000,Input!$C$16,$B$7*28.97)","v":1.3360736399268467E-2},1.3344897043027376E-2,1.0011869223261911,74.935010496951989,56.900737499639206,0,0,1.0011848270150077,-1.183422384558194E-3]
[{"$f":"MAX(1,A99-Input!$C$25)","v":1},2.1864892000434174E-2,0.99881448478828172,1.3153814377641795,0.76023575465664983,{"$f":"deng_kgm3(A100,Input!$C$16,$B$7*28.97,C100)/1000","v":6.5092516482705533E-4},{"$f":"visg_cp(F100*1000,Input!$C$16,$B$7*28.97)","v":1.3360736399268467E-2},1.3344897043027376E-2,1.0011869223261911,74.935010496951989,56.900737499639206,0,0,1.0011848270150077,-1.183422384558194E-3]

{"sheet":"Calcs-Field","index":2,"n_rows":100,"n_cols":15,"rows_kept":100,"cut":false,"hidden":false,"merged":[]}
["Gas PVT Properties"]
[]
["Curtis H. Whitson"]
["Sheet 2 - Gas PVT f(p)"]
["FIELD UNITS (or any user-specified units)"]
[]
["Gravity",{"$f":"Input!$C$18","v":0.7},"(air=1)",null,null,"Lee et al.",null,null,"Units conversion:"]
["Tpc",{"$f":"1.8*Input!$C$19","v":377.59},"R",null,null,"A1",{"$f":"0.0001*(9.379+0.46555*$B$7)*($B$10*1.8)^1.5/(209.2+558*$B$7+$B$10*1.8)","v":2.2655323958094307E-2},null,14.503769999999999,"psi","/ bar"]
["Ppc",{"$f":"14.50377*Input!$C$20","v":663.33599999999979},"psia",null,null,"A2",{"$f":"3.448+(986.4/(1.8*$B$10))+0.29231*$B$7","v":4.464144240955469},null,62.427999999999997,"lb/ft3","/ (g/cc)"]
["TR",{"$f":"1.8*(Input!C16+273.15)","v":675.27},"R",null,null,"A3",{"$f":"2.447-0.2224*G9","v":1.4541743208115037},null,1,"cp","/ (mPa-s)"]
["Tpr",{"$f":"$B$10/$B$8","v":1.7883683360258482},null,null,null,null,null,null,1,"ft3/scf","/ (m3/Sm3)"]
[null,null,null,null,null,null,null,null,null,"RB/Mscf","/ (m3/Sm3)"]
[]
[]
[null,null,null,null,null,null,"Lee et al."]
[null,null,null,null,"Inverse","Density","Viscosity",null,null,null,null,"Delta pp"]
["p","ppr","Z","Bg","bg=1/Bg","dg","ug","ugZ","p/Z","p/uZ","1/ugBg","2(p/uZ)dp","pp","cg","dZ/dp"]
[{"$f":"CONCATENATE(J8,\"a\")","v":"psia"},null,null,{"$f":"J11","v":"ft3/scf"},{"$f":"CONCATENATE(\"1/(\",D18,\")\")","v":"1/(ft3/scf)"},{"$f":"J9","v":"lb/ft3"},{"$f":"J10","v":"cp"},{"$f":"J10","v":"cp"},{"$f":"CONCATENATE(J8,\"a\")","v":"psia"},{"$f":"CONCATENATE(J8,\"a/\",J10)","v":"psia/cp"},{"$f":"CONCATENATE(\"1/[(\",J10,\")(\",J11,\")]\")","v":"1/[(cp)(ft3/scf)]"},{"$f":"CONCATENATE(J8,\"2/\",J10)","v":"psi2/cp"},{"$f":"L18","v":"psi2/cp"},{"$f":"CONCATENATE(\"1/\",J8,\"a\")","v":"1/psia"},{"$f":"CONCATENATE(\"1/\",J8)","v":"1/psi"}]
[]
[{"$f":"'Calcs-SI'!A20*$I$8","v":14503.769999999999},{"$f":"'Calcs-SI'!B20","v":21.864892000434175},{"$f":"'Calcs-SI'!C20","v":1.8154324231919692},{"$f":"'Calcs-SI'!D20*'Calcs-Field'!$I$11","v":2.3908204650117193E-3},{"$f":"'Calcs-SI'!E20/'Calcs-Field'!$I$11","v":418.26645481516664},{"$f":"'Calcs-SI'!F20*'Calcs-Field'!$I$9","v":22.35708756057938},{"$f":"'Calcs-SI'!G20","v":5.0614352443950371E-2},{"$f":"'Calcs-SI'!H20","v":9.1886936505613193E-2},{"$f":"'Calcs-SI'!I20*'Calcs-Field'!$I$8","v":7989.1544376512038},{"$f":"'Calcs-SI'!J20*'Calcs-Field'!$I$8","v":157843.6560360677},{"$f":"'Calcs-SI'!K20","v":8263.7914863842052},{"$f":"'Calcs-SI'!L20*'Calcs-Field'!$I$8^2","v":114807264.2513576},{"$f":"'Calcs-SI'!M20*'Calcs-Field'!$I$8^2","v":4538269841.2092495},{"$f":"'Calcs-SI'!N20/'Calcs-Field'!$I$8","v":2.1843584480089985E-5},{"$f":"'Calcs-SI'!O20/'Calcs-Field'!$I$8","v":8.5514140458406321E-5}]
[{"$f":"'Calcs-SI'!A21*$I$8","v":14141.175749999999},{"$f":"'Calcs-SI'!B21","v":21.318269700423318},{"$f":"'Calcs-SI'!C21","v":1.784389134088324},{"$f":"'Calcs-SI'!D21*'Calcs-Field'!$I$11","v":2.4101930587167265E-3},{"$f":"'Calcs-SI'!E21/'Calcs-Field'!$I$11","v":414.90452243374892},{"$f":"'Calcs-SI'!F21*'Calcs-Field'!$I$9","v":22.177386282222461},{"$f":"'Calcs-SI'!G21","v":4.9910278149620756E-2},{"$f":"'Calcs-SI'!H21","v":8.9059358009509176E-2},{"$f":"'Calcs-SI'!I21*'Calcs-Field'!$I$8","v":7924.9393979441465},{"$f":"'Calcs-SI'!J21*'Calcs-Field'!$I$8","v":158783.71533387987},{"$f":"'Calcs-SI'!K21","v":8313.0076171875953},{"$f":"'Calcs-SI'!L21*'Calcs-Field'!$I$8^2","v":115495357.83095814},{"$f":"'Calcs-SI'!M21*'Calcs-Field'!$I$8^2","v":4423462576.9578915},{"$f":"'Calcs-SI'!N21/'Calcs-Field'!$I$8","v":2.2679869591362372E-5},{"$f":"'Calcs-SI'!O21/'Calcs-Field'!$I$8","v":8.5714217360157962E-5}]
[{"$f":"'Calcs-SI'!A22*$I$8","v":13778.5815},{"$f":"'Calcs-SI'!B22","v":20.771647400412466},{"$f":"'Calcs-SI'!C22","v":1.753273839163622},{"$f":"'Calcs-SI'!D22*'Calcs-Field'!$I$11","v":2.4304854441536601E-3},{"$f":"'Calcs-SI'!E22/'Calcs-Field'!$I$11","v":411.44043977116615},{"$f":"'Calcs-SI'!F22*'Calcs-Field'!$I$9","v":21.992224889256651},{"$f":"'Calcs-SI'!G22","v":4.9196861886790323E-2},{"$f":"'Calcs-SI'!H22","v":8.6255570915055341E-2},{"$f":"'Calcs-SI'!I22*'Calcs-Field'!$I$8","v":7858.7732231109458},{"$f":"'Calcs-SI'!J22*'Calcs-Field'!$I$8","v":159741.35182026878},{"$f":"'Calcs-SI'!K22","v":8363.1439891014797},{"$f":"'Calcs-SI'!L22*'Calcs-Field'!$I$8^2","v":116196270.77596453},{"$f":"'Calcs-SI'!M22*'Calcs-Field'!$I$8^2","v":4307967219.1269331},{"$f":"'Calcs-SI'!N22/'Calcs-Field'!$I$8","v":2.3575999667988312E-5},{"$f":"'Calcs-SI'!O22/'Calcs-Field'!$I$8","v":8.5911140067658696E-5}]
[{"$f":"'Calcs-SI'!A23*$I$8","v":13415.98725},{"$f":"'Calcs-SI'!B23","v":20.225025100401609},{"$f":"'Calcs-SI'!C23","v":1.7220878784386233},{"$f":"'Calcs-SI'!D23*'Calcs-Field'!$I$11","v":2.4517741068473238E-3},{"$f":"'Calcs-SI'!E23/'Calcs-Field'!$I$11","v":407.86791785066833},{"$f":"'Calcs-SI'!F23*'Calcs-Field'!$I$9","v":21.801267224664702},{"$f":"'Calcs-SI'!G23","v":4.8473696917303626E-2},{"$f":"'Calcs-SI'!H23","v":8.3475965884396236E-2},{"$f":"'Calcs-SI'!I23*'Calcs-Field'!$I$8","v":7790.5357897089198},{"$f":"'Calcs-SI'!J23*'Calcs-Field'!$I$8","v":160716.76569252834},{"$f":"'Calcs-SI'!K23","v":8414.2110833117003},{"$f":"'Calcs-SI'!L23*'Calcs-Field'!$I$8^2","v":116910122.81360734},{"$f":"'Calcs-SI'!M23*'Calcs-Field'!$I$8^2","v":4191770948.3509684},{"$f":"'Calcs-SI'!N23/'Calcs-Field'!$I$8","v":2.4538284749855698E-5},{"$f":"'Calcs-SI'!O23/'Calcs-Field'!$I$8","v":8.610379347017025E-5}]
[{"$f":"'Calcs-SI'!A24*$I$8","v":13053.393},{"$f":"'Calcs-SI'!B24","v":19.678402800390757},{"$f":"'Calcs-SI'!C24","v":1.6908330343807141},{"$f":"'Calcs-SI'!D24*'Calcs-Field'!$I$11","v":2.4741446781328899E-3},{"$f":"'Calcs-SI'!E24/'Calcs-Field'!$I$11","v":404.18008244960384},{"$f":"'Calcs-SI'!F24*'Calcs-Field'!$I$9","v":21.604145848992729},{"$f":"'Calcs-SI'!G24","v":4.7740347812299175E-2},{"$f":"'Calcs-SI'!H24","v":8.0720957153860504E-2},{"$f":"'Calcs-SI'!I24*'Calcs-Field'!$I$8","v":7720.0957957276642},{"$f":"'Calcs-SI'!J24*'Calcs-Field'!$I$8","v":161710.08694952916},{"$f":"'Calcs-SI'!K24","v":8466.2157058159592},{"$f":"'Calcs-SI'!L24*'Calcs-Field'!$I$8^2","v":117636975.07650314},{"$f":"'Calcs-SI'!M24*'Calcs-Field'!$I$8^2","v":4074860825.5373611},{"$f":"'Calcs-SI'!N24/'Calcs-Field'!$I$8","v":2.5573918778087232E-5},{"$f":"'Calcs-SI'!O24/'Calcs-Field'!$I$8","v":8.6290844733845281E-5}]
[{"$f":"'Calcs-SI'!A25*$I$8","v":12690.79875},{"$f":"'Calcs-SI'!B25","v":19.131780500379904},{"$f":"'Calcs-SI'!C25","v":1.6595116134651868},{"$f":"'Calcs-SI'!D25*'Calcs-Field'!$I$11","v":2.4976933644562747E-3},{"$f":"'Calcs-SI'!E25/'Calcs-Field'!$I$11","v":400.36940251778702},{"$f":"'Calcs-SI'!F25*'Calcs-Field'!$I$9","v":21.40045821418439},{"$f":"'Calcs-SI'!G25","v":4.6996348029359959E-2},{"$f":"'Calcs-SI'!H25","v":7.7990985345174596E-2},{"$f":"'Calcs-SI'!I25*'Calcs-Field'!$I$8","v":7647.3093933344908},{"$f":"'Calcs-SI'!J25*'Calcs-Field'!$I$8","v":162721.35419026599},{"$f":"'Calcs-SI'!K25","v":8519.1598774369631},{"$f":"'Calcs-SI'!L25*'Calcs-Field'!$I$8^2","v":118376813.49492091},{"$f":"'Calcs-SI'!M25*'Calcs-Field'!$I$8^2","v":3957223850.4608583},{"$f":"'Calcs-SI'!N25/'Calcs-Field'!$I$8","v":2.6691134368860632E-5},{"$f":"'Calcs-SI'!O25/'Calcs-Field'!$I$8","v":8.6470698556011461E-5}]
[{"$f":"'Calcs-SI'!A26*$I$8","v":12328.2045},{"$f":"'Calcs-SI'!B26","v":18.585158200369047},{"$f":"'Calcs-SI'!C26","v":1.6281265775338205},{"$f":"'Calcs-SI'!D26*'Calcs-Field'!$I$11","v":2.5225287060571563E-3},{"$f":"'Calcs-SI'!E26/'Calcs-Field'!$I$11","v":396.42759965378235},{"$f":"'Calcs-SI'!F26*'Calcs-Field'!$I$9","v":21.18976182492688},{"$f":"'Calcs-SI'!G26","v":4.6241195731524423E-2},{"$f":"'Calcs-SI'!H26","v":7.5286519747438371E-2},{"$f":"'Calcs-SI'!I26*'Calcs-Field'!$I$8","v":7572.018459814074},{"$f":"'Calcs-SI'!J26*'Calcs-Field'!$I$8","v":163750.49001278169},{"$f":"'Calcs-SI'!K26","v":8573.0395458507192},{"$f":"'Calcs-SI'!L26*'Calcs-Field'!$I$8^2","v":119129526.68276425},{"$f":"'Calcs-SI'!M26*'Calcs-Field'!$I$8^2","v":3838847036.9659376},{"$f":"'Calcs-SI'!N26/'Calcs-Field'!$I$8","v":2.789939272430467E-5},{"$f":"'Calcs-SI'!O26/'Calcs-Field'!$I$8","v":8.6641439736409299E-5}]
[{"$f":"'Calcs-SI'!A27*$I$8","v":11965.61025},{"$f":"'Calcs-SI'!B27","v":18.038535900358195},{"$f":"'Calcs-SI'!C27","v":1.5966816207100367},{"$f":"'Calcs-SI'!D27*'Calcs-Field'!$I$11","v":2.5487735685048194E-3},{"$f":"'Calcs-SI'!E27/'Calcs-Field'!$I$11","v":392.34556272749933},{"$f":"'Calcs-SI'!F27*'Calcs-Field'!$I$9","v":20.971569675076474},{"$f":"'Calcs-SI'!G27","v":4.5474352889119607E-2},{"$f":"'Calcs-SI'!H27","v":7.2608063471739634E-2},{"$f":"'Calcs-SI'!I27*'Calcs-Field'!$I$8","v":7494.0489668058872},{"$f":"'Calcs-SI'!J27*'Calcs-Field'!$I$8","v":164797.26462691338},{"$f":"'Calcs-SI'!K27","v":8627.8426805579384},{"$f":"'Calcs-SI'!L27*'Calcs-Field'!$I$8^2","v":119894878.60536738},{"$f":"'Calcs-SI'!M27*'Calcs-Field'!$I$8^2","v":3719717510.2831731},{"$f":"'Calcs-SI'!N27/'Calcs-Field'!$I$8","v":2.9209609014549241E-5},{"$f":"'Calcs-SI'!O27/'Calcs-Field'!$I$8","v":8.6800767630194526E-5}]
[{"$f":"'Calcs-SI'!A28*$I$8","v":11603.016},{"$f":"'Calcs-SI'!B28","v":17.491913600347338},{"$f":"'Calcs-SI'!C28","v":1.5651813723150612},{"$f":"'Calcs-SI'!D28*'Calcs-Field'!$I$11","v":2.576567715067105E-3},{"$f":"'Calcs-SI'!E28/'Calcs-Field'!$I$11","v":388.11322293307381},{"$f":"'Calcs-SI'!F28*'Calcs-Field'!$I$9","v":20.745343569012313},{"$f":"'Calcs-SI'!G28","v":4.4695239466952225E-2},{"$f":"'Calcs-SI'!H28","v":6.9956156244834561E-2},{"$f":"'Calcs-SI'!I28*'Calcs-Field'!$I$8","v":7413.2085937350303},{"$f":"'Calcs-SI'!J28*'Calcs-Field'!$I$8","v":165861.25686196124},{"$f":"'Calcs-SI'!K28","v":8683.547231468483},{"$f":"'Calcs-SI'!L28*'Calcs-Field'!$I$8^2","v":120672474.60264312},{"$f":"'Calcs-SI'!M28*'Calcs-Field'!$I$8^2","v":3599822631.6778054},{"$f":"'Calcs-SI'!N28/'Calcs-Field'!$I$8","v":3.0634436319287299E-5},{"$f":"'Calcs-SI'!O28/'Calcs-Field'!$I$8","v":8.6945907036939699E-5}]
[{"$f":"'Calcs-SI'!A29*$I$8","v":11240.42175},{"$f":"'Calcs-SI'!B29","v":16.945291300336486},{"$f":"'Calcs-SI'!C29","v":1.5336315665107612},{"$f":"'Calcs-SI'!D29*'Calcs-Field'!$I$11","v":2.6060708204164915E-3},{"$f":"'Calcs-SI'!E29/'Calcs-Field'!$I$11","v":383.71942625879376},{"$f":"'Calcs-SI'!F29*'Calcs-Field'!$I$9","v":20.51048730492661},{"$f":"'Calcs-SI'!G29","v":4.3903230442418562E-2},{"$f":"'Calcs-SI'!H29","v":6.7331380078289316E-2},{"$f":"'Calcs-SI'!I29*'Calcs-Field'!$I$8","v":7329.284291906969},{"$f":"'Calcs-SI'!J29*'Calcs-Field'!$I$8","v":166941.79945413623},{"$f":"'Calcs-SI'!K29","v":8740.1182644648979},{"$f":"'Calcs-SI'!L29*'Calcs-Field'!$I$8^2","v":121461716.90689649},{"$f":"'Calcs-SI'!M29*'Calcs-Field'!$I$8^2","v":3479150157.0751624},{"$f":"'Calcs-SI'!N29/'Calcs-Field'!$I$8","v":3.2188609770578219E-5},{"$f":"'Calcs-SI'!O29/'Calcs-Field'!$I$8","v":8.7073502024913758E-5}]
[{"$f":"'Calcs-SI'!A30*$I$8","v":10877.827499999999},{"$f":"'Calcs-SI'!B30","v":16.398669000325629},{"$f":"'Calcs-SI'!C30","v":1.5020392791349657},{"$f":"'Calcs-SI'!D30*'Calcs-Field'!$I$11","v":2.6374662050622577E-3},{"$f":"'Calcs-SI'!E30/'Calcs-Field'!$I$11","v":379.15177759648105},{"$f":"'Calcs-SI'!F30*'Calcs-Field'!$I$9","v":20.266338342193229},{"$f":"'Calcs-SI'!G30","v":4.3097651359068623E-2},{"$f":"'Calcs-SI'!H30","v":6.4734365179785508E-2},{"$f":"'Calcs-SI'!I30*'Calcs-Field'!$I$8","v":7242.0393068978938},{"$f":"'Calcs-SI'!J30*'Calcs-Field'!$I$8","v":168037.91108152861},{"$f":"'Calcs-SI'!K30","v":8797.5044031419075},{"$f":"'Calcs-SI'!L30*'Calcs-Field'!$I$8^2","v":122261748.34380573},{"$f":"'Calcs-SI'!M30*'Calcs-Field'!$I$8^2","v":3357688440.1682658},{"$f":"'Calcs-SI'!N30/'Calcs-Field'!$I$8","v":3.3889375105039579E-5},{"$f":"'Calcs-SI'!O30/'Calcs-Field'!$I$8","v":8.7179480360349642E-5}]
[{"$f":"'Calcs-SI'!A31*$I$8","v":10515.233249999999},{"$f":"'Calcs-SI'!B31","v":15.852046700314776},{"$f":"'Calcs-SI'!C31","v":1.4704132176655564},{"$f":"'Calcs-SI'!D31*'Calcs-Field'!$I$11","v":2.670965438930755E-3},{"$f":"'Calcs-SI'!E31/'Calcs-Field'!$I$11","v":374.39645808383113},{"$f":"'Calcs-SI'!F31*'Calcs-Field'!$I$9","v":20.012158037990201},{"$f":"'Calcs-SI'!G31","v":4.2277773612500284E-2},{"$f":"'Calcs-SI'!H31","v":6.2165797133292497E-2},{"$f":"'Calcs-SI'!I31*'Calcs-Field'!$I$8","v":7151.2096896776366},{"$f":"'Calcs-SI'!J31*'Calcs-Field'!$I$8","v":169148.20906187064},{"$f":"'Calcs-SI'!K31","v":8855.6332581603383},{"$f":"'Calcs-SI'!L31*'Calcs-Field'!$I$8^2","v":123071379.81993127},{"$f":"'Calcs-SI'!M31*'Calcs-Field'!$I$8^2","v":3235426691.82446},{"$f":"'Calcs-SI'!N31/'Calcs-Field'!$I$8","v":3.5757022969383811E-5},{"$f":"'Calcs-SI'!O31/'Calcs-Field'!$I$8","v":8.7258882095436161E-5}]
[{"$f":"'Calcs-SI'!A32*$I$8","v":10152.638999999999},{"$f":"'Calcs-SI'!B32","v":15.305424400303922},{"$f":"'Calcs-SI'!C32","v":1.4387640774711503},{"$f":"'Calcs-SI'!D32*'Calcs-Field'!$I$11","v":2.7068140561352055E-3},{"$f":"'Calcs-SI'!E32/'Calcs-Field'!$I$11","v":369.43801061377741},{"$f":"'Calcs-SI'!F32*'Calcs-Field'!$I$9","v":19.74712018239283},{"$f":"'Calcs-SI'!G32","v":4.1442809557547818E-2},{"$f":"'Calcs-SI'!H32","v":5.9626425660877856E-2},{"$f":"'Calcs-SI'!I32*'Calcs-Field'!$I$8","v":7056.5001997025302},{"$f":"'Calcs-SI'!J32*'Calcs-Field'!$I$8","v":170270.79667231097},{"$f":"'Calcs-SI'!K32","v":8914.4055279546828},{"$f":"'Calcs-SI'!L32*'Calcs-Field'!$I$8^2","v":123888997.02663897},{"$f":"'Calcs-SI'!M32*'Calcs-Field'!$I$8^2","v":3112355312.004529},{"$f":"'Calcs-SI'!N32/'Calcs-Field'!$I$8","v":3.7815559245704748E-5},{"$f":"'Calcs-SI'!O32/'Calcs-Field'!$I$8","v":8.7305641743086479E-5}]
[{"$f":"'Calcs-SI'!A33*$I$8","v":9790.0447499999991},{"$f":"'Calcs-SI'!B33","v":14.758802100293067},{"$f":"'Calcs-SI'!C33","v":1.4071050090149164},{"$f":"'Calcs-SI'!D33*'Calcs-Field'!$I$11","v":2.7452987561668429E-3},{"$f":"'Calcs-SI'!E33/'Calcs-Field'!$I$11","v":364.25908027447707},{"$f":"'Calcs-SI'!F33*'Calcs-Field'!$I$9","v":19.470297124428392},{"$f":"'Calcs-SI'!G33","v":4.0591906418645247E-2},{"$f":"'Calcs-SI'!H33","v":5.7117074847140466E-2},{"$f":"'Calcs-SI'!I33*'Calcs-Field'!$I$8","v":6957.5793471546212},{"$f":"'Calcs-SI'!J33*'Calcs-Field'!$I$8","v":171403.11852805139},{"$f":"'Calcs-SI'!K33","v":8973.6874271852485},{"$f":"'Calcs-SI'!L33*'Calcs-Field'!$I$8^2","v":124712438.53371833},{"$f":"'Calcs-SI'!M33*'Calcs-Field'!$I$8^2","v":2988466314.97789},{"$f":"'Calcs-SI'!N33/'Calcs-Field'!$I$8","v":4.0093554695434174E-5},{"$f":"'Calcs-SI'!O33/'Calcs-Field'!$I$8","v":8.7312307202585236E-5}]
[{"$f":"'Calcs-SI'!A34*$I$8","v":9427.450499999999},{"$f":"'Calcs-SI'!B34","v":14.212179800282213},{"$f":"'Calcs-SI'!C34","v":1.3754521485390754},{"$f":"'Calcs-SI'!D34*'Calcs-Field'!$I$11","v":2.7867563955154039E-3},{"$f":"'Calcs-SI'!E34/'Calcs-Field'!$I$11","v":358.84012022337259},{"$f":"'Calcs-SI'!F34*'Calcs-Field'!$I$9","v":19.180644050520371},{"$f":"'Calcs-SI'!G34","v":3.972414224548073E-2},{"$f":"'Calcs-SI'!H34","v":5.4638656800418323E-2},{"$f":"'Calcs-SI'!I34*'Calcs-Field'!$I$8","v":6854.0737749497757},{"$f":"'Calcs-SI'!J34*'Calcs-Field'!$I$8","v":172541.7689976563},{"$f":"'Calcs-SI'!K34","v":9033.3006564590214},{"$f":"'Calcs-SI'!L34*'Calcs-Field'!$I$8^2","v":125538836.91059212},{"$f":"'Calcs-SI'!M34*'Calcs-Field'!$I$8^2","v":2863753876.4441719},{"$f":"'Calcs-SI'!N34/'Calcs-Field'!$I$8","v":4.2625220136079781E-5},{"$f":"'Calcs-SI'!O34/'Calcs-Field'!$I$8","v":8.7269683221331772E-5}]
[{"$f":"'Calcs-SI'!A35*$I$8","v":9064.8562499999989},{"$f":"'Calcs-SI'!B35","v":13.665557500271358},{"$f":"'Calcs-SI'!C35","v":1.3438253636709772},{"$f":"'Calcs-SI'!D35*'Calcs-Field'!$I$11","v":2.8315855901415977E-3},{"$f":"'Calcs-SI'!E35/'Calcs-Field'!$I$11","v":353.15902280389605},{"$f":"'Calcs-SI'!F35*'Calcs-Field'!$I$9","v":18.876979267018793},{"$f":"'Calcs-SI'!G35","v":3.883851909522245E-2},{"$f":"'Calcs-SI'!H35","v":5.2192187047579497E-2},{"$f":"'Calcs-SI'!I35*'Calcs-Field'!$I$8","v":6745.561212832893},{"$f":"'Calcs-SI'!J35*'Calcs-Field'!$I$8","v":173682.24561535017},{"$f":"'Calcs-SI'!K35","v":9093.0094924072},{"$f":"'Calcs-SI'!L35*'Calcs-Field'!$I$8^2","v":126364410.26365535},{"$f":"'Calcs-SI'!M35*'Calcs-Field'!$I$8^2","v":2738215039.5335793},{"$f":"'Calcs-SI'!N35/'Calcs-Field'!$I$8","v":4.545179289309206E-5},{"$f":"'Calcs-SI'!O35/'Calcs-Field'!$I$8","v":8.7166362081297601E-5}]
[{"$f":"'Calcs-SI'!A36*$I$8","v":8702.2619999999988},{"$f":"'Calcs-SI'!B36","v":13.118935200260504},{"$f":"'Calcs-SI'!C36","v":1.3122491463892645},{"$f":"'Calcs-SI'!D36*'Calcs-Field'!$I$11","v":2.8802615420089927E-3},{"$f":"'Calcs-SI'!E36/'Calcs-Field'!$I$11","v":347.19069272525036},{"$f":"'Calcs-SI'!F36*'Calcs-Field'!$I$9","v":18.557961385898768},{"$f":"'Calcs-SI'!G36","v":3.7933958616288156E-2},{"$f":"'Calcs-SI'!H36","v":4.9778804813389817E-2},{"$f":"'Calcs-SI'!I36*'Calcs-Field'!$I$8","v":6631.5623248411457},{"$f":"'Calcs-SI'!J36*'Calcs-Field'!$I$8","v":174818.62074878928},{"$f":"'Calcs-SI'!K36","v":9152.5035980867287},{"$f":"'Calcs-SI'!L36*'Calcs-Field'!$I$8^2","v":127184185.60897982},{"$f":"'Calcs-SI'!M36*'Calcs-Field'!$I$8^2","v":2611850629.2699242},{"$f":"'Calcs-SI'!N36/'Calcs-Field'!$I$8","v":4.8623320955080166E-5},{"$f":"'Calcs-SI'!O36/'Calcs-Field'!$I$8","v":8.6988117351761556E-5}]
[{"$f":"'Calcs-SI'!A37*$I$8","v":8339.6677500000005},{"$f":"'Calcs-SI'!B37","v":12.572312900249651},{"$f":"'Calcs-SI'!C37","v":1.2807537747324944},{"$f":"'Calcs-SI'!D37*'Calcs-Field'!$I$11","v":2.9333553489171316E-3},{"$f":"'Calcs-SI'!E37/'Calcs-Field'!$I$11","v":340.90653229897868},{"$f":"'Calcs-SI'!F37*'Calcs-Field'!$I$9","v":18.222061809737511},{"$f":"'Calcs-SI'!G37","v":3.7009297990065082E-2},{"$f":"'Calcs-SI'!H37","v":4.7399798100975575E-2},{"$f":"'Calcs-SI'!I37*'Calcs-Field'!$I$8","v":6511.530876996143},{"$f":"'Calcs-SI'!J37*'Calcs-Field'!$I$8","v":175943.10701986629},{"$f":"'Calcs-SI'!K37","v":9211.37527089795},{"$f":"'Calcs-SI'!L37*'Calcs-Field'!$I$8^2","v":127991630.53120589},{"$f":"'Calcs-SI'!M37*'Calcs-Field'!$I$8^2","v":2484666443.660944},{"$f":"'Calcs-SI'!N37/'Calcs-Field'!$I$8","v":5.2200985658991629E-5},{"$f":"'Calcs-SI'!O37/'Calcs-Field'!$I$8","v":8.6717107550902202E-5}]
[{"$f":"'Calcs-SI'!A38*$I$8","v":7977.0734999999995},{"$f":"'Calcs-SI'!B38","v":12.025690600238796},{"$f":"'Calcs-SI'!C38","v":1.2493767957146971},{"$f":"'Calcs-SI'!D38*'Calcs-Field'!$I$11","v":2.9915593497639062E-3},{"$f":"'Calcs-SI'!E38/'Calcs-Field'!$I$11","v":334.27382949260891},{"$f":"'Calcs-SI'!F38*'Calcs-Field'!$I$9","v":17.867532022090927},{"$f":"'Calcs-SI'!G38","v":3.6063288324249071E-2},{"$f":"'Calcs-SI'!H38","v":4.505663560948555E-2},{"$f":"'Calcs-SI'!I38*'Calcs-Field'!$I$8","v":6384.8420487406056},{"$f":"'Calcs-SI'!J38*'Calcs-Field'!$I$8","v":177045.47603462485},{"$f":"'Calcs-SI'!K38","v":9269.0890106058941},{"$f":"'Calcs-SI'!L38*'Calcs-Field'!$I$8^2","v":128778159.71439783},{"$f":"'Calcs-SI'!M38*'Calcs-Field'!$I$8^2","v":2356674813.1297379},{"$f":"'Calcs-SI'!N38/'Calcs-Field'!$I$8","v":5.6260142581797436E-5},{"$f":"'Calcs-SI'!O38/'Calcs-Field'!$I$8","v":8.6330829063069249E-5}]
[{"$f":"'Calcs-SI'!A39*$I$8","v":7614.4792499999994},{"$f":"'Calcs-SI'!B39","v":11.479068300227942},{"$f":"'Calcs-SI'!C39","v":1.2181650021136534},{"$f":"'Calcs-SI'!D39*'Calcs-Field'!$I$11","v":3.0557209501725527E-3},{"$f":"'Calcs-SI'!E39/'Calcs-Field'!$I$11","v":327.25501323788461},{"$f":"'Calcs-SI'!F39*'Calcs-Field'!$I$9","v":17.492363782391116},{"$f":"'Calcs-SI'!G39","v":3.5094594567091894E-2},{"$f":"'Calcs-SI'!H39","v":4.2751006864999309E-2},{"$f":"'Calcs-SI'!I39*'Calcs-Field'!$I$8","v":6250.7782088534977},{"$f":"'Calcs-SI'!J39*'Calcs-Field'!$I$8","v":178112.27871299686},{"$f":"'Calcs-SI'!K39","v":9324.9407002624484},{"$f":"'Calcs-SI'!L39*'Calcs-Field'!$I$8^2","v":129532466.85923439},{"$f":"'Calcs-SI'!M39*'Calcs-Field'!$I$8^2","v":2227896653.4153399},{"$f":"'Calcs-SI'!N39/'Calcs-Field'!$I$8","v":6.0894342456285297E-5},{"$f":"'Calcs-SI'!O39/'Calcs-Field'!$I$8","v":8.5800723526645875E-5}]
[{"$f":"'Calcs-SI'!A40*$I$8","v":7251.8849999999993},{"$f":"'Calcs-SI'!B40","v":10.932446000217087},{"$f":"'Calcs-SI'!C40","v":1.1871768536970697},{"$f":"'Calcs-SI'!D40*'Calcs-Field'!$I$11","v":3.1268877664052223E-3},{"$f":"'Calcs-SI'!E40/'Calcs-Field'!$I$11","v":319.80680942368275},{"$f":"'Calcs-SI'!F40*'Calcs-Field'!$I$9","v":17.094244012263388},{"$f":"'Calcs-SI'!G40","v":3.4101806623224332E-2},{"$f":"'Calcs-SI'!H40","v":4.0484875492345355E-2},{"$f":"'Calcs-SI'!I40*'Calcs-Field'!$I$8","v":6108.5127943797097},{"$f":"'Calcs-SI'!J40*'Calcs-Field'!$I$8","v":179125.7824510574},{"$f":"'Calcs-SI'!K40","v":9378.0019620979529},{"$f":"'Calcs-SI'!L40*'Calcs-Field'!$I$8^2","v":130239617.05979824},{"$f":"'Calcs-SI'!M40*'Calcs-Field'!$I$8^2","v":2098364186.5561054},{"$f":"'Calcs-SI'!N40/'Calcs-Field'!$I$8","v":6.6220642472071122E-5},{"$f":"'Calcs-SI'!O40/'Calcs-Field'!$I$8","v":8.5090354012953379E-5}]
[{"$f":"'Calcs-SI'!A41*$I$8","v":6889.2907500000001},{"$f":"'Calcs-SI'!B41","v":10.385823700206233},{"$f":"'Calcs-SI'!C41","v":1.1564858421891449},{"$f":"'Calcs-SI'!D41*'Calcs-Field'!$I$11","v":3.2063696417798278E-3},{"$f":"'Calcs-SI'!E41/'Calcs-Field'!$I$11","v":311.8792003796882},{"$f":"'Calcs-SI'!F41*'Calcs-Field'!$I$9","v":16.670499178074021},{"$f":"'Calcs-SI'!G41","v":3.3083453892007932E-2},{"$f":"'Calcs-SI'!H41","v":3.8260546036824536E-2},{"$f":"'Calcs-SI'!I41*'Calcs-Field'!$I$8","v":5957.0904361086386},{"$f":"'Calcs-SI'!J41*'Calcs-Field'!$I$8","v":180062.53082141798},{"$f":"'Calcs-SI'!K41","v":9427.044751667534},{"$f":"'Calcs-SI'!L41*'Calcs-Field'!$I$8^2","v":130879806.10490288},{"$f":"'Calcs-SI'!M41*'Calcs-Field'!$I$8^2","v":1968124569.4963071},{"$f":"'Calcs-SI'!N41/'Calcs-Field'!$I$8","v":7.2386726945973816E-5},{"$f":"'Calcs-SI'!O41/'Calcs-Field'!$I$8","v":8.4152959738478702E-5}]
[{"$f":"'Calcs-SI'!A42*$I$8","v":6526.6965},{"$f":"'Calcs-SI'!B42","v":9.8392014001953783},{"$f":"'Calcs-SI'!C42","v":1.1261847504484206},{"$f":"'Calcs-SI'!D42*'Calcs-Field'!$I$11","v":3.2958239521703038E-3},{"$f":"'Calcs-SI'!E42/'Calcs-Field'!$I$11","v":303.41426438796856},{"$f":"'Calcs-SI'!F42*'Calcs-Field'!$I$9","v":16.218033260755348},{"$f":"'Calcs-SI'!G42","v":3.2038040533132611E-2},{"$f":"'Calcs-SI'!H42","v":3.6080752682662337E-2},{"$f":"'Calcs-SI'!I42*'Calcs-Field'!$I$8","v":5795.4047925095956},{"$f":"'Calcs-SI'!J42*'Calcs-Field'!$I$8","v":180891.36214545305},{"$f":"'Calcs-SI'!K42","v":9470.4376216200926},{"$f":"'Calcs-SI'!L42*'Calcs-Field'!$I$8^2","v":131426653.97420983},{"$f":"'Calcs-SI'!M42*'Calcs-Field'!$I$8^2","v":1837244763.3914042},{"$f":"'Calcs-SI'!N42/'Calcs-Field'!$I$8","v":7.9580414741288954E-5},{"$f":"'Calcs-SI'!O42/'Calcs-Field'!$I$8","v":8.2928251407157465E-5}]
[{"$f":"'Calcs-SI'!A43*$I$8","v":6164.1022499999999},{"$f":"'Calcs-SI'!B43","v":9.2925791001845237},{"$f":"'Calcs-SI'!C43","v":1.0963912901086272},{"$f":"'Calcs-SI'!D43*'Calcs-Field'!$I$11","v":3.3973752907581916E-3},{"$f":"'Calcs-SI'!E43/'Calcs-Field'!$I$11","v":294.34487344400219},{"$f":"'Calcs-SI'!F43*'Calcs-Field'!$I$9","v":15.733258148811492},{"$f":"'Calcs-SI'!G43","v":3.0964104641360343E-2},{"$f":"'Calcs-SI'!H43","v":3.3948774634799596E-2},{"$f":"'Calcs-SI'!I43*'Calcs-Field'!$I$8","v":5622.173676141917},{"$f":"'Calcs-SI'!J43*'Calcs-Field'!$I$8","v":181570.68454781317},{"$f":"'Calcs-SI'!K43","v":9506.0030591303002},{"$f":"'Calcs-SI'!L43*'Calcs-Field'!$I$8^2","v":131844854.85243873},{"$f":"'Calcs-SI'!M43*'Calcs-Field'!$I$8^2","v":1705818109.4171946},{"$f":"'Calcs-SI'!N43/'Calcs-Field'!$I$8","v":8.8042405772524341E-5},{"$f":"'Calcs-SI'!O43/'Calcs-Field'!$I$8","v":8.1338221624626026E-5}]
[{"$f":"'Calcs-SI'!A44*$I$8","v":5801.5079999999998},{"$f":"'Calcs-SI'!B44","v":8.7459568001736692},{"$f":"'Calcs-SI'!C44","v":1.0672554581299105},{"$f":"'Calcs-SI'!D44*'Calcs-Field'!$I$11","v":3.5137856938322306E-3},{"$f":"'Calcs-SI'!E44/'Calcs-Field'!$I$11","v":284.59333810690453},{"$f":"'Calcs-SI'!F44*'Calcs-Field'!$I$9","v":15.212021203147465},{"$f":"'Calcs-SI'!G44","v":2.9860317692212857E-2},{"$f":"'Calcs-SI'!H44","v":3.1868587038507305E-2},{"$f":"'Calcs-SI'!I44*'Calcs-Field'!$I$8","v":5435.91316943522},{"$f":"'Calcs-SI'!J44*'Calcs-Field'!$I$8","v":182044.71986755947},{"$f":"'Calcs-SI'!K44","v":9530.8208385580019},{"$f":"'Calcs-SI'!L44*'Calcs-Field'!$I$8^2","v":132086943.89855421},{"$f":"'Calcs-SI'!M44*'Calcs-Field'!$I$8^2","v":1573973254.5647559},{"$f":"'Calcs-SI'!N44/'Calcs-Field'!$I$8","v":9.8083295931448809E-5},{"$f":"'Calcs-SI'!O44/'Calcs-Field'!$I$8","v":7.9281798762085285E-5}]
[{"$f":"'Calcs-SI'!A45*$I$8","v":5438.9137499999997},{"$f":"'Calcs-SI'!B45","v":8.1993345001628146},{"$f":"'Calcs-SI'!C45","v":1.0389690569666743},{"$f":"'Calcs-SI'!D45*'Calcs-Field'!$I$11","v":3.6487005551987068E-3},{"$f":"'Calcs-SI'!E45/'Calcs-Field'!$I$11","v":274.07017508608357},{"$f":"'Calcs-SI'!F45*'Calcs-Field'!$I$9","v":14.649539382379148},{"$f":"'Calcs-SI'!G45","v":2.8725645789744996E-2},{"$f":"'Calcs-SI'!H45","v":2.9845057116930078E-2},{"$f":"'Calcs-SI'!I45*'Calcs-Field'!$I$8","v":5234.9140848132656},{"$f":"'Calcs-SI'!J45*'Calcs-Field'!$I$8","v":182238.34280801864},{"$f":"'Calcs-SI'!K45","v":9540.9578288376088},{"$f":"'Calcs-SI'!L45*'Calcs-Field'!$I$8^2","v":132088881.4328295},{"$f":"'Calcs-SI'!M45*'Calcs-Field'!$I$8^2","v":1441886310.6662016},{"$f":"'Calcs-SI'!N45/'Calcs-Field'!$I$8","v":1.1010606481965101E-4},{"$f":"'Calcs-SI'!O45/'Calcs-Field'!$I$8","v":7.6628308238666713E-5}]
[{"$f":"'Calcs-SI'!A46*$I$8","v":5076.3194999999996},{"$f":"'Calcs-SI'!B46","v":7.652712200151961},{"$f":"'Calcs-SI'!C46","v":1.011777736600322},{"$f":"'Calcs-SI'!D46*'Calcs-Field'!$I$11","v":3.8070094214863806E-3},{"$f":"'Calcs-SI'!E46/'Calcs-Field'!$I$11","v":262.67337148053798},{"$f":"'Calcs-SI'!F46*'Calcs-Field'!$I$9","v":14.040359915112264},{"$f":"'Calcs-SI'!G46","v":2.755960540460687E-2},{"$f":"'Calcs-SI'!H46","v":2.7884195177871138E-2},{"$f":"'Calcs-SI'!I46*'Calcs-Field'!$I$8","v":5017.2279111981252},{"$f":"'Calcs-SI'!J46*'Calcs-Field'!$I$8","v":182050.06340037961},{"$f":"'Calcs-SI'!K46","v":9531.100595389129},{"$f":"'Calcs-SI'!L46*'Calcs-Field'!$I$8^2","v":131764126.84329835},{"$f":"'Calcs-SI'!M46*'Calcs-Field'!$I$8^2","v":1309797429.2333722},{"$f":"'Calcs-SI'!N46/'Calcs-Field'!$I$8","v":1.2463519220821164E-4},{"$f":"'Calcs-SI'!O46/'Calcs-Field'!$I$8","v":7.3210137133174864E-5}]
[{"$f":"'Calcs-SI'!A47*$I$8","v":4713.7252499999995},{"$f":"'Calcs-SI'!B47","v":7.1060899001411064},{"$f":"'Calcs-SI'!C47","v":0.98599567103520547},{"$f":"'Calcs-SI'!D47*'Calcs-Field'!$I$11","v":3.995383983552374E-3},{"$f":"'Calcs-SI'!E47/'Calcs-Field'!$I$11","v":250.28883434399725},{"$f":"'Calcs-SI'!F47*'Calcs-Field'!$I$9","v":13.378384330000518},{"$f":"'Calcs-SI'!G47","v":2.6362656870513E-2},{"$f":"'Calcs-SI'!H47","v":2.5993465551312336E-2},{"$f":"'Calcs-SI'!I47*'Calcs-Field'!$I$8","v":4780.6754009893557},{"$f":"'Calcs-SI'!J47*'Calcs-Field'!$I$8","v":181342.70094516187},{"$f":"'Calcs-SI'!K47","v":9494.0671410076593},{"$f":"'Calcs-SI'!L47*'Calcs-Field'!$I$8^2","v":130995960.10315579},{"$f":"'Calcs-SI'!M47*'Calcs-Field'!$I$8^2","v":1178033302.3900738},{"$f":"'Calcs-SI'!N47/'Calcs-Field'!$I$8","v":1.4235303261421521E-4},{"$f":"'Calcs-SI'!O47/'Calcs-Field'!$I$8","v":6.8815991080301483E-5}]
[{"$f":"'Calcs-SI'!A48*$I$8","v":4351.1309999999994},{"$f":"'Calcs-SI'!B48","v":6.5594676001302519},{"$f":"'Calcs-SI'!C48","v":0.96202211155697881},{"$f":"'Calcs-SI'!D48*'Calcs-Field'!$I$11","v":4.2230933022194559E-3},{"$f":"'Calcs-SI'!E48/'Calcs-Field'!$I$11","v":236.79325282120757},{"$f":"'Calcs-SI'!F48*'Calcs-Field'!$I$9","v":12.657021442031702},{"$f":"'Calcs-SI'!G48","v":2.5136790362996063E-2},{"$f":"'Calcs-SI'!H48","v":2.4182148142774588E-2},{"$f":"'Calcs-SI'!I48*'Calcs-Field'!$I$8","v":4522.9012386814466},{"$f":"'Calcs-SI'!J48*'Calcs-Field'!$I$8","v":179931.53355567707},{"$f":"'Calcs-SI'!K48","v":9420.1864837044413},{"$f":"'Calcs-SI'!L48*'Calcs-Field'!$I$8^2","v":129628189.02997719},{"$f":"'Calcs-SI'!M48*'Calcs-Field'!$I$8^2","v":1047037342.286918},{"$f":"'Calcs-SI'!N48/'Calcs-Field'!$I$8","v":1.641425990906839E-4},{"$f":"'Calcs-SI'!O48/'Calcs-Field'!$I$8","v":6.3188213404206611E-5}]
[{"$f":"'Calcs-SI'!A49*$I$8","v":3988.5367499999998},{"$f":"'Calcs-SI'!B49","v":6.0128453001193982},{"$f":"'Calcs-SI'!C49","v":0.94035707847769123},{"$f":"'Calcs-SI'!D49*'Calcs-Field'!$I$11","v":4.5032595769115037E-3},{"$f":"'Calcs-SI'!E49/'Calcs-Field'!$I$11","v":222.06137197310659},{"$f":"'Calcs-SI'!F49*'Calcs-Field'!$I$9","v":11.869576151448783},{"$f":"'Calcs-SI'!G49","v":2.3886357782850604E-2},{"$f":"'Calcs-SI'!H49","v":2.2461705620154256E-2},{"$f":"'Calcs-SI'!I49*'Calcs-Field'!$I$8","v":4241.5129755357311},{"$f":"'Calcs-SI'!J49*'Calcs-Field'!$I$8","v":177570.52013099121},{"$f":"'Calcs-SI'!K49","v":9296.5773179759235},{"$f":"'Calcs-SI'!L49*'Calcs-Field'!$I$8^2","v":127455377.81226419},{"$f":"'Calcs-SI'!M49*'Calcs-Field'!$I$8^2","v":917409153.25694096},{"$f":"'Calcs-SI'!N49/'Calcs-Field'!$I$8","v":1.9113329491894857E-4},{"$f":"'Calcs-SI'!O49/'Calcs-Field'!$I$8","v":5.6031380886478986E-5}]
[{"$f":"'Calcs-SI'!A50*$I$8","v":3625.9424999999997},{"$f":"'Calcs-SI'!B50","v":5.4662230001085437},{"$f":"'Calcs-SI'!C50","v":0.92161022909113932},{"$f":"'Calcs-SI'!D50*'Calcs-Field'!$I$11","v":4.8548314293100862E-3},{"$f":"'Calcs-SI'!E50/'Calcs-Field'!$I$11","v":205.98037533552605},{"$f":"'Calcs-SI'!F50*'Calcs-Field'!$I$9","v":11.010018217149113},{"$f":"'Calcs-SI'!G50","v":2.2619152772573502E-2},{"$f":"'Calcs-SI'!H50","v":2.0846042568578943E-2},{"$f":"'Calcs-SI'!I50*'Calcs-Field'!$I$8","v":3934.3557455691234},{"$f":"'Calcs-SI'!J50*'Calcs-Field'!$I$8","v":173939.12960080736},{"$f":"'Calcs-SI'!K50","v":9106.458469358955},{"$f":"'Calcs-SI'!L50*'Calcs-Field'!$I$8^2","v":124215781.19206321},{"$f":"'Calcs-SI'!M50*'Calcs-Field'!$I$8^2","v":789953775.44467676},{"$f":"'Calcs-SI'!N50/'Calcs-Field'!$I$8","v":2.2474438672957052E-4},{"$f":"'Calcs-SI'!O50/'Calcs-Field'!$I$8","v":4.7044494318863422E-5}]
[{"$f":"'Calcs-SI'!A51*$I$8","v":3263.34825},{"$f":"'Calcs-SI'!B51","v":4.9196007000976891},{"$f":"'Calcs-SI'!C51","v":0.90649124532619074},{"$f":"'Calcs-SI'!D51*'Calcs-Field'!$I$11","v":5.3057645427877437E-3},{"$f":"'Calcs-SI'!E51/'Calcs-Field'!$I$11","v":188.47425134221695},{"$f":"'Calcs-SI'!F51*'Calcs-Field'!$I$9","v":10.074284685427747},{"$f":"'Calcs-SI'!G51","v":2.1347619425665473E-2},{"$f":"'Calcs-SI'!H51","v":1.9351430117921075E-2},{"$f":"'Calcs-SI'!I51*'Calcs-Field'!$I$8","v":3599.9776796804258},{"$f":"'Calcs-SI'!J51*'Calcs-Field'!$I$8","v":168636.02483714427},{"$f":"'Calcs-SI'!K51","v":8828.8182201534455},{"$f":"'Calcs-SI'!L51*'Calcs-Field'!$I$8^2","v":119593402.5243279},{"$f":"'Calcs-SI'!M51*'Calcs-Field'!$I$8^2","v":665737994.25261354},{"$f":"'Calcs-SI'!N51/'Calcs-Field'!$I$8","v":2.6672808072266454E-4},{"$f":"'Calcs-SI'!O51/'Calcs-Field'!$I$8","v":3.5992829977583741E-5}]
[{"$f":"'Calcs-SI'!A52*$I$8","v":2900.7539999999999},{"$f":"'Calcs-SI'!B52","v":4.3729784000868346},{"$f":"'Calcs-SI'!C52","v":0.89576541380945252},{"$f":"'Calcs-SI'!D52*'Calcs-Field'!$I$11","v":5.8983585834053104E-3},{"$f":"'Calcs-SI'!E52/'Calcs-Field'!$I$11","v":169.53869213944401},{"$f":"'Calcs-SI'!F52*'Calcs-Field'!$I$9","v":9.06214529382388},{"$f":"'Calcs-SI'!G52","v":2.0089802760586254E-2},{"$f":"'Calcs-SI'!H52","v":1.7995750483186829E-2},{"$f":"'Calcs-SI'!I52*'Calcs-Field'!$I$8","v":3238.2964951324288},{"$f":"'Calcs-SI'!J52*'Calcs-Field'!$I$8","v":161191.05467205343},{"$f":"'Calcs-SI'!K52","v":8439.0421429153248},{"$f":"'Calcs-SI'!L52*'Calcs-Field'!$I$8^2","v":113238728.4864475},{"$f":"'Calcs-SI'!M52*'Calcs-Field'!$I$8^2","v":546144591.72828567},{"$f":"'Calcs-SI'!N52/'Calcs-Field'!$I$8","v":3.1925371350183333E-4},{"$f":"'Calcs-SI'!O52/'Calcs-Field'!$I$8","v":2.2827901538916989E-5}]
[{"$f":"'Calcs-SI'!A53*$I$8","v":2538.1597499999998},{"$f":"'Calcs-SI'!B53","v":3.8263561000759805},{"$f":"'Calcs-SI'!C53","v":0.89015994186793923},{"$f":"'Calcs-SI'!D53*'Calcs-Field'!$I$11","v":6.6987978935134345E-3},{"$f":"'Calcs-SI'!E53/'Calcs-Field'!$I$11","v":149.2805150858959},{"$f":"'Calcs-SI'!F53*'Calcs-Field'!$I$9","v":7.9793096205590031},{"$f":"'Calcs-SI'!G53","v":1.8869327321125489E-2},{"$f":"'Calcs-SI'!H53","v":1.6796719311260182E-2},{"$f":"'Calcs-SI'!I53*'Calcs-Field'!$I$8","v":2851.3524711905666},{"$f":"'Calcs-SI'!J53*'Calcs-Field'!$I$8","v":151110.4462106757},{"$f":"'Calcs-SI'!K53","v":7911.2791116176286},{"$f":"'Calcs-SI'!L53*'Calcs-Field'!$I$8^2","v":104816666.11264454},{"$f":"'Calcs-SI'!M53*'Calcs-Field'!$I$8^2","v":432905863.24183816},{"$f":"'Calcs-SI'!N53/'Calcs-Field'!$I$8","v":3.8518947512208856E-4},{"$f":"'Calcs-SI'!O53/'Calcs-Field'!$I$8","v":7.8305219530315564E-6}]
[{"$f":"'Calcs-SI'!A54*$I$8","v":2175.5654999999997},{"$f":"'Calcs-SI'!B54","v":3.2797338000651259},{"$f":"'Calcs-SI'!C54","v":0.89022587044976376},{"$f":"'Calcs-SI'!D54*'Calcs-Field'!$I$11","v":7.8158430368597907E-3},{"$f":"'Calcs-SI'!E54/'Calcs-Field'!$I$11","v":127.94525111161583},{"$f":"'Calcs-SI'!F54*'Calcs-Field'!$I$9","v":6.8389017314973755},{"$f":"'Calcs-SI'!G54","v":1.7713596473704251E-2},{"$f":"'Calcs-SI'!H54","v":1.5769101839599231E-2},{"$f":"'Calcs-SI'!I54*'Calcs-Field'!$I$8","v":2443.8354042675164},{"$f":"'Calcs-SI'!J54*'Calcs-Field'!$I$8","v":137963.81823958666},{"$f":"'Calcs-SI'!K54","v":7222.9968262825651},{"$f":"'Calcs-SI'!L54*'Calcs-Field'!$I$8^2","v":94079600.73070313},{"$f":"'Calcs-SI'!M54*'Calcs-Field'!$I$8^2","v":328089197.12919366},{"$f":"'Calcs-SI'!N54/'Calcs-Field'!$I$8","v":4.6898087575908447E-4},{"$f":"'Calcs-SI'!O54/'Calcs-Field'!$I$8","v":-8.3060477091886757E-6}]
[{"$f":"'Calcs-SI'!A55*$I$8","v":1812.9712499999998},{"$f":"'Calcs-SI'!B55","v":2.7331115000542718},{"$f":"'Calcs-SI'!C55","v":0.89619809844731413},{"$f":"'Calcs-SI'!D55*'Calcs-Field'!$I$11","v":9.4419323004273862E-3},{"$f":"'Calcs-SI'!E55/'Calcs-Field'!$I$11","v":105.91052426363355},{"$f":"'Calcs-SI'!F55*'Calcs-Field'!$I$9","v":5.6611063050592563},{"$f":"'Calcs-SI'!G55","v":1.6650045716520158E-2},{"$f":"'Calcs-SI'!H55","v":1.4921739310206213E-2},{"$f":"'Calcs-SI'!I55*'Calcs-Field'!$I$8","v":2022.9581530478793},{"$f":"'Calcs-SI'!J55*'Calcs-Field'!$I$8","v":121498.65456769901},{"$f":"'Calcs-SI'!K55","v":6360.9749827022542},{"$f":"'Calcs-SI'!L55*'Calcs-Field'!$I$8^2","v":80944524.571812019},{"$f":"'Calcs-SI'!M55*'Calcs-Field'!$I$8^2","v":234009596.39849055},{"$f":"'Calcs-SI'!N55/'Calcs-Field'!$I$8","v":5.7898788697272963E-4},{"$f":"'Calcs-SI'!O55/'Calcs-Field'!$I$8","v":-2.4562244703354645E-5}]
[{"$f":"'Calcs-SI'!A56*$I$8","v":1450.377},{"$f":"'Calcs-SI'!B56","v":2.1864892000434173},{"$f":"'Calcs-SI'!C56","v":0.90792199544358432},{"$f":"'Calcs-SI'!D56*'Calcs-Field'!$I$11","v":1.1956812380403676E-2},{"$f":"'Calcs-SI'!E56/'Calcs-Field'!$I$11","v":83.634330638065833},{"$f":"'Calcs-SI'!F56*'Calcs-Field'!$I$9","v":4.4704040489500025},{"$f":"'Calcs-SI'!G56","v":1.5701706267302318E-2},{"$f":"'Calcs-SI'!H56","v":1.4255924486078155E-2},{"$f":"'Calcs-SI'!I56*'Calcs-Field'!$I$8","v":1597.4687333038869},{"$f":"'Calcs-SI'!J56*'Calcs-Field'!$I$8","v":101738.54395878628},{"$f":"'Calcs-SI'!K56","v":5326.4485536981638},{"$f":"'Calcs-SI'!L56*'Calcs-Field'!$I$8^2","v":65540754.460395597},{"$f":"'Calcs-SI'!M56*'Calcs-Field'!$I$8^2","v":153065071.82667851},{"$f":"'Calcs-SI'!N56/'Calcs-Field'!$I$8","v":7.3338576745608699E-4},{"$f":"'Calcs-SI'!O56/'Calcs-Field'!$I$8","v":-3.9866726601867135E-5}]
[{"$f":"'Calcs-SI'!A57*$I$8","v":1087.7827499999999},{"$f":"'Calcs-SI'!B57","v":1.639866900032563},{"$f":"'Calcs-SI'!C57","v":0.92489486787385833},{"$f":"'Calcs-SI'!D57*'Calcs-Field'!$I$11","v":1.6240447178303346E-2},{"$f":"'Calcs-SI'!E57/'Calcs-Field'!$I$11","v":61.574659184013363},{"$f":"'Calcs-SI'!F57*'Calcs-Field'!$I$9","v":3.2912752888542265},{"$f":"'Calcs-SI'!G57","v":1.4884415460001247E-2},{"$f":"'Calcs-SI'!H57","v":1.3766519470257468E-2},{"$f":"'Calcs-SI'!I57*'Calcs-Field'!$I$8","v":1176.1150242952338},{"$f":"'Calcs-SI'!J57*'Calcs-Field'!$I$8","v":79016.540989184083},{"$f":"'Calcs-SI'!K57","v":4136.8543729165831},{"$f":"'Calcs-SI'!L57*'Calcs-Field'!$I$8^2","v":48206573.30530978},{"$f":"'Calcs-SI'!M57*'Calcs-Field'!$I$8^2","v":87524317.36628291},{"$f":"'Calcs-SI'!N57/'Calcs-Field'!$I$8","v":9.7705382934399568E-4},{"$f":"'Calcs-SI'!O57/'Calcs-Field'!$I$8","v":-5.3415099785403582E-5}]
[{"$f":"'Calcs-SI'!A58*$I$8","v":725.18849999999998},{"$f":"'Calcs-SI'!B58","v":1.0932446000217086},{"$f":"'Calcs-SI'!C58","v":0.94639976829882033},{"$f":"'Calcs-SI'!D58*'Calcs-Field'!$I$11","v":2.4927085197176822E-2},{"$f":"'Calcs-SI'!E58/'Calcs-Field'!$I$11","v":40.117004940202854},{"$f":"'Calcs-SI'!F58*'Calcs-Field'!$I$9","v":2.1443254217282464},{"$f":"'Calcs-SI'!G58","v":1.4207752622381156E-2},{"$f":"'Calcs-SI'!H58","v":1.3446213789868483E-2},{"$f":"'Calcs-SI'!I58*'Calcs-Field'!$I$8","v":766.26022563757203},{"$f":"'Calcs-SI'!J58*'Calcs-Field'!$I$8","v":53932.542746450927},{"$f":"'Calcs-SI'!K58","v":2823.5996224348269},{"$f":"'Calcs-SI'!L58*'Calcs-Field'!$I$8^2","v":29445321.449594051},{"$f":"'Calcs-SI'!M58*'Calcs-Field'!$I$8^2","v":39317744.06097313},{"$f":"'Calcs-SI'!N58/'Calcs-Field'!$I$8","v":1.4474651749087457E-3},{"$f":"'Calcs-SI'!O58/'Calcs-Field'!$I$8","v":-6.484102571416906E-5}]
[{"$f":"'Calcs-SI'!A59*$I$8","v":362.59424999999999},{"$f":"'Calcs-SI'!B59","v":0.54662230001085432},{"$f":"'Calcs-SI'!C59","v":0.97166503416019046},{"$f":"'Calcs-SI'!D59*'Calcs-Field'!$I$11","v":5.1185086685230946E-2},{"$f":"'Calcs-SI'!E59/'Calcs-Field'!$I$11","v":19.536940635650854},{"$f":"'Calcs-SI'!F59*'Calcs-Field'!$I$9","v":1.0442843011403011},{"$f":"'Calcs-SI'!G59","v":1.3681776880948441E-2},{"$f":"'Calcs-SI'!H59","v":1.329410420039887E-2},{"$f":"'Calcs-SI'!I59*'Calcs-Field'!$I$8","v":373.16795114829876},{"$f":"'Calcs-SI'!J59*'Calcs-Field'!$I$8","v":27274.816304593194},{"$f":"'Calcs-SI'!K59","v":1427.9534599672936},{"$f":"'Calcs-SI'!L59*'Calcs-Field'!$I$8^2","v":9872422.6113790832},{"$f":"'Calcs-SI'!M59*'Calcs-Field'!$I$8^2","v":9872422.6113790832},{"$f":"'Calcs-SI'!N59/'Calcs-Field'!$I$8","v":2.8342612466995525E-3},{"$f":"'Calcs-SI'!O59/'Calcs-Field'!$I$8","v":-7.4194021662075265E-5}]
[{"$f":"'Calcs-SI'!A60*$I$8","v":14.503769999999999},{"$f":"'Calcs-SI'!B60","v":2.1864892000434174E-2},{"$f":"'Calcs-SI'!C60","v":0.99881448478828172},{"$f":"'Calcs-SI'!D60*'Calcs-Field'!$I$11","v":1.3153814377641795},{"$f":"'Calcs-SI'!E60/'Calcs-Field'!$I$11","v":0.76023575465664983},{"$f":"'Calcs-SI'!F60*'Calcs-Field'!$I$9","v":4.0635956189823408E-2},{"$f":"'Calcs-SI'!G60","v":1.3360736399268467E-2},{"$f":"'Calcs-SI'!H60","v":1.3344897043027376E-2},{"$f":"'Calcs-SI'!I60*'Calcs-Field'!$I$8","v":14.52098484842694},{"$f":"'Calcs-SI'!J60*'Calcs-Field'!$I$8","v":1086.8401571953773},{"$f":"'Calcs-SI'!K60","v":56.900737499639206},{"$f":"'Calcs-SI'!L60*'Calcs-Field'!$I$8^2","v":0},{"$f":"'Calcs-SI'!M60*'Calcs-Field'!$I$8^2","v":0},{"$f":"'Calcs-SI'!N60/'Calcs-Field'!$I$8","v":6.9029281836033504E-2},{"$f":"'Calcs-SI'!O60/'Calcs-Field'!$I$8","v":-8.1594122394259839E-5}]
[{"$f":"'Calcs-SI'!A61*$I$8","v":14.503769999999999},{"$f":"'Calcs-SI'!B61","v":2.1864892000434174E-2},{"$f":"'Calcs-SI'!C61","v":0.99881448478828172},{"$f":"'Calcs-SI'!D61*'Calcs-Field'!$I$11","v":1.3153814377641795},{"$f":"'Calcs-SI'!E61/'Calcs-Field'!$I$11","v":0.76023575465664983},{"$f":"'Calcs-SI'!F61*'Calcs-Field'!$I$9","v":4.0635956189823408E-2},{"$f":"'Calcs-SI'!G61","v":1.3360736399268467E-2},{"$f":"'Calcs-SI'!H61","v":1.3344897043027376E-2},{"$f":"'Calcs-SI'!I61*'Calcs-Field'!$I$8","v":14.52098484842694},{"$f":"'Calcs-SI'!J61*'Calcs-Field'!$I$8","v":1086.8401571953773},{"$f":"'Calcs-SI'!K61","v":56.900737499639206},{"$f":"'Calcs-SI'!L61*'Calcs-Field'!$I$8^2","v":0},{"$f":"'Calcs-SI'!M61*'Calcs-Field'!$I$8^2","v":0},{"$f":"'Calcs-SI'!N61/'Calcs-Field'!$I$8","v":6.9029281836033504E-2},{"$f":"'Calcs-SI'!O61/'Calcs-Field'!$I$8","v":-8.1594122394259839E-5}]
[{"$f":"'Calcs-SI'!A62*$I$8","v":14.503769999999999},{"$f":"'Calcs-SI'!B62","v":2.1864892000434174E-2},{"$f":"'Calcs-SI'!C62","v":0.99881448478828172},{"$f":"'Calcs-SI'!D62*'Calcs-Field'!$I$11","v":1.3153814377641795},{"$f":"'Calcs-SI'!E62/'Calcs-Field'!$I$11","v":0.76023575465664983},{"$f":"'Calcs-SI'!F62*'Calcs-Field'!$I$9","v":4.0635956189823408E-2},{"$f":"'Calcs-SI'!G62","v":1.3360736399268467E-2},{"$f":"'Calcs-SI'!H62","v":1.3344897043027376E-2},{"$f":"'Calcs-SI'!I62*'Calcs-Field'!$I$8","v":14.52098484842694},{"$f":"'Calcs-SI'!J62*'Calcs-Field'!$I$8","v":1086.8401571953773},{"$f":"'Calcs-SI'!K62","v":56.900737499639206},{"$f":"'Calcs-SI'!L62*'Calcs-Field'!$I$8^2","v":0},{"$f":"'Calcs-SI'!M62*'Calcs-Field'!$I$8^2","v":0},{"$f":"'Calcs-SI'!N62/'Calcs-Field'!$I$8","v":6.9029281836033504E-2},{"$f":"'Calcs-SI'!O62/'Calcs-Field'!$I$8","v":-8.1594122394259839E-5}]
[{"$f":"'Calcs-SI'!A63*$I$8","v":14.503769999999999},{"$f":"'Calcs-SI'!B63","v":2.1864892000434174E-2},{"$f":"'Calcs-SI'!C63","v":0.99881448478828172},{"$f":"'Calcs-SI'!D63*'Calcs-Field'!$I$11","v":1.3153814377641795},{"$f":"'Calcs-SI'!E63/'Calcs-Field'!$I$11","v":0.76023575465664983},{"$f":"'Calcs-SI'!F63*'Calcs-Field'!$I$9","v":4.0635956189823408E-2},{"$f":"'Calcs-SI'!G63","v":1.3360736399268467E-2},{"$f":"'Calcs-SI'!H63","v":1.3344897043027376E-2},{"$f":"'Calcs-SI'!I63*'Calcs-Field'!$I$8","v":14.52098484842694},{"$f":"'Calcs-SI'!J63*'Calcs-Field'!$I$8","v":1086.8401571953773},{"$f":"'Calcs-SI'!K63","v":56.900737499639206},{"$f":"'Calcs-SI'!L63*'Calcs-Field'!$I$8^2","v":0},{"$f":"'Calcs-SI'!M63*'Calcs-Field'!$I$8^2","v":0},{"$f":"'Calcs-SI'!N63/'Calcs-Field'!$I$8","v":6.9029281836033504E-2},{"$f":"'Calcs-SI'!O63/'Calcs-Field'!$I$8","v":-8.1594122394259839E-5}]
[{"$f":"'Calcs-SI'!A64*$I$8","v":14.503769999999999},{"$f":"'Calcs-SI'!B64","v":2.1864892000434174E-2},{"$f":"'Calcs-SI'!C64","v":0.99881448478828172},{"$f":"'Calcs-SI'!D64*'Calcs-Field'!$I$11","v":1.3153814377641795},{"$f":"'Calcs-SI'!E64/'Calcs-Field'!$I$11","v":0.76023575465664983},{"$f":"'Calcs-SI'!F64*'Calcs-Field'!$I$9","v":4.0635956189823408E-2},{"$f":"'Calcs-SI'!G64","v":1.3360736399268467E-2},{"$f":"'Calcs-SI'!H64","v":1.3344897043027376E-2},{"$f":"'Calcs-SI'!I64*'Calcs-Field'!$I$8","v":14.52098484842694},{"$f":"'Calcs-SI'!J64*'Calcs-Field'!$I$8","v":1086.8401571953773},{"$f":"'Calcs-SI'!K64","v":56.900737499639206},{"$f":"'Calcs-SI'!L64*'Calcs-Field'!$I$8^2","v":0},{"$f":"'Calcs-SI'!M64*'Calcs-Field'!$I$8^2","v":0},{"$f":"'Calcs-SI'!N64/'Calcs-Field'!$I$8","v":6.9029281836033504E-2},{"$f":"'Calcs-SI'!O64/'Calcs-Field'!$I$8","v":-8.1594122394259839E-5}]
[{"$f":"'Calcs-SI'!A65*$I$8","v":14.503769999999999},{"$f":"'Calcs-SI'!B65","v":2.1864892000434174E-2},{"$f":"'Calcs-SI'!C65","v":0.99881448478828172},{"$f":"'Calcs-SI'!D65*'Calcs-Field'!$I$11","v":1.3153814377641795},{"$f":"'Calcs-SI'!E65/'Calcs-Field'!$I$11","v":0.76023575465664983},{"$f":"'Calcs-SI'!F65*'Calcs-Field'!$I$9","v":4.0635956189823408E-2},{"$f":"'Calcs-SI'!G65","v":1.3360736399268467E-2},{"$f":"'Calcs-SI'!H65","v":1.3344897043027376E-2},{"$f":"'Calcs-SI'!I65*'Calcs-Field'!$I$8","v":14.52098484842694},{"$f":"'Calcs-SI'!J65*'Calcs-Field'!$I$8","v":1086.8401571953773},{"$f":"'Calcs-SI'!K65","v":56.900737499639206},{"$f":"'Calcs-SI'!L65*'Calcs-Field'!$I$8^2","v":0},{"$f":"'Calcs-SI'!M65*'Calcs-Field'!$I$8^2","v":0},{"$f":"'Calcs-SI'!N65/'Calcs-Field'!$I$8","v":6.9029281836033504E-2},{"$f":"'Calcs-SI'!O65/'Calcs-Field'!$I$8","v":-8.1594122394259839E-5}]
[{"$f":"'Calcs-SI'!A66*$I$8","v":14.503769999999999},{"$f":"'Calcs-SI'!B66","v":2.1864892000434174E-2},{"$f":"'Calcs-SI'!C66","v":0.99881448478828172},{"$f":"'Calcs-SI'!D66*'Calcs-Field'!$I$11","v":1.3153814377641795},{"$f":"'Calcs-SI'!E66/'Calcs-Field'!$I$11","v":0.76023575465664983},{"$f":"'Calcs-SI'!F66*'Calcs-Field'!$I$9","v":4.0635956189823408E-2},{"$f":"'Calcs-SI'!G66","v":1.3360736399268467E-2},{"$f":"'Calcs-SI'!H66","v":1.3344897043027376E-2},{"$f":"'Calcs-SI'!I66*'Calcs-Field'!$I$8","v":14.52098484842694},{"$f":"'Calcs-SI'!J66*'Calcs-Field'!$I$8","v":1086.8401571953773},{"$f":"'Calcs-SI'!K66","v":56.900737499639206},{"$f":"'Calcs-SI'!L66*'Calcs-Field'!$I$8^2","v":0},{"$f":"'Calcs-SI'!M66*'Calcs-Field'!$I$8^2","v":0},{"$f":"'Calcs-SI'!N66/'Calcs-Field'!$I$8","v":6.9029281836033504E-2},{"$f":"'Calcs-SI'!O66/'Calcs-Field'!$I$8","v":-8.1594122394259839E-5}]
[{"$f":"'Calcs-SI'!A67*$I$8","v":14.503769999999999},{"$f":"'Calcs-SI'!B67","v":2.1864892000434174E-2},{"$f":"'Calcs-SI'!C67","v":0.99881448478828172},{"$f":"'Calcs-SI'!D67*'Calcs-Field'!$I$11","v":1.3153814377641795},{"$f":"'Calcs-SI'!E67/'Calcs-Field'!$I$11","v":0.76023575465664983},{"$f":"'Calcs-SI'!F67*'Calcs-Field'!$I$9","v":4.0635956189823408E-2},{"$f":"'Calcs-SI'!G67","v":1.3360736399268467E-2},{"$f":"'Calcs-SI'!H67","v":1.3344897043027376E-2},{"$f":"'Calcs-SI'!I67*'Calcs-Field'!$I$8","v":14.52098484842694},{"$f":"'Calcs-SI'!J67*'Calcs-Field'!$I$8","v":1086.8401571953773},{"$f":"'Calcs-SI'!K67","v":56.900737499639206},{"$f":"'Calcs-SI'!L67*'Calcs-Field'!$I$8^2","v":0},{"$f":"'Calcs-SI'!M67*'Calcs-Field'!$I$8^2","v":0},{"$f":"'Calcs-SI'!N67/'Calcs-Field'!$I$8","v":6.9029281836033504E-2},{"$f":"'Calcs-SI'!O67/'Calcs-Field'!$I$8","v":-8.1594122394259839E-5}]
[{"$f":"'Calcs-SI'!A68*$I$8","v":14.503769999999999},{"$f":"'Calcs-SI'!B68","v":2.1864892000434174E-2},{"$f":"'Calcs-SI'!C68","v":0.99881448478828172},{"$f":"'Calcs-SI'!D68*'Calcs-Field'!$I$11","v":1.3153814377641795},{"$f":"'Calcs-SI'!E68/'Calcs-Field'!$I$11","v":0.76023575465664983},{"$f":"'Calcs-SI'!F68*'Calcs-Field'!$I$9","v":4.0635956189823408E-2},{"$f":"'Calcs-SI'!G68","v":1.3360736399268467E-2},{"$f":"'Calcs-SI'!H68","v":1.3344897043027376E-2},{"$f":"'Calcs-SI'!I68*'Calcs-Field'!$I$8","v":14.52098484842694},{"$f":"'Calcs-SI'!J68*'Calcs-Field'!$I$8","v":1086.8401571953773},{"$f":"'Calcs-SI'!K68","v":56.900737499639206},{"$f":"'Calcs-SI'!L68*'Calcs-Field'!$I$8^2","v":0},{"$f":"'Calcs-SI'!M68*'Calcs-Field'!$I$8^2","v":0},{"$f":"'Calcs-SI'!N68/'Calcs-Field'!$I$8","v":6.9029281836033504E-2},{"$f":"'Calcs-SI'!O68/'Calcs-Field'!$I$8","v":-8.1594122394259839E-5}]
[{"$f":"'Calcs-SI'!A69*$I$8","v":14.503769999999999},{"$f":"'Calcs-SI'!B69","v":2.1864892000434174E-2},{"$f":"'Calcs-SI'!C69","v":0.99881448478828172},{"$f":"'Calcs-SI'!D69*'Calcs-Field'!$I$11","v":1.3153814377641795},{"$f":"'Calcs-SI'!E69/'Calcs-Field'!$I$11","v":0.76023575465664983},{"$f":"'Calcs-SI'!F69*'Calcs-Field'!$I$9","v":4.0635956189823408E-2},{"$f":"'Calcs-SI'!G69","v":1.3360736399268467E-2},{"$f":"'Calcs-SI'!H69","v":1.3344897043027376E-2},{"$f":"'Calcs-SI'!I69*'Calcs-Field'!$I$8","v":14.52098484842694},{"$f":"'Calcs-SI'!J69*'Calcs-Field'!$I$8","v":1086.8401571953773},{"$f":"'Calcs-SI'!K69","v":56.900737499639206},{"$f":"'Calcs-SI'!L69*'Calcs-Field'!$I$8^2","v":0},{"$f":"'Calcs-SI'!M69*'Calcs-Field'!$I$8^2","v":0},{"$f":"'Calcs-SI'!N69/'Calcs-Field'!$I$8","v":6.9029281836033504E-2},{"$f":"'Calcs-SI'!O69/'Calcs-Field'!$I$8","v":-8.1594122394259839E-5}]
[{"$f":"'Calcs-SI'!A70*$I$8","v":14.503769999999999},{"$f":"'Calcs-SI'!B70","v":2.1864892000434174E-2},{"$f":"'Calcs-SI'!C70","v":0.99881448478828172},{"$f":"'Calcs-SI'!D70*'Calcs-Field'!$I$11","v":1.3153814377641795},{"$f":"'Calcs-SI'!E70/'Calcs-Field'!$I$11","v":0.76023575465664983},{"$f":"'Calcs-SI'!F70*'Calcs-Field'!$I$9","v":4.0635956189823408E-2},{"$f":"'Calcs-SI'!G70","v":1.3360736399268467E-2},{"$f":"'Calcs-SI'!H70","v":1.3344897043027376E-2},{"$f":"'Calcs-SI'!I70*'Calcs-Field'!$I$8","v":14.52098484842694},{"$f":"'Calcs-SI'!J70*'Calcs-Field'!$I$8","v":1086.8401571953773},{"$f":"'Calcs-SI'!K70","v":56.900737499639206},{"$f":"'Calcs-SI'!L70*'Calcs-Field'!$I$8^2","v":0},{"$f":"'Calcs-SI'!M70*'Calcs-Field'!$I$8^2","v":0},{"$f":"'Calcs-SI'!N70/'Calcs-Field'!$I$8","v":6.9029281836033504E-2},{"$f":"'Calcs-SI'!O70/'Calcs-Field'!$I$8","v":-8.1594122394259839E-5}]
[{"$f":"'Calcs-SI'!A71*$I$8","v":14.503769999999999},{"$f":"'Calcs-SI'!B71","v":2.1864892000434174E-2},{"$f":"'Calcs-SI'!C71","v":0.99881448478828172},{"$f":"'Calcs-SI'!D71*'Calcs-Field'!$I$11","v":1.3153814377641795},{"$f":"'Calcs-SI'!E71/'Calcs-Field'!$I$11","v":0.76023575465664983},{"$f":"'Calcs-SI'!F71*'Calcs-Field'!$I$9","v":4.0635956189823408E-2},{"$f":"'Calcs-SI'!G71","v":1.3360736399268467E-2},{"$f":"'Calcs-SI'!H71","v":1.3344897043027376E-2},{"$f":"'Calcs-SI'!I71*'Calcs-Field'!$I$8","v":14.52098484842694},{"$f":"'Calcs-SI'!J71*'Calcs-Field'!$I$8","v":1086.8401571953773},{"$f":"'Calcs-SI'!K71","v":56.900737499639206},{"$f":"'Calcs-SI'!L71*'Calcs-Field'!$I$8^2","v":0},{"$f":"'Calcs-SI'!M71*'Calcs-Field'!$I$8^2","v":0},{"$f":"'Calcs-SI'!N71/'Calcs-Field'!$I$8","v":6.9029281836033504E-2},{"$f":"'Calcs-SI'!O71/'Calcs-Field'!$I$8","v":-8.1594122394259839E-5}]
[{"$f":"'Calcs-SI'!A72*$I$8","v":14.503769999999999},{"$f":"'Calcs-SI'!B72","v":2.1864892000434174E-2},{"$f":"'Calcs-SI'!C72","v":0.99881448478828172},{"$f":"'Calcs-SI'!D72*'Calcs-Field'!$I$11","v":1.3153814377641795},{"$f":"'Calcs-SI'!E72/'Calcs-Field'!$I$11","v":0.76023575465664983},{"$f":"'Calcs-SI'!F72*'Calcs-Field'!$I$9","v":4.0635956189823408E-2},{"$f":"'Calcs-SI'!G72","v":1.3360736399268467E-2},{"$f":"'Calcs-SI'!H72","v":1.3344897043027376E-2},{"$f":"'Calcs-SI'!I72*'Calcs-Field'!$I$8","v":14.52098484842694},{"$f":"'Calcs-SI'!J72*'Calcs-Field'!$I$8","v":1086.8401571953773},{"$f":"'Calcs-SI'!K72","v":56.900737499639206},{"$f":"'Calcs-SI'!L72*'Calcs-Field'!$I$8^2","v":0},{"$f":"'Calcs-SI'!M72*'Calcs-Field'!$I$8^2","v":0},{"$f":"'Calcs-SI'!N72/'Calcs-Field'!$I$8","v":6.9029281836033504E-2},{"$f":"'Calcs-SI'!O72/'Calcs-Field'!$I$8","v":-8.1594122394259839E-5}]
[{"$f":"'Calcs-SI'!A73*$I$8","v":14.503769999999999},{"$f":"'Calcs-SI'!B73","v":2.1864892000434174E-2},{"$f":"'Calcs-SI'!C73","v":0.99881448478828172},{"$f":"'Calcs-SI'!D73*'Calcs-Field'!$I$11","v":1.3153814377641795},{"$f":"'Calcs-SI'!E73/'Calcs-Field'!$I$11","v":0.76023575465664983},{"$f":"'Calcs-SI'!F73*'Calcs-Field'!$I$9","v":4.0635956189823408E-2},{"$f":"'Calcs-SI'!G73","v":1.3360736399268467E-2},{"$f":"'Calcs-SI'!H73","v":1.3344897043027376E-2},{"$f":"'Calcs-SI'!I73*'Calcs-Field'!$I$8","v":14.52098484842694},{"$f":"'Calcs-SI'!J73*'Calcs-Field'!$I$8","v":1086.8401571953773},{"$f":"'Calcs-SI'!K73","v":56.900737499639206},{"$f":"'Calcs-SI'!L73*'Calcs-Field'!$I$8^2","v":0},{"$f":"'Calcs-SI'!M73*'Calcs-Field'!$I$8^2","v":0},{"$f":"'Calcs-SI'!N73/'Calcs-Field'!$I$8","v":6.9029281836033504E-2},{"$f":"'Calcs-SI'!O73/'Calcs-Field'!$I$8","v":-8.1594122394259839E-5}]
[{"$f":"'Calcs-SI'!A74*$I$8","v":14.503769999999999},{"$f":"'Calcs-SI'!B74","v":2.1864892000434174E-2},{"$f":"'Calcs-SI'!C74","v":0.99881448478828172},{"$f":"'Calcs-SI'!D74*'Calcs-Field'!$I$11","v":1.3153814377641795},{"$f":"'Calcs-SI'!E74/'Calcs-Field'!$I$11","v":0.76023575465664983},{"$f":"'Calcs-SI'!F74*'Calcs-Field'!$I$9","v":4.0635956189823408E-2},{"$f":"'Calcs-SI'!G74","v":1.3360736399268467E-2},{"$f":"'Calcs-SI'!H74","v":1.3344897043027376E-2},{"$f":"'Calcs-SI'!I74*'Calcs-Field'!$I$8","v":14.52098484842694},{"$f":"'Calcs-SI'!J74*'Calcs-Field'!$I$8","v":1086.8401571953773},{"$f":"'Calcs-SI'!K74","v":56.900737499639206},{"$f":"'Calcs-SI'!L74*'Calcs-Field'!$I$8^2","v":0},{"$f":"'Calcs-SI'!M74*'Calcs-Field'!$I$8^2","v":0},{"$f":"'Calcs-SI'!N74/'Calcs-Field'!$I$8","v":6.9029281836033504E-2},{"$f":"'Calcs-SI'!O74/'Calcs-Field'!$I$8","v":-8.1594122394259839E-5}]
[{"$f":"'Calcs-SI'!A75*$I$8","v":14.503769999999999},{"$f":"'Calcs-SI'!B75","v":2.1864892000434174E-2},{"$f":"'Calcs-SI'!C75","v":0.99881448478828172},{"$f":"'Calcs-SI'!D75*'Calcs-Field'!$I$11","v":1.3153814377641795},{"$f":"'Calcs-SI'!E75/'Calcs-Field'!$I$11","v":0.76023575465664983},{"$f":"'Calcs-SI'!F75*'Calcs-Field'!$I$9","v":4.0635956189823408E-2},{"$f":"'Calcs-SI'!G75","v":1.3360736399268467E-2},{"$f":"'Calcs-SI'!H75","v":1.3344897043027376E-2},{"$f":"'Calcs-SI'!I75*'Calcs-Field'!$I$8","v":14.52098484842694},{"$f":"'Calcs-SI'!J75*'Calcs-Field'!$I$8","v":1086.8401571953773},{"$f":"'Calcs-SI'!K75","v":56.900737499639206},{"$f":"'Calcs-SI'!L75*'Calcs-Field'!$I$8^2","v":0},{"$f":"'Calcs-SI'!M75*'Calcs-Field'!$I$8^2","v":0},{"$f":"'Calcs-SI'!N75/'Calcs-Field'!$I$8","v":6.9029281836033504E-2},{"$f":"'Calcs-SI'!O75/'Calcs-Field'!$I$8","v":-8.1594122394259839E-5}]
[{"$f":"'Calcs-SI'!A76*$I$8","v":14.503769999999999},{"$f":"'Calcs-SI'!B76","v":2.1864892000434174E-2},{"$f":"'Calcs-SI'!C76","v":0.99881448478828172},{"$f":"'Calcs-SI'!D76*'Calcs-Field'!$I$11","v":1.3153814377641795},{"$f":"'Calcs-SI'!E76/'Calcs-Field'!$I$11","v":0.76023575465664983},{"$f":"'Calcs-SI'!F76*'Calcs-Field'!$I$9","v":4.0635956189823408E-2},{"$f":"'Calcs-SI'!G76","v":1.3360736399268467E-2},{"$f":"'Calcs-SI'!H76","v":1.3344897043027376E-2},{"$f":"'Calcs-SI'!I76*'Calcs-Field'!$I$8","v":14.52098484842694},{"$f":"'Calcs-SI'!J76*'Calcs-Field'!$I$8","v":1086.8401571953773},{"$f":"'Calcs-SI'!K76","v":56.900737499639206},{"$f":"'Calcs-SI'!L76*'Calcs-Field'!$I$8^2","v":0},{"$f":"'Calcs-SI'!M76*'Calcs-Field'!$I$8^2","v":0},{"$f":"'Calcs-SI'!N76/'Calcs-Field'!$I$8","v":6.9029281836033504E-2},{"$f":"'Calcs-SI'!O76/'Calcs-Field'!$I$8","v":-8.1594122394259839E-5}]
[{"$f":"'Calcs-SI'!A77*$I$8","v":14.503769999999999},{"$f":"'Calcs-SI'!B77","v":2.1864892000434174E-2},{"$f":"'Calcs-SI'!C77","v":0.99881448478828172},{"$f":"'Calcs-SI'!D77*'Calcs-Field'!$I$11","v":1.3153814377641795},{"$f":"'Calcs-SI'!E77/'Calcs-Field'!$I$11","v":0.76023575465664983},{"$f":"'Calcs-SI'!F77*'Calcs-Field'!$I$9","v":4.0635956189823408E-2},{"$f":"'Calcs-SI'!G77","v":1.3360736399268467E-2},{"$f":"'Calcs-SI'!H77","v":1.3344897043027376E-2},{"$f":"'Calcs-SI'!I77*'Calcs-Field'!$I$8","v":14.52098484842694},{"$f":"'Calcs-SI'!J77*'Calcs-Field'!$I$8","v":1086.8401571953773},{"$f":"'Calcs-SI'!K77","v":56.900737499639206},{"$f":"'Calcs-SI'!L77*'Calcs-Field'!$I$8^2","v":0},{"$f":"'Calcs-SI'!M77*'Calcs-Field'!$I$8^2","v":0},{"$f":"'Calcs-SI'!N77/'Calcs-Field'!$I$8","v":6.9029281836033504E-2},{"$f":"'Calcs-SI'!O77/'Calcs-Field'!$I$8","v":-8.1594122394259839E-5}]
[{"$f":"'Calcs-SI'!A78*$I$8","v":14.503769999999999},{"$f":"'Calcs-SI'!B78","v":2.1864892000434174E-2},{"$f":"'Calcs-SI'!C78","v":0.99881448478828172},{"$f":"'Calcs-SI'!D78*'Calcs-Field'!$I$11","v":1.3153814377641795},{"$f":"'Calcs-SI'!E78/'Calcs-Field'!$I$11","v":0.76023575465664983},{"$f":"'Calcs-SI'!F78*'Calcs-Field'!$I$9","v":4.0635956189823408E-2},{"$f":"'Calcs-SI'!G78","v":1.3360736399268467E-2},{"$f":"'Calcs-SI'!H78","v":1.3344897043027376E-2},{"$f":"'Calcs-SI'!I78*'Calcs-Field'!$I$8","v":14.52098484842694},{"$f":"'Calcs-SI'!J78*'Calcs-Field'!$I$8","v":1086.8401571953773},{"$f":"'Calcs-SI'!K78","v":56.900737499639206},{"$f":"'Calcs-SI'!L78*'Calcs-Field'!$I$8^2","v":0},{"$f":"'Calcs-SI'!M78*'Calcs-Field'!$I$8^2","v":0},{"$f":"'Calcs-SI'!N78/'Calcs-Field'!$I$8","v":6.9029281836033504E-2},{"$f":"'Calcs-SI'!O78/'Calcs-Field'!$I$8","v":-8.1594122394259839E-5}]
[{"$f":"'Calcs-SI'!A79*$I$8","v":14.503769999999999},{"$f":"'Calcs-SI'!B79","v":2.1864892000434174E-2},{"$f":"'Calcs-SI'!C79","v":0.99881448478828172},{"$f":"'Calcs-SI'!D79*'Calcs-Field'!$I$11","v":1.3153814377641795},{"$f":"'Calcs-SI'!E79/'Calcs-Field'!$I$11","v":0.76023575465664983},{"$f":"'Calcs-SI'!F79*'Calcs-Field'!$I$9","v":4.0635956189823408E-2},{"$f":"'Calcs-SI'!G79","v":1.3360736399268467E-2},{"$f":"'Calcs-SI'!H79","v":1.3344897043027376E-2},{"$f":"'Calcs-SI'!I79*'Calcs-Field'!$I$8","v":14.52098484842694},{"$f":"'Calcs-SI'!J79*'Calcs-Field'!$I$8","v":1086.8401571953773},{"$f":"'Calcs-SI'!K79","v":56.900737499639206},{"$f":"'Calcs-SI'!L79*'Calcs-Field'!$I$8^2","v":0},{"$f":"'Calcs-SI'!M79*'Calcs-Field'!$I$8^2","v":0},{"$f":"'Calcs-SI'!N79/'Calcs-Field'!$I$8","v":6.9029281836033504E-2},{"$f":"'Calcs-SI'!O79/'Calcs-Field'!$I$8","v":-8.1594122394259839E-5}]
[{"$f":"'Calcs-SI'!A80*$I$8","v":14.503769999999999},{"$f":"'Calcs-SI'!B80","v":2.1864892000434174E-2},{"$f":"'Calcs-SI'!C80","v":0.99881448478828172},{"$f":"'Calcs-SI'!D80*'Calcs-Field'!$I$11","v":1.3153814377641795},{"$f":"'Calcs-SI'!E80/'Calcs-Field'!$I$11","v":0.76023575465664983},{"$f":"'Calcs-SI'!F80*'Calcs-Field'!$I$9","v":4.0635956189823408E-2},{"$f":"'Calcs-SI'!G80","v":1.3360736399268467E-2},{"$f":"'Calcs-SI'!H80","v":1.3344897043027376E-2},{"$f":"'Calcs-SI'!I80*'Calcs-Field'!$I$8","v":14.52098484842694},{"$f":"'Calcs-SI'!J80*'Calcs-Field'!$I$8","v":1086.8401571953773},{"$f":"'Calcs-SI'!K80","v":56.900737499639206},{"$f":"'Calcs-SI'!L80*'Calcs-Field'!$I$8^2","v":0},{"$f":"'Calcs-SI'!M80*'Calcs-Field'!$I$8^2","v":0},{"$f":"'Calcs-SI'!N80/'Calcs-Field'!$I$8","v":6.9029281836033504E-2},{"$f":"'Calcs-SI'!O80/'Calcs-Field'!$I$8","v":-8.1594122394259839E-5}]
[{"$f":"'Calcs-SI'!A81*$I$8","v":14.503769999999999},{"$f":"'Calcs-SI'!B81","v":2.1864892000434174E-2},{"$f":"'Calcs-SI'!C81","v":0.99881448478828172},{"$f":"'Calcs-SI'!D81*'Calcs-Field'!$I$11","v":1.3153814377641795},{"$f":"'Calcs-SI'!E81/'Calcs-Field'!$I$11","v":0.76023575465664983},{"$f":"'Calcs-SI'!F81*'Calcs-Field'!$I$9","v":4.0635956189823408E-2},{"$f":"'Calcs-SI'!G81","v":1.3360736399268467E-2},{"$f":"'Calcs-SI'!H81","v":1.3344897043027376E-2},{"$f":"'Calcs-SI'!I81*'Calcs-Field'!$I$8","v":14.52098484842694},{"$f":"'Calcs-SI'!J81*'Calcs-Field'!$I$8","v":1086.8401571953773},{"$f":"'Calcs-SI'!K81","v":56.900737499639206},{"$f":"'Calcs-SI'!L81*'Calcs-Field'!$I$8^2","v":0},{"$f":"'Calcs-SI'!M81*'Calcs-Field'!$I$8^2","v":0},{"$f":"'Calcs-SI'!N81/'Calcs-Field'!$I$8","v":6.9029281836033504E-2},{"$f":"'Calcs-SI'!O81/'Calcs-Field'!$I$8","v":-8.1594122394259839E-5}]
[{"$f":"'Calcs-SI'!A82*$I$8","v":14.503769999999999},{"$f":"'Calcs-SI'!B82","v":2.1864892000434174E-2},{"$f":"'Calcs-SI'!C82","v":0.99881448478828172},{"$f":"'Calcs-SI'!D82*'Calcs-Field'!$I$11","v":1.3153814377641795},{"$f":"'Calcs-SI'!E82/'Calcs-Field'!$I$11","v":0.76023575465664983},{"$f":"'Calcs-SI'!F82*'Calcs-Field'!$I$9","v":4.0635956189823408E-2},{"$f":"'Calcs-SI'!G82","v":1.3360736399268467E-2},{"$f":"'Calcs-SI'!H82","v":1.3344897043027376E-2},{"$f":"'Calcs-SI'!I82*'Calcs-Field'!$I$8","v":14.52098484842694},{"$f":"'Calcs-SI'!J82*'Calcs-Field'!$I$8","v":1086.8401571953773},{"$f":"'Calcs-SI'!K82","v":56.900737499639206},{"$f":"'Calcs-SI'!L82*'Calcs-Field'!$I$8^2","v":0},{"$f":"'Calcs-SI'!M82*'Calcs-Field'!$I$8^2","v":0},{"$f":"'Calcs-SI'!N82/'Calcs-Field'!$I$8","v":6.9029281836033504E-2},{"$f":"'Calcs-SI'!O82/'Calcs-Field'!$I$8","v":-8.1594122394259839E-5}]
[{"$f":"'Calcs-SI'!A83*$I$8","v":14.503769999999999},{"$f":"'Calcs-SI'!B83","v":2.1864892000434174E-2},{"$f":"'Calcs-SI'!C83","v":0.99881448478828172},{"$f":"'Calcs-SI'!D83*'Calcs-Field'!$I$11","v":1.3153814377641795},{"$f":"'Calcs-SI'!E83/'Calcs-Field'!$I$11","v":0.76023575465664983},{"$f":"'Calcs-SI'!F83*'Calcs-Field'!$I$9","v":4.0635956189823408E-2},{"$f":"'Calcs-SI'!G83","v":1.3360736399268467E-2},{"$f":"'Calcs-SI'!H83","v":1.3344897043027376E-2},{"$f":"'Calcs-SI'!I83*'Calcs-Field'!$I$8","v":14.52098484842694},{"$f":"'Calcs-SI'!J83*'Calcs-Field'!$I$8","v":1086.8401571953773},{"$f":"'Calcs-SI'!K83","v":56.900737499639206},{"$f":"'Calcs-SI'!L83*'Calcs-Field'!$I$8^2","v":0},{"$f":"'Calcs-SI'!M83*'Calcs-Field'!$I$8^2","v":0},{"$f":"'Calcs-SI'!N83/'Calcs-Field'!$I$8","v":6.9029281836033504E-2},{"$f":"'Calcs-SI'!O83/'Calcs-Field'!$I$8","v":-8.1594122394259839E-5}]
[{"$f":"'Calcs-SI'!A84*$I$8","v":14.503769999999999},{"$f":"'Calcs-SI'!B84","v":2.1864892000434174E-2},{"$f":"'Calcs-SI'!C84","v":0.99881448478828172},{"$f":"'Calcs-SI'!D84*'Calcs-Field'!$I$11","v":1.3153814377641795},{"$f":"'Calcs-SI'!E84/'Calcs-Field'!$I$11","v":0.76023575465664983},{"$f":"'Calcs-SI'!F84*'Calcs-Field'!$I$9","v":4.0635956189823408E-2},{"$f":"'Calcs-SI'!G84","v":1.3360736399268467E-2},{"$f":"'Calcs-SI'!H84","v":1.3344897043027376E-2},{"$f":"'Calcs-SI'!I84*'Calcs-Field'!$I$8","v":14.52098484842694},{"$f":"'Calcs-SI'!J84*'Calcs-Field'!$I$8","v":1086.8401571953773},{"$f":"'Calcs-SI'!K84","v":56.900737499639206},{"$f":"'Calcs-SI'!L84*'Calcs-Field'!$I$8^2","v":0},{"$f":"'Calcs-SI'!M84*'Calcs-Field'!$I$8^2","v":0},{"$f":"'Calcs-SI'!N84/'Calcs-Field'!$I$8","v":6.9029281836033504E-2},{"$f":"'Calcs-SI'!O84/'Calcs-Field'!$I$8","v":-8.1594122394259839E-5}]
[{"$f":"'Calcs-SI'!A85*$I$8","v":14.503769999999999},{"$f":"'Calcs-SI'!B85","v":2.1864892000434174E-2},{"$f":"'Calcs-SI'!C85","v":0.99881448478828172},{"$f":"'Calcs-SI'!D85*'Calcs-Field'!$I$11","v":1.3153814377641795},{"$f":"'Calcs-SI'!E85/'Calcs-Field'!$I$11","v":0.76023575465664983},{"$f":"'Calcs-SI'!F85*'Calcs-Field'!$I$9","v":4.0635956189823408E-2},{"$f":"'Calcs-SI'!G85","v":1.3360736399268467E-2},{"$f":"'Calcs-SI'!H85","v":1.3344897043027376E-2},{"$f":"'Calcs-SI'!I85*'Calcs-Field'!$I$8","v":14.52098484842694},{"$f":"'Calcs-SI'!J85*'Calcs-Field'!$I$8","v":1086.8401571953773},{"$f":"'Calcs-SI'!K85","v":56.900737499639206},{"$f":"'Calcs-SI'!L85*'Calcs-Field'!$I$8^2","v":0},{"$f":"'Calcs-SI'!M85*'Calcs-Field'!$I$8^2","v":0},{"$f":"'Calcs-SI'!N85/'Calcs-Field'!$I$8","v":6.9029281836033504E-2},{"$f":"'Calcs-SI'!O85/'Calcs-Field'!$I$8","v":-8.1594122394259839E-5}]
[{"$f":"'Calcs-SI'!A86*$I$8","v":14.503769999999999},{"$f":"'Calcs-SI'!B86","v":2.1864892000434174E-2},{"$f":"'Calcs-SI'!C86","v":0.99881448478828172},{"$f":"'Calcs-SI'!D86*'Calcs-Field'!$I$11","v":1.3153814377641795},{"$f":"'Calcs-SI'!E86/'Calcs-Field'!$I$11","v":0.76023575465664983},{"$f":"'Calcs-SI'!F86*'Calcs-Field'!$I$9","v":4.0635956189823408E-2},{"$f":"'Calcs-SI'!G86","v":1.3360736399268467E-2},{"$f":"'Calcs-SI'!H86","v":1.3344897043027376E-2},{"$f":"'Calcs-SI'!I86*'Calcs-Field'!$I$8","v":14.52098484842694},{"$f":"'Calcs-SI'!J86*'Calcs-Field'!$I$8","v":1086.8401571953773},{"$f":"'Calcs-SI'!K86","v":56.900737499639206},{"$f":"'Calcs-SI'!L86*'Calcs-Field'!$I$8^2","v":0},{"$f":"'Calcs-SI'!M86*'Calcs-Field'!$I$8^2","v":0},{"$f":"'Calcs-SI'!N86/'Calcs-Field'!$I$8","v":6.9029281836033504E-2},{"$f":"'Calcs-SI'!O86/'Calcs-Field'!$I$8","v":-8.1594122394259839E-5}]
[{"$f":"'Calcs-SI'!A87*$I$8","v":14.503769999999999},{"$f":"'Calcs-SI'!B87","v":2.1864892000434174E-2},{"$f":"'Calcs-SI'!C87","v":0.99881448478828172},{"$f":"'Calcs-SI'!D87*'Calcs-Field'!$I$11","v":1.3153814377641795},{"$f":"'Calcs-SI'!E87/'Calcs-Field'!$I$11","v":0.76023575465664983},{"$f":"'Calcs-SI'!F87*'Calcs-Field'!$I$9","v":4.0635956189823408E-2},{"$f":"'Calcs-SI'!G87","v":1.3360736399268467E-2},{"$f":"'Calcs-SI'!H87","v":1.3344897043027376E-2},{"$f":"'Calcs-SI'!I87*'Calcs-Field'!$I$8","v":14.52098484842694},{"$f":"'Calcs-SI'!J87*'Calcs-Field'!$I$8","v":1086.8401571953773},{"$f":"'Calcs-SI'!K87","v":56.900737499639206},{"$f":"'Calcs-SI'!L87*'Calcs-Field'!$I$8^2","v":0},{"$f":"'Calcs-SI'!M87*'Calcs-Field'!$I$8^2","v":0},{"$f":"'Calcs-SI'!N87/'Calcs-Field'!$I$8","v":6.9029281836033504E-2},{"$f":"'Calcs-SI'!O87/'Calcs-Field'!$I$8","v":-8.1594122394259839E-5}]
[{"$f":"'Calcs-SI'!A88*$I$8","v":14.503769999999999},{"$f":"'Calcs-SI'!B88","v":2.1864892000434174E-2},{"$f":"'Calcs-SI'!C88","v":0.99881448478828172},{"$f":"'Calcs-SI'!D88*'Calcs-Field'!$I$11","v":1.3153814377641795},{"$f":"'Calcs-SI'!E88/'Calcs-Field'!$I$11","v":0.76023575465664983},{"$f":"'Calcs-SI'!F88*'Calcs-Field'!$I$9","v":4.0635956189823408E-2},{"$f":"'Calcs-SI'!G88","v":1.3360736399268467E-2},{"$f":"'Calcs-SI'!H88","v":1.3344897043027376E-2},{"$f":"'Calcs-SI'!I88*'Calcs-Field'!$I$8","v":14.52098484842694},{"$f":"'Calcs-SI'!J88*'Calcs-Field'!$I$8","v":1086.8401571953773},{"$f":"'Calcs-SI'!K88","v":56.900737499639206},{"$f":"'Calcs-SI'!L88*'Calcs-Field'!$I$8^2","v":0},{"$f":"'Calcs-SI'!M88*'Calcs-Field'!$I$8^2","v":0},{"$f":"'Calcs-SI'!N88/'Calcs-Field'!$I$8","v":6.9029281836033504E-2},{"$f":"'Calcs-SI'!O88/'Calcs-Field'!$I$8","v":-8.1594122394259839E-5}]
[{"$f":"'Calcs-SI'!A89*$I$8","v":14.503769999999999},{"$f":"'Calcs-SI'!B89","v":2.1864892000434174E-2},{"$f":"'Calcs-SI'!C89","v":0.99881448478828172},{"$f":"'Calcs-SI'!D89*'Calcs-Field'!$I$11","v":1.3153814377641795},{"$f":"'Calcs-SI'!E89/'Calcs-Field'!$I$11","v":0.76023575465664983},{"$f":"'Calcs-SI'!F89*'Calcs-Field'!$I$9","v":4.0635956189823408E-2},{"$f":"'Calcs-SI'!G89","v":1.3360736399268467E-2},{"$f":"'Calcs-SI'!H89","v":1.3344897043027376E-2},{"$f":"'Calcs-SI'!I89*'Calcs-Field'!$I$8","v":14.52098484842694},{"$f":"'Calcs-SI'!J89*'Calcs-Field'!$I$8","v":1086.8401571953773},{"$f":"'Calcs-SI'!K89","v":56.900737499639206},{"$f":"'Calcs-SI'!L89*'Calcs-Field'!$I$8^2","v":0},{"$f":"'Calcs-SI'!M89*'Calcs-Field'!$I$8^2","v":0},{"$f":"'Calcs-SI'!N89/'Calcs-Field'!$I$8","v":6.9029281836033504E-2},{"$f":"'Calcs-SI'!O89/'Calcs-Field'!$I$8","v":-8.1594122394259839E-5}]
[{"$f":"'Calcs-SI'!A90*$I$8","v":14.503769999999999},{"$f":"'Calcs-SI'!B90","v":2.1864892000434174E-2},{"$f":"'Calcs-SI'!C90","v":0.99881448478828172},{"$f":"'Calcs-SI'!D90*'Calcs-Field'!$I$11","v":1.3153814377641795},{"$f":"'Calcs-SI'!E90/'Calcs-Field'!$I$11","v":0.76023575465664983},{"$f":"'Calcs-SI'!F90*'Calcs-Field'!$I$9","v":4.0635956189823408E-2},{"$f":"'Calcs-SI'!G90","v":1.3360736399268467E-2},{"$f":"'Calcs-SI'!H90","v":1.3344897043027376E-2},{"$f":"'Calcs-SI'!I90*'Calcs-Field'!$I$8","v":14.52098484842694},{"$f":"'Calcs-SI'!J90*'Calcs-Field'!$I$8","v":1086.8401571953773},{"$f":"'Calcs-SI'!K90","v":56.900737499639206},{"$f":"'Calcs-SI'!L90*'Calcs-Field'!$I$8^2","v":0},{"$f":"'Calcs-SI'!M90*'Calcs-Field'!$I$8^2","v":0},{"$f":"'Calcs-SI'!N90/'Calcs-Field'!$I$8","v":6.9029281836033504E-2},{"$f":"'Calcs-SI'!O90/'Calcs-Field'!$I$8","v":-8.1594122394259839E-5}]
[{"$f":"'Calcs-SI'!A91*$I$8","v":14.503769999999999},{"$f":"'Calcs-SI'!B91","v":2.1864892000434174E-2},{"$f":"'Calcs-SI'!C91","v":0.99881448478828172},{"$f":"'Calcs-SI'!D91*'Calcs-Field'!$I$11","v":1.3153814377641795},{"$f":"'Calcs-SI'!E91/'Calcs-Field'!$I$11","v":0.76023575465664983},{"$f":"'Calcs-SI'!F91*'Calcs-Field'!$I$9","v":4.0635956189823408E-2},{"$f":"'Calcs-SI'!G91","v":1.3360736399268467E-2},{"$f":"'Calcs-SI'!H91","v":1.3344897043027376E-2},{"$f":"'Calcs-SI'!I91*'Calcs-Field'!$I$8","v":14.52098484842694},{"$f":"'Calcs-SI'!J91*'Calcs-Field'!$I$8","v":1086.8401571953773},{"$f":"'Calcs-SI'!K91","v":56.900737499639206},{"$f":"'Calcs-SI'!L91*'Calcs-Field'!$I$8^2","v":0},{"$f":"'Calcs-SI'!M91*'Calcs-Field'!$I$8^2","v":0},{"$f":"'Calcs-SI'!N91/'Calcs-Field'!$I$8","v":6.9029281836033504E-2},{"$f":"'Calcs-SI'!O91/'Calcs-Field'!$I$8","v":-8.1594122394259839E-5}]
[{"$f":"'Calcs-SI'!A92*$I$8","v":14.503769999999999},{"$f":"'Calcs-SI'!B92","v":2.1864892000434174E-2},{"$f":"'Calcs-SI'!C92","v":0.99881448478828172},{"$f":"'Calcs-SI'!D92*'Calcs-Field'!$I$11","v":1.3153814377641795},{"$f":"'Calcs-SI'!E92/'Calcs-Field'!$I$11","v":0.76023575465664983},{"$f":"'Calcs-SI'!F92*'Calcs-Field'!$I$9","v":4.0635956189823408E-2},{"$f":"'Calcs-SI'!G92","v":1.3360736399268467E-2},{"$f":"'Calcs-SI'!H92","v":1.3344897043027376E-2},{"$f":"'Calcs-SI'!I92*'Calcs-Field'!$I$8","v":14.52098484842694},{"$f":"'Calcs-SI'!J92*'Calcs-Field'!$I$8","v":1086.8401571953773},{"$f":"'Calcs-SI'!K92","v":56.900737499639206},{"$f":"'Calcs-SI'!L92*'Calcs-Field'!$I$8^2","v":0},{"$f":"'Calcs-SI'!M92*'Calcs-Field'!$I$8^2","v":0},{"$f":"'Calcs-SI'!N92/'Calcs-Field'!$I$8","v":6.9029281836033504E-2},{"$f":"'Calcs-SI'!O92/'Calcs-Field'!$I$8","v":-8.1594122394259839E-5}]
[{"$f":"'Calcs-SI'!A93*$I$8","v":14.503769999999999},{"$f":"'Calcs-SI'!B93","v":2.1864892000434174E-2},{"$f":"'Calcs-SI'!C93","v":0.99881448478828172},{"$f":"'Calcs-SI'!D93*'Calcs-Field'!$I$11","v":1.3153814377641795},{"$f":"'Calcs-SI'!E93/'Calcs-Field'!$I$11","v":0.76023575465664983},{"$f":"'Calcs-SI'!F93*'Calcs-Field'!$I$9","v":4.0635956189823408E-2},{"$f":"'Calcs-SI'!G93","v":1.3360736399268467E-2},{"$f":"'Calcs-SI'!H93","v":1.3344897043027376E-2},{"$f":"'Calcs-SI'!I93*'Calcs-Field'!$I$8","v":14.52098484842694},{"$f":"'Calcs-SI'!J93*'Calcs-Field'!$I$8","v":1086.8401571953773},{"$f":"'Calcs-SI'!K93","v":56.900737499639206},{"$f":"'Calcs-SI'!L93*'Calcs-Field'!$I$8^2","v":0},{"$f":"'Calcs-SI'!M93*'Calcs-Field'!$I$8^2","v":0},{"$f":"'Calcs-SI'!N93/'Calcs-Field'!$I$8","v":6.9029281836033504E-2},{"$f":"'Calcs-SI'!O93/'Calcs-Field'!$I$8","v":-8.1594122394259839E-5}]
[{"$f":"'Calcs-SI'!A94*$I$8","v":14.503769999999999},{"$f":"'Calcs-SI'!B94","v":2.1864892000434174E-2},{"$f":"'Calcs-SI'!C94","v":0.99881448478828172},{"$f":"'Calcs-SI'!D94*'Calcs-Field'!$I$11","v":1.3153814377641795},{"$f":"'Calcs-SI'!E94/'Calcs-Field'!$I$11","v":0.76023575465664983},{"$f":"'Calcs-SI'!F94*'Calcs-Field'!$I$9","v":4.0635956189823408E-2},{"$f":"'Calcs-SI'!G94","v":1.3360736399268467E-2},{"$f":"'Calcs-SI'!H94","v":1.3344897043027376E-2},{"$f":"'Calcs-SI'!I94*'Calcs-Field'!$I$8","v":14.52098484842694},{"$f":"'Calcs-SI'!J94*'Calcs-Field'!$I$8","v":1086.8401571953773},{"$f":"'Calcs-SI'!K94","v":56.900737499639206},{"$f":"'Calcs-SI'!L94*'Calcs-Field'!$I$8^2","v":0},{"$f":"'Calcs-SI'!M94*'Calcs-Field'!$I$8^2","v":0},{"$f":"'Calcs-SI'!N94/'Calcs-Field'!$I$8","v":6.9029281836033504E-2},{"$f":"'Calcs-SI'!O94/'Calcs-Field'!$I$8","v":-8.1594122394259839E-5}]
[{"$f":"'Calcs-SI'!A95*$I$8","v":14.503769999999999},{"$f":"'Calcs-SI'!B95","v":2.1864892000434174E-2},{"$f":"'Calcs-SI'!C95","v":0.99881448478828172},{"$f":"'Calcs-SI'!D95*'Calcs-Field'!$I$11","v":1.3153814377641795},{"$f":"'Calcs-SI'!E95/'Calcs-Field'!$I$11","v":0.76023575465664983},{"$f":"'Calcs-SI'!F95*'Calcs-Field'!$I$9","v":4.0635956189823408E-2},{"$f":"'Calcs-SI'!G95","v":1.3360736399268467E-2},{"$f":"'Calcs-SI'!H95","v":1.3344897043027376E-2},{"$f":"'Calcs-SI'!I95*'Calcs-Field'!$I$8","v":14.52098484842694},{"$f":"'Calcs-SI'!J95*'Calcs-Field'!$I$8","v":1086.8401571953773},{"$f":"'Calcs-SI'!K95","v":56.900737499639206},{"$f":"'Calcs-SI'!L95*'Calcs-Field'!$I$8^2","v":0},{"$f":"'Calcs-SI'!M95*'Calcs-Field'!$I$8^2","v":0},{"$f":"'Calcs-SI'!N95/'Calcs-Field'!$I$8","v":6.9029281836033504E-2},{"$f":"'Calcs-SI'!O95/'Calcs-Field'!$I$8","v":-8.1594122394259839E-5}]
[{"$f":"'Calcs-SI'!A96*$I$8","v":14.503769999999999},{"$f":"'Calcs-SI'!B96","v":2.1864892000434174E-2},{"$f":"'Calcs-SI'!C96","v":0.99881448478828172},{"$f":"'Calcs-SI'!D96*'Calcs-Field'!$I$11","v":1.3153814377641795},{"$f":"'Calcs-SI'!E96/'Calcs-Field'!$I$11","v":0.76023575465664983},{"$f":"'Calcs-SI'!F96*'Calcs-Field'!$I$9","v":4.0635956189823408E-2},{"$f":"'Calcs-SI'!G96","v":1.3360736399268467E-2},{"$f":"'Calcs-SI'!H96","v":1.3344897043027376E-2},{"$f":"'Calcs-SI'!I96*'Calcs-Field'!$I$8","v":14.52098484842694},{"$f":"'Calcs-SI'!J96*'Calcs-Field'!$I$8","v":1086.8401571953773},{"$f":"'Calcs-SI'!K96","v":56.900737499639206},{"$f":"'Calcs-SI'!L96*'Calcs-Field'!$I$8^2","v":0},{"$f":"'Calcs-SI'!M96*'Calcs-Field'!$I$8^2","v":0},{"$f":"'Calcs-SI'!N96/'Calcs-Field'!$I$8","v":6.9029281836033504E-2},{"$f":"'Calcs-SI'!O96/'Calcs-Field'!$I$8","v":-8.1594122394259839E-5}]
[{"$f":"'Calcs-SI'!A97*$I$8","v":14.503769999999999},{"$f":"'Calcs-SI'!B97","v":2.1864892000434174E-2},{"$f":"'Calcs-SI'!C97","v":0.99881448478828172},{"$f":"'Calcs-SI'!D97*'Calcs-Field'!$I$11","v":1.3153814377641795},{"$f":"'Calcs-SI'!E97/'Calcs-Field'!$I$11","v":0.76023575465664983},{"$f":"'Calcs-SI'!F97*'Calcs-Field'!$I$9","v":4.0635956189823408E-2},{"$f":"'Calcs-SI'!G97","v":1.3360736399268467E-2},{"$f":"'Calcs-SI'!H97","v":1.3344897043027376E-2},{"$f":"'Calcs-SI'!I97*'Calcs-Field'!$I$8","v":14.52098484842694},{"$f":"'Calcs-SI'!J97*'Calcs-Field'!$I$8","v":1086.8401571953773},{"$f":"'Calcs-SI'!K97","v":56.900737499639206},{"$f":"'Calcs-SI'!L97*'Calcs-Field'!$I$8^2","v":0},{"$f":"'Calcs-SI'!M97*'Calcs-Field'!$I$8^2","v":0},{"$f":"'Calcs-SI'!N97/'Calcs-Field'!$I$8","v":6.9029281836033504E-2},{"$f":"'Calcs-SI'!O97/'Calcs-Field'!$I$8","v":-8.1594122394259839E-5}]
[{"$f":"'Calcs-SI'!A98*$I$8","v":14.503769999999999},{"$f":"'Calcs-SI'!B98","v":2.1864892000434174E-2},{"$f":"'Calcs-SI'!C98","v":0.99881448478828172},{"$f":"'Calcs-SI'!D98*'Calcs-Field'!$I$11","v":1.3153814377641795},{"$f":"'Calcs-SI'!E98/'Calcs-Field'!$I$11","v":0.76023575465664983},{"$f":"'Calcs-SI'!F98*'Calcs-Field'!$I$9","v":4.0635956189823408E-2},{"$f":"'Calcs-SI'!G98","v":1.3360736399268467E-2},{"$f":"'Calcs-SI'!H98","v":1.3344897043027376E-2},{"$f":"'Calcs-SI'!I98*'Calcs-Field'!$I$8","v":14.52098484842694},{"$f":"'Calcs-SI'!J98*'Calcs-Field'!$I$8","v":1086.8401571953773},{"$f":"'Calcs-SI'!K98","v":56.900737499639206},{"$f":"'Calcs-SI'!L98*'Calcs-Field'!$I$8^2","v":0},{"$f":"'Calcs-SI'!M98*'Calcs-Field'!$I$8^2","v":0},{"$f":"'Calcs-SI'!N98/'Calcs-Field'!$I$8","v":6.9029281836033504E-2},{"$f":"'Calcs-SI'!O98/'Calcs-Field'!$I$8","v":-8.1594122394259839E-5}]
[{"$f":"'Calcs-SI'!A99*$I$8","v":14.503769999999999},{"$f":"'Calcs-SI'!B99","v":2.1864892000434174E-2},{"$f":"'Calcs-SI'!C99","v":0.99881448478828172},{"$f":"'Calcs-SI'!D99*'Calcs-Field'!$I$11","v":1.3153814377641795},{"$f":"'Calcs-SI'!E99/'Calcs-Field'!$I$11","v":0.76023575465664983},{"$f":"'Calcs-SI'!F99*'Calcs-Field'!$I$9","v":4.0635956189823408E-2},{"$f":"'Calcs-SI'!G99","v":1.3360736399268467E-2},{"$f":"'Calcs-SI'!H99","v":1.3344897043027376E-2},{"$f":"'Calcs-SI'!I99*'Calcs-Field'!$I$8","v":14.52098484842694},{"$f":"'Calcs-SI'!J99*'Calcs-Field'!$I$8","v":1086.8401571953773},{"$f":"'Calcs-SI'!K99","v":56.900737499639206},{"$f":"'Calcs-SI'!L99*'Calcs-Field'!$I$8^2","v":0},{"$f":"'Calcs-SI'!M99*'Calcs-Field'!$I$8^2","v":0},{"$f":"'Calcs-SI'!N99/'Calcs-Field'!$I$8","v":6.9029281836033504E-2},{"$f":"'Calcs-SI'!O99/'Calcs-Field'!$I$8","v":-8.1594122394259839E-5}]
[{"$f":"'Calcs-SI'!A100*$I$8","v":14.503769999999999},{"$f":"'Calcs-SI'!B100","v":2.1864892000434174E-2},{"$f":"'Calcs-SI'!C100","v":0.99881448478828172},{"$f":"'Calcs-SI'!D100*'Calcs-Field'!$I$11","v":1.3153814377641795},{"$f":"'Calcs-SI'!E100/'Calcs-Field'!$I$11","v":0.76023575465664983},{"$f":"'Calcs-SI'!F100*'Calcs-Field'!$I$9","v":4.0635956189823408E-2},{"$f":"'Calcs-SI'!G100","v":1.3360736399268467E-2},{"$f":"'Calcs-SI'!H100","v":1.3344897043027376E-2},{"$f":"'Calcs-SI'!I100*'Calcs-Field'!$I$8","v":14.52098484842694},{"$f":"'Calcs-SI'!J100*'Calcs-Field'!$I$8","v":1086.8401571953773},{"$f":"'Calcs-SI'!K100","v":56.900737499639206},{"$f":"'Calcs-SI'!L100*'Calcs-Field'!$I$8^2","v":0},{"$f":"'Calcs-SI'!M100*'Calcs-Field'!$I$8^2","v":0},{"$f":"'Calcs-SI'!N100/'Calcs-Field'!$I$8","v":6.9029281836033504E-2},{"$f":"'Calcs-SI'!O100/'Calcs-Field'!$I$8","v":-8.1594122394259839E-5}]