{"text_format":"1","workbook":"xlsx","n_sheets":9,"sheets":["Data","Calculus","Hp vs Q map","efic vs Q map","rp vs Q","Power vs Q","rp vs Q comparison","efic vs Q comparison","Power vs Q comparison"],"not_rendered":{"charts":14,"images":2,"macros":1,"external_links":0,"defined_names":23,"comments":0,"pivot_tables":0},"unopened":[{"sheet":"Hp vs Q map","index":2,"reason":"not_a_worksheet"},{"sheet":"efic vs Q map","index":3,"reason":"not_a_worksheet"},{"sheet":"rp vs Q","index":4,"reason":"not_a_worksheet"},{"sheet":"Power vs Q","index":5,"reason":"not_a_worksheet"},{"sheet":"rp vs Q comparison","index":6,"reason":"not_a_worksheet"},{"sheet":"efic vs Q comparison","index":7,"reason":"not_a_worksheet"},{"sheet":"Power vs Q comparison","index":8,"reason":"not_a_worksheet"}],"bounds":{"document_bytes":16777216,"sheet_cells":100000,"rows_first":2000,"rows_last":500,"rows_between":2000,"halvings":0,"cell_chars":16384,"cell_head_chars":4096},"cells_cut":0,"cells_raw":0,"read":"whole","date_system":"1900"}

{"sheet":"Data","index":0,"n_rows":22,"n_cols":5,"rows_kept":22,"cut":false,"hidden":false,"merged":[]}
["Compressor Map"]
[]
["Actual conditions of compressor"]
["Inlet temperature, Tin",{"$f":"72+273.15","v":345.15},"K"]
["Inlet pressure, Pin",34.619999999999997,"bar"]
["specific heats ratio, k",1.4319999999999999,"-"]
["molecular weight, MM",18.8,"kg/kmol"]
["Compressibility factor, Z",0.9,"-"]
["Gas constant, R",{"$f":"8314/B7","v":442.2340425531915},"J/kg.K"]
["Specific gravity, SG",{"$f":"B7/28.97","v":0.64894718674490859},"-"]
[]
[]
["Operating point"]
["Estándar flow rate, Qsc",{"$f":"4820000/1","v":4820000},"sm3/d"]
["Outlet pressure, Pout",67,"bar"]
["Polytropic efic, np",0.8,"-"]
["Polytropic exponent, np",{"$f":"1/(1-($B$6-1)/($B$6*B16))","v":1.6053811659192825},"-"]
["Actual inlet flow rate, Qa",{"$f":"Qa(B14,B5,B4,B8)","v":152041.16311821272},"m^3/d",{"$f":"B18/24","v":6335.0484632588632},"m^3/hr"]
["Pressure ratio, rp",{"$f":"((B15)/B5)^1","v":1.9352975158867709},"-"]
["Discharge temperature, Tdis",{"$f":"B4*B19^((B17-1)/B17)","v":442.73005814810273},"K",{"$f":"B20-273.15","v":169.58005814810275},"°C"]
["Polytropic head, Hp",{"$f":"Hp(B19,B4,B5,B8,B17,B9)","v":10498.711548958974},"m"]
["Power consuption, Pow",{"$f":"Power_c(B5,B4,B8,B9,D18,B21,B16)","v":5.7093539835338278},"Mw"]

{"sheet":"Calculus","index":1,"n_rows":29,"n_cols":42,"rows_kept":29,"cut":false,"hidden":false,"merged":[[17,40,17,41],[17,38,17,39],[17,31,17,37],[1,3,1,8],[1,10,1,15],[1,24,1,29],[1,31,1,36],[1,17,1,22],[2,38,2,39],[2,40,2,41],[16,3,16,8],[16,10,16,15],[16,24,16,29],[16,31,16,36],[14,4,14,8],[16,17,16,22],[2,3,2,9],[2,10,2,16],[2,17,2,23],[2,24,2,30],[17,24,17,30],[17,17,17,23],[2,31,2,37],[17,10,17,16],[17,3,17,9]]}
[null,null,null,"Compressor map - Manufacturer"]
[null,null,null,"N",null,null,null,null,null,null,"N",null,null,null,null,null,null,"N",null,null,null,null,null,null,"N",null,null,null,null,null,null,"N"]
["Aproximate test conditions",null,null,4500,null,null,null,null,null,null,4000,null,null,null,null,null,null,3500,null,null,null,null,null,null,3000,null,null,null,null,null,null,2500,null,null,null,null,null,null,"Limit min",null,"Limit max"]
["Inlet temperature, Tin",{"$f":"62.3+273.15","v":335.45},"K","Q","Hp","np","n","rp","Pout","Power","Q","Hp","np","n","rp","Pout","Power","Q","Hp","np","n","rp","Pout","Power","Q","Hp","np","n","rp","Pout","Power","Q","Hp","np","n","rp","Pout","Power","Q","Hp","Q","Hp"]
["Inlet pressure, Pin",37.299999999999997,"bar","m^3/hr","m","%","-",null,"bar","kJ","m^3/hr","m","%","-",null,"bar","kJ","m^3/hr","m","%","-",null,"bar","kJ","m^3/hr","m","%","-",null,"bar","kJ","m^3/s","m","%","-",null,"bar","kJ","m^3/s","-","m^3/s","-"]
["specific heats ratio, k",1.4319999999999999,"-",2544.6573000000003,8852.7371765624994,0.69700000000000006,1.7631106651781294,1.7785862765816542,66.341268116495698,2.4736081997522374,2261.9176000000002,6994.7552999999998,0.69700000000000006,1.7631106651781294,1.594077677417983,59.459097367690759,1.7372940991401171,1979.1779000000001,5355.3595265624999,0.69700000000000006,1.7631106651781294,1.4407267369418253,53.739107287930082,1.163851320322383,1696.4382000000001,3934.5498562499997,0.69700000000000006,1.7631106651781294,1.3148929092415038,49.04550551470809,0.73292094807473684,1413.6985000000002,2732.3262890625001,0.69700000000000006,1.7631106651781294,1.2134836322797107,45.262939484033204,0.42414406717288011,1413.6985000000002,2732.3262890625001,2845.6129375,1418.6833203125]
["molecular weight, MM",19.11,"kg/kmol",2942.4724875000002,8808.1709765625001,0.75599999999999989,1.6640106241699868,1.783237105198199,66.514744023892817,2.6238147447450424,2615.5311000000002,6959.5424999999996,0.75599999999999989,1.6640106241699868,1.5961726898673587,59.537241332052474,1.8427889565287539,2288.5897125000001,5328.3997265624994,0.75599999999999989,1.6640106241699868,1.441351975271892,53.762428677641566,1.2345246329870361,1961.6483250000001,3914.7426562499995,0.75599999999999989,1.6640106241699868,1.3147784709036638,49.041236964706655,0.77742659103556799,1634.7069375000001,2718.5712890625,0.75599999999999989,1.6640106241699868,1.2130919383081855,45.248329298895314,0.44989964759002787,1696.4382000000001,3934.5498562499997,3414.7355250000001,2042.90398125]
["Polytropic efficiency, np",0.85,"-",3684.4090874999997,8167.8263625,0.82400000000000007,1.5775648156070845,1.7248295680001622,64.336142886406051,2.7951424538859424,3275.0302999999999,6453.5911999999998,0.82400000000000007,1.5775648156070845,1.5517633051842079,57.880771283370947,1.9631178825646127,2865.6515125000001,4941.0307624999996,0.82400000000000007,1.5775648156070845,1.4085626907910314,52.539388366505463,1.315135612733715,2456.2727249999998,3630.1450500000001,0.82400000000000007,1.5775648156070845,1.2914792224921756,48.172174998958148,0.82819035670694596,2046.8939375,2520.9340625,0.82400000000000007,1.5775648156070845,1.1973859249842527,44.662495001912625,0.47927682679800115,1979.1779000000001,5355.3595265624999,3983.8581125000001,2780.6193078124998]
["Compressibility factor, Z",0.91,"-",4008.2471999999998,7699.4269031250005,0.84,1.5603985056039851,1.6778570000872048,62.584066103252738,2.8118388609967657,3562.8863999999999,6083.4978000000001,0.84,1.5603985056039851,1.5167830726948777,56.57600861151893,1.9748443029222829,3117.5255999999999,4657.678003125,0.84,1.5603985056039851,1.3831955086879371,51.593192474060046,1.3229913982467634,2672.1648,3421.9675124999999,0.84,1.5603985056039851,1.273727409225629,47.510032364115958,0.83313744029533787,2226.8040000000001,2376.3663281250001,0.84,1.5603985056039851,1.1855705673331745,44.2217821615274,0.48213972239313546,2261.9176000000002,6994.7552999999998,4552.9807000000001,3631.8292999999999]
["Gas constant, R",{"$f":"8314/B7","v":435.0601779173208},"J/kg.K",4311.9335250000004,7061.4430593749994,0.84399999999999997,1.5562651942807697,1.6133146317705001,60.176635765039649,2.7610857117829508,3832.8298,5579.4117999999999,0.84399999999999997,1.5562651942807697,1.4688279099096355,54.787281039629399,1.9391987440780118,3353.726075,4271.7371593749995,0.84399999999999997,1.5562651942807697,1.3484831187496087,50.298420329360397,1.2991116586303868,2874.6223500000001,3138.4191375,0.84399999999999997,1.5562651942807697,1.2494711954254654,46.605275589369853,0.8180994701579114,2395.5186250000002,2179.4577343749997,0.84399999999999997,1.5562651942807697,1.1694439750537093,43.620260269503355,0.47343719337842094,2544.6573000000003,8852.7371765624994,5122.1032875000001,4596.5339578124995]
["Specific gravity, SG",{"$f":"B7/28.97","v":0.65964791163272352},"-",4541.4170999999997,6508.7053875000001,0.84499999999999997,1.5552413757647421,1.5584689562441838,58.13089206790805,2.6772326491485581,4036.8152,5142.6808000000001,0.84499999999999997,1.5552413757647421,1.4279363813872172,53.262027025743201,1.8803060581125675,3532.2132999999999,3937.3649875000001,0.84499999999999997,1.5552413757647421,1.31878622684096,49.190726261167804,1.2596581600246304,3027.6113999999998,2892.7579500000002,0.84499999999999997,1.5552413757647421,1.2286562753103412,45.828879069075725,0.79325411826623948,2523.0095000000001,2008.8596875000001,0.84499999999999997,1.5552413757647421,1.1555673271185112,43.102661301520463,0.45905909621888863]
[null,null,null,4831.7131124999996,5658.6779718749995,0.83799999999999997,1.5624882814941354,1.476062537154043,55.057132635845797,2.4970596524770161,4294.8561,4471.0541999999996,0.83799999999999997,1.5624882814941354,1.3662363165971898,50.960614609075179,1.7537648039344753,3757.9990874999999,3423.1508718749997,0.83799999999999997,1.5624882814941354,1.2737984165726848,47.512680938161139,1.1748854057607911,3221.1420749999997,2514.9679874999997,0.83799999999999997,1.5624882814941354,1.1970077593825967,44.648389424970858,0.73986952665985684,2684.2850625000001,1746.5055468749999,0.83799999999999997,1.5624882814941354,1.1343990136364559,42.313083208639803,0.42816523533556533]
[null,null,null,4966.7287500000002,5276.1419296875001,0.83700000000000008,1.5635390250774865,1.440053814402001,53.714007277194632,2.3961735547832288,4414.87,4168.8035,0.83700000000000008,1.5635390250774865,1.3391245194587027,49.949344575809604,1.6829092730439137,3863.01125,3191.7401796875001,0.83700000000000008,1.5635390250774865,1.2539277217793006,46.771504022367907,1.1274177356524659,3311.1525000000001,2344.9519687500001,0.83700000000000008,1.5635390250774865,1.182963356124735,44.124533183452613,0.70997734956540137,2759.2937499999998,1628.4388671874999,0.83700000000000008,1.5635390250774865,1.1249666253619066,41.961255125999116,0.41086652173923671]
[null,null,null,5122.1032875000001,4596.5339578124995,0.82,1.5820219874973052,1.3770474320435999,51.363869215226273,2.1974640006016233,4552.9807000000001,3631.8292999999999,0.82,1.5820219874973052,1.2915523370852933,48.174902173281438,1.5433492020686301,3983.8581125000001,2780.6193078124998,0.82,1.5820219874973052,1.2189693637017365,45.46755726607477,1.0339233912295707,3414.7355250000001,2042.90398125,0.82,1.5820219874973052,1.1581955227481604,43.200692998506376,0.65110044462270344,2845.6129375,1418.6833203125,0.82,1.5820219874973052,1.1082966310332329,41.339464337539589,0.37679423878628671]
[]
[null,null,null,"Compresor map - actual conditions"]
[null,null,null,"N",null,null,null,null,null,null,"N",null,null,null,null,null,null,"N",null,null,null,null,null,null,"N",null,null,null,null,null,null,"N",null,null,null,null,null,null,null,null,"S. Factor",1.1000000000000001]
[null,null,null,4500,null,null,null,null,null,null,4000,null,null,null,null,null,null,3500,null,null,null,null,null,null,3000,null,null,null,null,null,null,2500,null,null,null,null,null,null,"Surge line",null,"Surge control line"]
[null,null,null,"Q","Hp","np","n","rp","Pout","Power","Q","Hp","np","n","rp","Pout","Power","Q","Hp","np","n","rp","Pout","Power","Q","Hp","np","n","rp","Pout","Power","Q","Hp","np","n","rp","Pout","Power","Q","rp","Q","rp"]
[null,null,null,"m^3/hr","m","%","-",null,"bar","kJ","m^3/hr","m","%","-",null,"bar","kJ","m^3/hr","m","%","-",null,"bar","kJ","m^3/hr","m","%","-",null,"bar","kJ","m^3/s","m","%","-",null,"bar","kJ","m^3/s","-","m^3/s","-"]
[null,null,null,{"$f":"Qactual(Data!$B$4,Data!$B$5,Data!$B$7,Data!$B$8,Calculus!D6,$B$4,$B$5,$B$7,$B$9)","v":2835.9273889754027},{"$f":"E6","v":8852.7371765624994},{"$f":"M21","v":0.69700000000000006},{"$f":"1/(1-($B$6-1)/($B$6*F21))","v":1.7631106651781294},{"$f":"rp_calc(Calculus!E21,Data!$B$4,Data!$B$8,G21,Data!$B$9)","v":1.7485936252011711},{"$f":"Data!$B$5*H21","v":60.53631130446454},{"$f":"Power_c($B$5,$B$4,$B$9,$B$10,D21,E21,F21)","v":2.7567457681910672},{"$f":"Qactual(Data!$B$4,Data!$B$5,Data!$B$7,Data!$B$8,Calculus!K6,$B$4,$B$5,$B$7,$B$9)","v":2520.8243457559138},{"$f":"L6","v":6994.7552999999998},{"$f":"M6","v":0.69700000000000006},{"$f":"1/(1-($B$6-1)/($B$6*M21))","v":1.7631106651781294},{"$f":"rp_calc(Calculus!L21,Data!$B$4,Data!$B$8,N21,Data!$B$9)","v":1.5717886717700995},{"$f":"Data!$B$5*O21","v":54.415323816680839},{"$f":"Power_c($B$5,$B$4,$B$9,$B$10,K21,L21,M21)","v":1.9361506629819294},{"$f":"Qactual(Data!$B$4,Data!$B$5,Data!$B$7,Data!$B$8,Calculus!R6,$B$4,$B$5,$B$7,$B$9)","v":2205.7213025364244},{"$f":"S6","v":5355.3595265624999},{"$f":"AA21","v":0.69700000000000006},{"$f":"1/(1-($B$6-1)/($B$6*T21))","v":1.7631106651781294},{"$f":"rp_calc(Calculus!S21,Data!$B$4,Data!$B$8,U21,Data!$B$9)","v":1.4246002911980906},{"$f":"Data!$B$5*V21","v":49.31966208127789},{"$f":"Power_c($B$5,$B$4,$B$9,$B$10,R21,S21,T21)","v":1.2970696824273473},{"$f":"Qactual(Data!$B$4,Data!$B$5,Data!$B$7,Data!$B$8,Calculus!Y6,$B$4,$B$5,$B$7,$B$9)","v":1890.6182593169351},{"$f":"Z6","v":3934.5498562499997},{"$f":"AH21","v":0.69700000000000006},{"$f":"1/(1-($B$6-1)/($B$6*AA21))","v":1.7631106651781294},{"$f":"rp_calc(Calculus!Z21,Data!$B$4,Data!$B$8,AB21,Data!$B$9)","v":1.3036349525053865},{"$f":"Data!$B$5*AC21","v":45.131842055736477},{"$f":"Power_c($B$5,$B$4,$B$9,$B$10,Y21,Z21,AA21)","v":0.81681356094550139},{"$f":"Qactual(Data!$B$4,Data!$B$5,Data!$B$7,Data!$B$8,Calculus!AF6,$B$4,$B$5,$B$7,$B$9)","v":1575.515216097446},{"$f":"AG6","v":2732.3262890625001},{"$f":"M21","v":0.69700000000000006},{"$f":"1/(1-($B$6-1)/($B$6*AH21))","v":1.7631106651781294},{"$f":"rp_calc(Calculus!AG21,Data!$B$4,Data!$B$8,AI21,Data!$B$9)","v":1.2060084000834088},{"$f":"Data!$B$5*AJ21","v":41.752010810887612},{"$f":"Power_c($B$5,$B$4,$B$9,$B$10,AF21,AG21,AH21)","v":0.4726930329545726}]
[null,null,null,{"$f":"Qactual(Data!$B$4,Data!$B$5,Data!$B$7,Data!$B$8,Calculus!D7,$B$4,$B$5,$B$7,$B$9)","v":3279.2778495586945},{"$f":"E7","v":8808.1709765625001},{"$f":"M22","v":0.75599999999999989},{"$f":"1/(1-($B$6-1)/($B$6*F22))","v":1.6640106241699868},{"$f":"rp_calc(Calculus!E22,Data!$B$4,Data!$B$8,G22,Data!$B$9)","v":1.7527723333528076},{"$f":"Data!$B$5*H22","v":60.680978180674195},{"$f":"Power_c($B$5,$B$4,$B$9,$B$10,D22,E22,F22)","v":2.9241454628173194},{"$f":"Qactual(Data!$B$4,Data!$B$5,Data!$B$7,Data!$B$8,Calculus!K7,$B$4,$B$5,$B$7,$B$9)","v":2914.9136440521725},{"$f":"L7","v":6959.5424999999996},0.75599999999999989,{"$f":"1/(1-($B$6-1)/($B$6*M22))","v":1.6640106241699868},{"$f":"rp_calc(Calculus!L22,Data!$B$4,Data!$B$8,N22,Data!$B$9)","v":1.573632345762741},{"$f":"Data!$B$5*O22","v":54.479151810306092},{"$f":"Power_c($B$5,$B$4,$B$9,$B$10,K22,L22,M22)","v":2.0537208188785558},{"$f":"Qactual(Data!$B$4,Data!$B$5,Data!$B$7,Data!$B$8,Calculus!R7,$B$4,$B$5,$B$7,$B$9)","v":2550.5494385456504},{"$f":"S7","v":5328.3997265624994},{"$f":"AA22","v":0.75599999999999989},{"$f":"1/(1-($B$6-1)/($B$6*T22))","v":1.6640106241699868},{"$f":"rp_calc(Calculus!S22,Data!$B$4,Data!$B$8,U22,Data!$B$9)","v":1.4251068155936386},{"$f":"Data!$B$5*V22","v":49.337197955851764},{"$f":"Power_c($B$5,$B$4,$B$9,$B$10,R22,S22,T22)","v":1.3758325017096573},{"$f":"Qactual(Data!$B$4,Data!$B$5,Data!$B$7,Data!$B$8,Calculus!Y7,$B$4,$B$5,$B$7,$B$9)","v":2186.1852330391293},{"$f":"Z7","v":3914.7426562499995},{"$f":"AH22","v":0.75599999999999989},{"$f":"1/(1-($B$6-1)/($B$6*AA22))","v":1.6640106241699868},{"$f":"rp_calc(Calculus!Z22,Data!$B$4,Data!$B$8,AB22,Data!$B$9)","v":1.3034754816908518},{"$f":"Data!$B$5*AC22","v":45.126321176137289},{"$f":"Power_c($B$5,$B$4,$B$9,$B$10,Y22,Z22,AA22)","v":0.86641347046439077},{"$f":"Qactual(Data!$B$4,Data!$B$5,Data!$B$7,Data!$B$8,Calculus!AF7,$B$4,$B$5,$B$7,$B$9)","v":1821.821027532608},{"$f":"AG7","v":2718.5712890625},{"$f":"M22","v":0.75599999999999989},{"$f":"1/(1-($B$6-1)/($B$6*AH22))","v":1.6640106241699868},{"$f":"rp_calc(Calculus!AG22,Data!$B$4,Data!$B$8,AI22,Data!$B$9)","v":1.2056078208516159},{"$f":"Data!$B$5*AJ22","v":41.73814275788294},{"$f":"Power_c($B$5,$B$4,$B$9,$B$10,AF22,AG22,AH22)","v":0.50139668429652251}]
[null,null,null,{"$f":"Qactual(Data!$B$4,Data!$B$5,Data!$B$7,Data!$B$8,Calculus!D8,$B$4,$B$5,$B$7,$B$9)","v":4106.1390244694712},8167.8263625,0.82400000000000007,1.5775648156070845,{"$f":"rp_calc(Calculus!E23,Data!$B$4,Data!$B$8,G23,Data!$B$9)","v":1.6966390264341829},{"$f":"Data!$B$5*H23","v":58.737643095151405},3.115083921541443,{"$f":"Qactual(Data!$B$4,Data!$B$5,Data!$B$7,Data!$B$8,Calculus!K8,$B$4,$B$5,$B$7,$B$9)","v":3649.901355083975},6453.5911999999998,0.82400000000000007,1.5775648156070845,{"$f":"rp_calc(Calculus!L23,Data!$B$4,Data!$B$8,N23,Data!$B$9)","v":1.5309138501779667},{"$f":"Data!$B$5*O23","v":53.000237493161201},2.1878230011374749,{"$f":"Qactual(Data!$B$4,Data!$B$5,Data!$B$7,Data!$B$8,Calculus!R8,$B$4,$B$5,$B$7,$B$9)","v":3193.6636856984778},4941.0307624999996,0.82400000000000007,1.5775648156070845,{"$f":"rp_calc(Calculus!S23,Data!$B$4,Data!$B$8,U23,Data!$B$9)","v":1.3935367766705316},{"$f":"Data!$B$5*V23","v":48.244243208333799},1.4656704870901436,{"$f":"Qactual(Data!$B$4,Data!$B$5,Data!$B$7,Data!$B$8,Calculus!Y8,$B$4,$B$5,$B$7,$B$9)","v":2737.4260163129811},3630.1450500000001,0.82400000000000007,1.5775648156070845,{"$f":"rp_calc(Calculus!Z23,Data!$B$4,Data!$B$8,AB23,Data!$B$9)","v":1.2810220741925191},{"$f":"Data!$B$5*AC23","v":44.348984208545012},0.92298782860487205,{"$f":"Qactual(Data!$B$4,Data!$B$5,Data!$B$7,Data!$B$8,Calculus!AF8,$B$4,$B$5,$B$7,$B$9)","v":2281.1883469274844},2520.9340625,0.82400000000000007,1.5775648156070845,{"$f":"rp_calc(Calculus!AG23,Data!$B$4,Data!$B$8,AI23,Data!$B$9)","v":1.1904589214029977},{"$f":"Data!$B$5*AJ23","v":41.213687858971774},0.53413647488707883]
[null,null,null,{"$f":"Qactual(Data!$B$4,Data!$B$5,Data!$B$7,Data!$B$8,Calculus!D9,$B$4,$B$5,$B$7,$B$9)","v":4467.0447436139902},7699.4269031250005,0.84,1.5603985056039851,{"$f":"rp_calc(Calculus!E24,Data!$B$4,Data!$B$8,G24,Data!$B$9)","v":1.651645111226367},{"$f":"Data!$B$5*H24","v":57.179953750656821},3.1336914559324467,{"$f":"Qactual(Data!$B$4,Data!$B$5,Data!$B$7,Data!$B$8,Calculus!K9,$B$4,$B$5,$B$7,$B$9)","v":3970.7064387679902},6083.4978000000001,0.84,1.5603985056039851,{"$f":"rp_calc(Calculus!L24,Data!$B$4,Data!$B$8,N24,Data!$B$9)","v":1.4973519025497286},{"$f":"Data!$B$5*O24","v":51.838322866271604},2.2008916672666832,{"$f":"Qactual(Data!$B$4,Data!$B$5,Data!$B$7,Data!$B$8,Calculus!R9,$B$4,$B$5,$B$7,$B$9)","v":3474.368133921992},4657.678003125,0.84,1.5603985056039851,{"$f":"rp_calc(Calculus!S24,Data!$B$4,Data!$B$8,U24,Data!$B$9)","v":1.3691599726235972},{"$f":"Data!$B$5*V24","v":47.400318252228935},1.4744254724071728,{"$f":"Qactual(Data!$B$4,Data!$B$5,Data!$B$7,Data!$B$8,Calculus!Y9,$B$4,$B$5,$B$7,$B$9)","v":2978.0298290759933},3421.9675124999999,0.84,1.5603985056039851,{"$f":"rp_calc(Calculus!Z24,Data!$B$4,Data!$B$8,AB24,Data!$B$9)","v":1.2639385287871565},{"$f":"Data!$B$5*AC24","v":43.757551866611358},0.92850117212813199,{"$f":"Qactual(Data!$B$4,Data!$B$5,Data!$B$7,Data!$B$8,Calculus!AF9,$B$4,$B$5,$B$7,$B$9)","v":2481.6915242299947},2376.3663281250001,0.84,1.5603985056039851,{"$f":"rp_calc(Calculus!AG24,Data!$B$4,Data!$B$8,AI24,Data!$B$9)","v":1.1790735098833036},{"$f":"Data!$B$5*AJ24","v":40.81952491215997},0.53732706720378021]
[null,null,null,{"$f":"Qactual(Data!$B$4,Data!$B$5,Data!$B$7,Data!$B$8,Calculus!D10,$B$4,$B$5,$B$7,$B$9)","v":4805.4920334415001},7061.4430593749994,0.84399999999999997,1.5562651942807697,{"$f":"rp_calc(Calculus!E25,Data!$B$4,Data!$B$8,G25,Data!$B$9)","v":1.5898445191419941},{"$f":"Data!$B$5*H25","v":55.040417252695832},3.0771289294452013,{"$f":"Qactual(Data!$B$4,Data!$B$5,Data!$B$7,Data!$B$8,Calculus!K10,$B$4,$B$5,$B$7,$B$9)","v":4271.5484741702203},5579.4117999999999,0.84399999999999997,1.5562651942807697,{"$f":"rp_calc(Calculus!L25,Data!$B$4,Data!$B$8,N25,Data!$B$9)","v":1.4513535791946552},{"$f":"Data!$B$5*O25","v":50.245860911718964},2.1611659970863406,{"$f":"Qactual(Data!$B$4,Data!$B$5,Data!$B$7,Data!$B$8,Calculus!R10,$B$4,$B$5,$B$7,$B$9)","v":3737.6049148989432},4271.7371593749995,0.84399999999999997,1.5562651942807697,{"$f":"rp_calc(Calculus!S25,Data!$B$4,Data!$B$8,U25,Data!$B$9)","v":1.3358091488844899},{"$f":"Data!$B$5*V25","v":46.245712734381037},1.4478123769543259,{"$f":"Qactual(Data!$B$4,Data!$B$5,Data!$B$7,Data!$B$8,Calculus!Y10,$B$4,$B$5,$B$7,$B$9)","v":3203.6613556276661},3138.4191375,0.84399999999999997,1.5562651942807697,{"$f":"rp_calc(Calculus!Z25,Data!$B$4,Data!$B$8,AB25,Data!$B$9)","v":1.2405983999901276},{"$f":"Data!$B$5*AC25","v":42.949516607658211},0.9117419050208001,{"$f":"Qactual(Data!$B$4,Data!$B$5,Data!$B$7,Data!$B$8,Calculus!AF10,$B$4,$B$5,$B$7,$B$9)","v":2669.7177963563881},2179.4577343749997,0.84399999999999997,1.5562651942807697,{"$f":"rp_calc(Calculus!AG25,Data!$B$4,Data!$B$8,AI25,Data!$B$9)","v":1.1635349821462513},{"$f":"Data!$B$5*AJ25","v":40.281581081903219},0.52762841725740739]
[null,null,null,{"$f":"Qactual(Data!$B$4,Data!$B$5,Data!$B$7,Data!$B$8,Calculus!D11,$B$4,$B$5,$B$7,$B$9)","v":5061.2430753057561},6508.7053875000001,0.84499999999999997,1.5552413757647421,{"$f":"rp_calc(Calculus!E26,Data!$B$4,Data!$B$8,G26,Data!$B$9)","v":1.5373009070501731},{"$f":"Data!$B$5*H26","v":53.22135740207699},2.9836777613942624,{"$f":"Qactual(Data!$B$4,Data!$B$5,Data!$B$7,Data!$B$8,Calculus!K11,$B$4,$B$5,$B$7,$B$9)","v":4498.8827336051181},5142.6808000000001,0.84499999999999997,1.5552413757647421,{"$f":"rp_calc(Calculus!L26,Data!$B$4,Data!$B$8,N26,Data!$B$9)","v":1.4121129100432011},{"$f":"Data!$B$5*O26","v":48.887348945695614},2.0955322549161362,{"$f":"Qactual(Data!$B$4,Data!$B$5,Data!$B$7,Data!$B$8,Calculus!R11,$B$4,$B$5,$B$7,$B$9)","v":3936.5223919044779},3937.3649875000001,0.84499999999999997,1.5552413757647421,{"$f":"rp_calc(Calculus!S26,Data!$B$4,Data!$B$8,U26,Data!$B$9)","v":1.307266483923696},{"$f":"Data!$B$5*V26","v":45.257565673438357},1.4038428973363957,{"$f":"Qactual(Data!$B$4,Data!$B$5,Data!$B$7,Data!$B$8,Calculus!Y11,$B$4,$B$5,$B$7,$B$9)","v":3374.1620502038377},2892.7579500000002,0.84499999999999997,1.5552413757647421,{"$f":"rp_calc(Calculus!Z26,Data!$B$4,Data!$B$8,AB26,Data!$B$9)","v":1.2205637697723586},{"$f":"Data!$B$5*AC26","v":42.255917709519053},0.88405267004274457,{"$f":"Qactual(Data!$B$4,Data!$B$5,Data!$B$7,Data!$B$8,Calculus!AF11,$B$4,$B$5,$B$7,$B$9)","v":2811.8017085031984},2008.8596875000001,0.84499999999999997,1.5552413757647421,{"$f":"rp_calc(Calculus!AG26,Data!$B$4,Data!$B$8,AI26,Data!$B$9)","v":1.1501615008895505},{"$f":"Data!$B$5*AJ26","v":39.818591160796238},0.51160455442288466]
[null,null,null,{"$f":"Qactual(Data!$B$4,Data!$B$5,Data!$B$7,Data!$B$8,Calculus!D12,$B$4,$B$5,$B$7,$B$9)","v":5384.7673521343477},5658.6779718749995,0.83799999999999997,1.5624882814941354,{"$f":"rp_calc(Calculus!E27,Data!$B$4,Data!$B$8,G27,Data!$B$9)","v":1.4583021222335728},{"$f":"Data!$B$5*H27","v":50.486419471726286},2.7828815535848266,{"$f":"Qactual(Data!$B$4,Data!$B$5,Data!$B$7,Data!$B$8,Calculus!K12,$B$4,$B$5,$B$7,$B$9)","v":4786.4598685638648},4471.0541999999996,0.83799999999999997,1.5624882814941354,{"$f":"rp_calc(Calculus!L27,Data!$B$4,Data!$B$8,N27,Data!$B$9)","v":1.3528712009294643},{"$f":"Data!$B$5*O27","v":46.836400976178055},1.9545066604052557,{"$f":"Qactual(Data!$B$4,Data!$B$5,Data!$B$7,Data!$B$8,Calculus!R12,$B$4,$B$5,$B$7,$B$9)","v":4188.152384993381},3423.1508718749997,0.83799999999999997,1.5624882814941354,{"$f":"rp_calc(Calculus!S27,Data!$B$4,Data!$B$8,U27,Data!$B$9)","v":1.2640078028164989},{"$f":"Data!$B$5*V27","v":43.759950133507189},1.3093667666386768,{"$f":"Qactual(Data!$B$4,Data!$B$5,Data!$B$7,Data!$B$8,Calculus!Y12,$B$4,$B$5,$B$7,$B$9)","v":3589.8449014228986},2514.9679874999997,0.83799999999999997,1.5624882814941354,{"$f":"rp_calc(Calculus!Z27,Data!$B$4,Data!$B$8,AB27,Data!$B$9)","v":1.1900910370247886},{"$f":"Data!$B$5*AC27","v":41.200951701798175},0.8245574973584674,{"$f":"Qactual(Data!$B$4,Data!$B$5,Data!$B$7,Data!$B$8,Calculus!AF12,$B$4,$B$5,$B$7,$B$9)","v":2991.5374178524157},1746.5055468749999,0.83799999999999997,1.5624882814941354,{"$f":"rp_calc(Calculus!AG27,Data!$B$4,Data!$B$8,AI27,Data!$B$9)","v":1.1297555623484512},{"$f":"Data!$B$5*AJ27","v":39.112137568503378},0.47717447763800197]
[null,null,null,{"$f":"Qactual(Data!$B$4,Data!$B$5,Data!$B$7,Data!$B$8,Calculus!D13,$B$4,$B$5,$B$7,$B$9)","v":5535.2373365704543},5276.1419296875001,0.83700000000000008,1.5635390250774865,{"$f":"rp_calc(Calculus!E28,Data!$B$4,Data!$B$8,G28,Data!$B$9)","v":1.4237524960319634},{"$f":"Data!$B$5*H28","v":49.290311412626572},2.6704476916197368,{"$f":"Qactual(Data!$B$4,Data!$B$5,Data!$B$7,Data!$B$8,Calculus!K13,$B$4,$B$5,$B$7,$B$9)","v":4920.2109658404052},4168.8035,0.83700000000000008,1.5635390250774865,{"$f":"rp_calc(Calculus!L28,Data!$B$4,Data!$B$8,N28,Data!$B$9)","v":1.3268209075626853},{"$f":"Data!$B$5*O28","v":45.934539819820166},1.8755407655820377,{"$f":"Qactual(Data!$B$4,Data!$B$5,Data!$B$7,Data!$B$8,Calculus!R13,$B$4,$B$5,$B$7,$B$9)","v":4305.1845951103533},3191.7401796875001,0.83700000000000008,1.5635390250774865,{"$f":"rp_calc(Calculus!S28,Data!$B$4,Data!$B$8,U28,Data!$B$9)","v":1.2448898407580806},{"$f":"Data!$B$5*V28","v":43.098086287044751},1.2564657863176538,{"$f":"Qactual(Data!$B$4,Data!$B$5,Data!$B$7,Data!$B$8,Calculus!Y13,$B$4,$B$5,$B$7,$B$9)","v":3690.1582243803032},2344.9519687500001,0.83700000000000008,1.5635390250774865,{"$f":"rp_calc(Calculus!Z28,Data!$B$4,Data!$B$8,AB28,Data!$B$9)","v":1.1765624451801417},{"$f":"Data!$B$5*AC28","v":40.732591852136501},0.79124376047992195,{"$f":"Qactual(Data!$B$4,Data!$B$5,Data!$B$7,Data!$B$8,Calculus!AF13,$B$4,$B$5,$B$7,$B$9)","v":3075.1318536502527},1628.4388671874999,0.83700000000000008,1.5635390250774865,{"$f":"rp_calc(Calculus!AG28,Data!$B$4,Data!$B$8,AI28,Data!$B$9)","v":1.1206600017749071},{"$f":"Data!$B$5*AJ28","v":38.797249261447284},0.457895694722177]
[null,null,null,{"$f":"Qactual(Data!$B$4,Data!$B$5,Data!$B$7,Data!$B$8,Calculus!D14,$B$4,$B$5,$B$7,$B$9)","v":5708.3965696214582},4596.5339578124995,0.82,1.5820219874973052,{"$f":"rp_calc(Calculus!E29,Data!$B$4,Data!$B$8,G29,Data!$B$9)","v":1.363273041385431},{"$f":"Data!$B$5*H29","v":47.196512692763619},2.4489931691759064,{"$f":"Qactual(Data!$B$4,Data!$B$5,Data!$B$7,Data!$B$8,Calculus!K14,$B$4,$B$5,$B$7,$B$9)","v":5074.1302841079614},3631.8292999999999,0.82,1.5820219874973052,{"$f":"rp_calc(Calculus!L29,Data!$B$4,Data!$B$8,N29,Data!$B$9)","v":1.2810946649025419},{"$f":"Data!$B$5*O29","v":44.351497298925999},1.720006176430815,{"$f":"Qactual(Data!$B$4,Data!$B$5,Data!$B$7,Data!$B$8,Calculus!R14,$B$4,$B$5,$B$7,$B$9)","v":4439.8639985944665},2780.6193078124998,0.82,1.5820219874973052,{"$f":"rp_calc(Calculus!S29,Data!$B$4,Data!$B$8,U29,Data!$B$9)","v":1.2112458262160382},{"$f":"Data!$B$5*V29","v":41.933330503599237},1.152269762726112,{"$f":"Qactual(Data!$B$4,Data!$B$5,Data!$B$7,Data!$B$8,Calculus!Y14,$B$4,$B$5,$B$7,$B$9)","v":3805.5977130809715},2042.90398125,0.82,1.5820219874973052,{"$f":"rp_calc(Calculus!Z29,Data!$B$4,Data!$B$8,AB29,Data!$B$9)","v":1.152698819171655},{"$f":"Data!$B$5*AC29","v":39.906433119722692},0.72562760568175011,{"$f":"Qactual(Data!$B$4,Data!$B$5,Data!$B$7,Data!$B$8,Calculus!AF14,$B$4,$B$5,$B$7,$B$9)","v":3171.3314275674766},1418.6833203125,0.82,1.5820219874973052,{"$f":"rp_calc(Calculus!AG29,Data!$B$4,Data!$B$8,AI29,Data!$B$9)","v":1.1045826270090502},{"$f":"Data!$B$5*AJ29","v":38.240650547053313},0.4199233829176795]